BEGIN:VCALENDAR
VERSION:2.0
PRODID:-//Fundación Naturgy - ECPv5.14.0.4//NONSGML v1.0//EN
CALSCALE:GREGORIAN
METHOD:PUBLISH
X-WR-CALNAME:Fundación Naturgy
X-ORIGINAL-URL:https://www.fundacionnaturgy.org
X-WR-CALDESC:Events for Fundación Naturgy
REFRESH-INTERVAL;VALUE=DURATION:PT1H
X-Robots-Tag:noindex
X-PUBLISHED-TTL:PT1H
BEGIN:VTIMEZONE
TZID:Europe/Madrid
BEGIN:DAYLIGHT
TZOFFSETFROM:+0100
TZOFFSETTO:+0200
TZNAME:CEST
DTSTART:20080330T010000
END:DAYLIGHT
BEGIN:STANDARD
TZOFFSETFROM:+0200
TZOFFSETTO:+0100
TZNAME:CET
DTSTART:20081026T010000
END:STANDARD
END:VTIMEZONE
BEGIN:VEVENT
DTSTART;TZID=Europe/Madrid:20080619T080000
DTEND;TZID=Europe/Madrid:20080619T170000
DTSTAMP:20260425T234442
CREATED:20080619T104818Z
LAST-MODIFIED:20151216T114948Z
UID:2490-1213862400-1213894800@www.fundacionnaturgy.org
SUMMARY:Formación de Mecánicos en Gas Natural Vehicular (GNV)
DESCRIPTION:El objetivo es permitir a jóvenes de bajos recursos ingresar en el sistema laboral a través de la creación de nuevos lugares de trabajo en Bogotá y el resto del país\, una vez acabada la formación. \nEste Programa incluye 400 horas de capacitación. \nSe prevé\, en el segundo semestre de 2008\, vincular más mecánicos en el proceso de formación para que sean certificados de acuerdo a la normativa para conversiones de GNV\, que\, se espera\, entrará en vigencia  a partir del segundo semestre de este año. \nEl Programa se ejecuta actualmente en 35 colegios públicos de la ciudad de Bogotá con un total de 21.000 niños beneficiados y 412 maestros aplicando el Programa.
URL:https://www.fundacionnaturgy.org/actividad/formacion-de-mecanicos-en-gas-natural-vehicular-gnv/
LOCATION:Recinto sin nombre\, Bogotá\, Colombia
CATEGORIES:Colombia
END:VEVENT
END:VCALENDAR