BEGIN:VCALENDAR
VERSION:2.0
PRODID:-//Fundación Naturgy - ECPv5.14.0.4//NONSGML v1.0//EN
CALSCALE:GREGORIAN
METHOD:PUBLISH
X-WR-CALNAME:Fundación Naturgy
X-ORIGINAL-URL:https://www.fundacionnaturgy.org
X-WR-CALDESC:Events for Fundación Naturgy
REFRESH-INTERVAL;VALUE=DURATION:PT1H
X-Robots-Tag:noindex
X-PUBLISHED-TTL:PT1H
BEGIN:VTIMEZONE
TZID:Europe/Madrid
BEGIN:DAYLIGHT
TZOFFSETFROM:+0100
TZOFFSETTO:+0200
TZNAME:CEST
DTSTART:20120325T010000
END:DAYLIGHT
BEGIN:STANDARD
TZOFFSETFROM:+0200
TZOFFSETTO:+0100
TZNAME:CET
DTSTART:20121028T010000
END:STANDARD
END:VTIMEZONE
BEGIN:VEVENT
DTSTART;TZID=Europe/Madrid:20120812T080000
DTEND;TZID=Europe/Madrid:20120812T170000
DTSTAMP:20260425T220325
CREATED:20120812T102639Z
LAST-MODIFIED:20160119T120041Z
UID:2464-1344758400-1344790800@www.fundacionnaturgy.org
SUMMARY:Centro de Formación Espacio Crianza Esperanza
DESCRIPTION:Durante el año 2008\, existe una previsión de asistencia a los cursos de (adecuación de ambientes\, fontanería\, albañilería/pintura y de capacitación básica para el trabajo) de 168 alumnos\, y la realización de 12 clases. \nEn el período correspondiente al período enero-diciembre de 2008 se realizaron: \n4 clases con  356 horas de formación y 62 alumnos formados. Asimismo\, en este momento\, se están realizando 2 clases con 324 horas de formación y 22 alumnos formados. \nLos resultados correspondientes al período Enero-Mayo de 2008. \n\n581 asesoramientos\, tanto en forma personalizada como telefónica o vía e- mail.\n10 seminarios organizados con una asistencia total de 915 personas.\n27 empresas\, participantes de este Programa\, han iniciado a exportar.\nSe han realizado 132.612 visitas a la web del Programa.\nSe realizaron 61 contactos de negocios generados entre empresas que publican su oferta en la web del Programa.
URL:https://www.fundacionnaturgy.org/actividad/centro-de-formacion-espacio-crianza-esperanza/
LOCATION:Recinto sin nombre\, Rio de Janeiro \, Brasil
CATEGORIES:Brasil
ATTACH;FMTTYPE=image/gif:https://www.fundacionnaturgy.org/wp-content/uploads/2012/08/4.gif
END:VEVENT
END:VCALENDAR