BEGIN:VCALENDAR
VERSION:2.0
PRODID:-//Fundación Naturgy - ECPv5.14.0.4//NONSGML v1.0//EN
CALSCALE:GREGORIAN
METHOD:PUBLISH
X-WR-CALNAME:Fundación Naturgy
X-ORIGINAL-URL:https://www.fundacionnaturgy.org
X-WR-CALDESC:Events for Fundación Naturgy
REFRESH-INTERVAL;VALUE=DURATION:PT1H
X-Robots-Tag:noindex
X-PUBLISHED-TTL:PT1H
BEGIN:VTIMEZONE
TZID:Europe/Madrid
BEGIN:DAYLIGHT
TZOFFSETFROM:+0100
TZOFFSETTO:+0200
TZNAME:CEST
DTSTART:20150329T010000
END:DAYLIGHT
BEGIN:STANDARD
TZOFFSETFROM:+0200
TZOFFSETTO:+0100
TZNAME:CET
DTSTART:20151025T010000
END:STANDARD
END:VTIMEZONE
BEGIN:VEVENT
DTSTART;TZID=Europe/Madrid:20150421T080000
DTEND;TZID=Europe/Madrid:20150421T170000
DTSTAMP:20260424T032933
CREATED:20150421T145343Z
LAST-MODIFIED:20160302T103848Z
UID:2570-1429603200-1429635600@www.fundacionnaturgy.org
SUMMARY:Energía y agua.
DESCRIPTION:En la primera parte de la jornada\, de tipo más conceptual\, se presenta la interrelación cada vez más estrecha entre energía y agua y se informará sobre su trascendencia en la Región de Murcia. En la segunda parte se exponen los puntos de vista de los tres principales usuarios del agua: la agricultura de regadío\, el abastecimiento urbano y la industria. Finalmente\, la tercera parte del seminario propone una visión integral de la eficiencia energética en todo el ciclo integral del agua. \nClipping de Prensa
URL:https://www.fundacionnaturgy.org/actividad/energia-y-agua/
LOCATION:Hotel Nelva\, Avda. 1º de Mayo\, 9\, Murcia \, 30006\, España
ATTACH;FMTTYPE=image/jpeg:https://www.fundacionnaturgy.org/wp-content/uploads/2015/12/4-IMG_2069.jpg
END:VEVENT
END:VCALENDAR