BEGIN:VCALENDAR
VERSION:2.0
PRODID:-//Fundación Naturgy - ECPv5.14.0.4//NONSGML v1.0//EN
CALSCALE:GREGORIAN
METHOD:PUBLISH
X-WR-CALNAME:Fundación Naturgy
X-ORIGINAL-URL:https://www.fundacionnaturgy.org
X-WR-CALDESC:Events for Fundación Naturgy
REFRESH-INTERVAL;VALUE=DURATION:PT1H
X-Robots-Tag:noindex
X-PUBLISHED-TTL:PT1H
BEGIN:VTIMEZONE
TZID:Europe/Madrid
BEGIN:DAYLIGHT
TZOFFSETFROM:+0100
TZOFFSETTO:+0200
TZNAME:CEST
DTSTART:20150329T010000
END:DAYLIGHT
BEGIN:STANDARD
TZOFFSETFROM:+0200
TZOFFSETTO:+0100
TZNAME:CET
DTSTART:20151025T010000
END:STANDARD
END:VTIMEZONE
BEGIN:VEVENT
DTSTART;VALUE=DATE:20151029
DTEND;VALUE=DATE:20151030
DTSTAMP:20260424T231811
CREATED:20151029T165956Z
LAST-MODIFIED:20160301T113649Z
UID:2316-1446076800-1446163199@www.fundacionnaturgy.org
SUMMARY:El biogás: Retos y oportunidades
DESCRIPTION:El biogás es un combustible obtenido a través de procesos de degradación de la materia orgánica de origen animal y vegetal en condiciones anaerobias. Este proceso de conversión de un residuo en un recurso energético ha empezado a desarrollarse en algunos países de Europa y hoy empieza su implantación en España. En la primera parte del seminario se describen los procesos de concentración y purificación «upgrading» del biogás\, la gasificación termoquímica de la biomasa y la obtención del biometano a partir del gas de síntesis. La segunda parte de la jornada se concentra en la práctica del aprovechamiento y tratamiento del biogás de vertedero y de plantas depuradoras de aguas residuales en la Comunidad de Madrid. También se profundiza en las técnicas de medición y de control de los parámetros exigidos a esta nueva fuente. \nPrograma\n8:30 h Recepción de participantes y entrega de documentación \n9:00 h Sesión inaugural\nD. Martí Solà\nDirector general\,\nFundación Gas Natural Fenosa.\nExcmo. Sr. D. Jaime González Taboada\nConsejero de Medio Ambiente\, Administración Local y Ordenación del Territorio\,\nComunidad de Madrid. \n9:15 h El biogás y su inyección a la red: panorama global\nDña. Piedad Martínez Gonzalo\nGas Natural Fenosa Engineering. \n9:45 h Línea 1. El “upgrading” o concentración y purificación del biogás de vertedero\, ganadero o de EDAR en gas metano. Casos prácticos\nD. Miquel Torrente\nGrupo Hera. \n10:15 h Línea 2. La gasificación termo-química de la biomasa. El biometano a partir del gas de síntesis: situación y perspectivas\nD. Javier Gil Barnó\nDepartamento de Biomasa\,\nCentro Nacional de Energías Renovables (CENER). \n10:45 h Coloquio \n11:15 h Pausa café \n11:45 h El biogás en la práctica (1): el aprovechamiento del gas de vertedero y de plantas depuradoras de aguas residuales en Madrid\nD. José Luis Cifuentes\nJefe de Departamento de Promoción e Información\,\nDirección General del Parque T. de Valdemingómez\,\nÁrea de Gobierno de Medio Ambiente y Movilidad.\nD. Miguel Ángel Gálvez\nSubdirector de Depuración y Medio Ambiente\,\nCanal de Isabel II Gestión S.A. \n12:45 h El biogás en la práctica (2): las técnicas de medición y de control de los parámetros exigidos\nD. Joan R. Gibert Sabaté\nPresidente\,\nIngeniería Analítica. \n13:15 h Coloquio \n13:45 h Fin del seminario
URL:https://www.fundacionnaturgy.org/actividad/el-biogas-retos-y-oportunidades-2/
LOCATION:Sede de Gas Natural Fenosa Salón de actos\, Avenida de San Luis\, 77 \, Madrid\, 28033
ATTACH;FMTTYPE=image/jpeg:https://www.fundacionnaturgy.org/wp-content/uploads/2015/12/0LE_7807bio5-scaled.jpg
END:VEVENT
END:VCALENDAR