BEGIN:VCALENDAR
VERSION:2.0
PRODID:-//Fundación Naturgy - ECPv5.14.0.4//NONSGML v1.0//EN
CALSCALE:GREGORIAN
METHOD:PUBLISH
X-WR-CALNAME:Fundación Naturgy
X-ORIGINAL-URL:https://www.fundacionnaturgy.org
X-WR-CALDESC:Events for Fundación Naturgy
REFRESH-INTERVAL;VALUE=DURATION:PT1H
X-Robots-Tag:noindex
X-PUBLISHED-TTL:PT1H
BEGIN:VTIMEZONE
TZID:Europe/Madrid
BEGIN:DAYLIGHT
TZOFFSETFROM:+0100
TZOFFSETTO:+0200
TZNAME:CEST
DTSTART:20150329T010000
END:DAYLIGHT
BEGIN:STANDARD
TZOFFSETFROM:+0200
TZOFFSETTO:+0100
TZNAME:CET
DTSTART:20151025T010000
END:STANDARD
END:VTIMEZONE
BEGIN:VEVENT
DTSTART;TZID=Europe/Madrid:20151123T080000
DTEND;TZID=Europe/Madrid:20151123T170000
DTSTAMP:20260424T205335
CREATED:20151215T104312Z
LAST-MODIFIED:20161011T093549Z
UID:1952-1448265600-1448298000@www.fundacionnaturgy.org
SUMMARY:Taller práctico: Elaboración de mi Plan de Exportación. Barcelona
DESCRIPTION:Esta aproximación\, no pretende transmitir conocimientos teóricos o académicos sino que cada participante analizará los puntos clave de su plan de exportación. El ponente\, Emilio Segura es el director ejecutivo del Programa Primera Exportación de la Fundación Gas Natural Fenosa\, Licenciado en Letras y Master in Business Administation por ESADE. Con 25 años de carrera en exportación en PYMES\, asesora a las empresas del Programa.
URL:https://www.fundacionnaturgy.org/actividad/elaboracion-de-mi-plan-de-exportacion-barcelona/
ATTACH;FMTTYPE=image/jpeg:https://www.fundacionnaturgy.org/wp-content/uploads/2015/12/1.jpg
END:VEVENT
END:VCALENDAR