BEGIN:VCALENDAR
VERSION:2.0
PRODID:-//Fundación Naturgy - ECPv5.14.0.4//NONSGML v1.0//EN
CALSCALE:GREGORIAN
METHOD:PUBLISH
X-WR-CALNAME:Fundación Naturgy
X-ORIGINAL-URL:https://www.fundacionnaturgy.org
X-WR-CALDESC:Events for Fundación Naturgy
REFRESH-INTERVAL;VALUE=DURATION:PT1H
X-Robots-Tag:noindex
X-PUBLISHED-TTL:PT1H
BEGIN:VTIMEZONE
TZID:Europe/Madrid
BEGIN:DAYLIGHT
TZOFFSETFROM:+0100
TZOFFSETTO:+0200
TZNAME:CEST
DTSTART:20160327T010000
END:DAYLIGHT
BEGIN:STANDARD
TZOFFSETFROM:+0200
TZOFFSETTO:+0100
TZNAME:CET
DTSTART:20161030T010000
END:STANDARD
END:VTIMEZONE
BEGIN:VEVENT
DTSTART;VALUE=DATE:20160101
DTEND;VALUE=DATE:20160205
DTSTAMP:20260424T223215
CREATED:20151223T105638Z
LAST-MODIFIED:20160518T184002Z
UID:2908-1451606400-1454630399@www.fundacionnaturgy.org
SUMMARY:El almacenamiento de la electricidad. Sevilla
DESCRIPTION:En el seminario se presentará el libro El almacenamiento de la electricidad  y se informará en detalle del almacenamiento a partir de los embalses hidráulicos reversibles\, así como de las tecnologías asociadas a las baterías\, a las pilas de combustibles a hidrógeno\, al uso del gas natural como almacén y a las sales fundidas.
URL:https://www.fundacionnaturgy.org/actividad/el-almacenamiento-de-la-electricidad/
LOCATION:Hotel Meliá Lebreros\, C/ Luis de Morales\, 2 \, Sevilla\, España
ATTACH;FMTTYPE=image/jpeg:https://www.fundacionnaturgy.org/wp-content/uploads/2015/12/generica-destacada.jpg
END:VEVENT
BEGIN:VEVENT
DTSTART;TZID=Europe/Madrid:20160101T083000
DTEND;TZID=Europe/Madrid:20160213T140000
DTSTAMP:20260424T223216
CREATED:20160202T123831Z
LAST-MODIFIED:20160513T083138Z
UID:3649-1451637000-1455372000@www.fundacionnaturgy.org
SUMMARY:Ciudades inteligentes: aspectos energéticos y ambientales. Madrid
DESCRIPTION:Las ciudades inteligentes smart cities son capaces de utilizar a fondo las nuevas tecnologías de la información y de control automático para mejorar los servicios urbanos y la vida de sus habitantes.  En este sentido\, en el seminario se realiza un inventario y un balance de los principales avances que se han producido en los edificios públicos\, la movilidad urbana\, la gestión de los residuos\, la gestión del ciclo integral del agua y la generación eléctrica descentralizada o distribuida.
URL:https://www.fundacionnaturgy.org/actividad/ciudades-inteligentes-aspectos-energeticos-y-ambientales-madrid/
LOCATION:Sede de Gas Natural Fenosa\, Avenida de San Luis\, 77\, Madrid\, 28033\, España
ATTACH;FMTTYPE=image/jpeg:https://www.fundacionnaturgy.org/wp-content/uploads/2015/12/generica-destacada.jpg
END:VEVENT
END:VCALENDAR