BEGIN:VCALENDAR
VERSION:2.0
PRODID:-//Fundación Naturgy - ECPv5.14.0.4//NONSGML v1.0//EN
CALSCALE:GREGORIAN
METHOD:PUBLISH
X-WR-CALNAME:Fundación Naturgy
X-ORIGINAL-URL:https://www.fundacionnaturgy.org
X-WR-CALDESC:Events for Fundación Naturgy
REFRESH-INTERVAL;VALUE=DURATION:PT1H
X-Robots-Tag:noindex
X-PUBLISHED-TTL:PT1H
BEGIN:VTIMEZONE
TZID:Europe/Madrid
BEGIN:DAYLIGHT
TZOFFSETFROM:+0100
TZOFFSETTO:+0200
TZNAME:CEST
DTSTART:20160327T010000
END:DAYLIGHT
BEGIN:STANDARD
TZOFFSETFROM:+0200
TZOFFSETTO:+0100
TZNAME:CET
DTSTART:20161030T010000
END:STANDARD
END:VTIMEZONE
BEGIN:VEVENT
DTSTART;TZID=Europe/Madrid:20160403T080000
DTEND;TZID=Europe/Madrid:20160424T170000
DTSTAMP:20260426T042754
CREATED:20160322T153334Z
LAST-MODIFIED:20160322T173954Z
UID:7048-1459670400-1461517200@www.fundacionnaturgy.org
SUMMARY:Vermuts del Embassa’t en el Museo del Gas
DESCRIPTION:En cada sesión disfrutaremos de un concierto en pequeño formato: una ventana a grupos emergentes con unas sugerencias encantadoras para acompañar el vermut. \n– Anna Moliner + Kinsale: Domingo  3 de abril\, a las 12h \n– Ana&Alicia + M.Arnal-M.Bagés: Domingo 10 de abril\, a las 12h \n– Crap Apples  + Les Sueques: Domingo 17 de abril\, a las 12h \n– Marion Harper + Carla Serrat: Domingo 24 de abril\, a las 12h \n  \nFestival Embassa’t \n09\, 10\, 11\, 12 de junio \nVenta de entradas en www.embassat.com y en el Museo del Gas 1 h antes del inicio de las sesiones. Aforo limitado. Actividad coorganizada con SBD Sona Jove. \nPrecio: 5€\, con consumición incluida. Acceso gratuito con el abono del Embassa’t 2016. \nMás información al 934 129 640 o  museugasfgnf@gasnaturalfenosa.com. \n 
URL:https://www.fundacionnaturgy.org/actividad/vermuts-del-embassat-museo-del-gas/
LOCATION:Mirador del Museo del Gas\, Plaza del Gas\, 8 \, Sabadell\, 08201
ATTACH;FMTTYPE=image/jpeg:https://www.fundacionnaturgy.org/wp-content/uploads/2016/03/vermuts-embassat.jpg
END:VEVENT
BEGIN:VEVENT
DTSTART;TZID=Europe/Madrid:20160413T080000
DTEND;TZID=Europe/Madrid:20160516T170000
DTSTAMP:20260426T042754
CREATED:20160411T080550Z
LAST-MODIFIED:20160517T153134Z
UID:7912-1460534400-1463418000@www.fundacionnaturgy.org
SUMMARY:Curso Internacional “BECA Primera Exportación PYMES 2016”
DESCRIPTION:Con el fin de dar soporte a las PYMES españolas en su lucha por la competitividad y la internacionalización\, la Fundación convoca 15 becas de formación en exportación dirigidas a empresarios PYME\, a profesionales independientes y autónomos españoles\, de cualquier sector\, a realizar en la sede del Barcelona School of Management de la Universidad Pompeu Fabra de Barcelona del 6 al 10 de junio de 2016. \n\nBases y Convocatoria BECA 2016\nFormulario de solicitud de beca
URL:https://www.fundacionnaturgy.org/actividad/beca-primera-exportacion-pymes-2016/
ATTACH;FMTTYPE=image/jpeg:https://www.fundacionnaturgy.org/wp-content/uploads/2016/04/FOTO-PARA-ACTIVIDAD-DE-LAS-BECAS-2016-e1460026168983.jpg
END:VEVENT
BEGIN:VEVENT
DTSTART;TZID=Europe/Madrid:20160424T113000
DTEND;TZID=Europe/Madrid:20160424T130000
DTSTAMP:20260426T042754
CREATED:20160322T112415Z
LAST-MODIFIED:20160322T112415Z
UID:6959-1461497400-1461502800@www.fundacionnaturgy.org
SUMMARY:Construimos un reloj solar
DESCRIPTION:La actividad está incluida dentro del ciclo de actividades De domingo en el Museo del Gas. \nActividad recomendada para niños de 5 a 14 años. \nAforo limitado. La inscripción se abrirá 15 días antes de la fecha de realización. \nNo se permitirá el acceso a la actividad pasados 5 minutos de su inicio. \nPrecio: 2 €. Gratuito para los miembros del Club CH4. \nMás información al 934 129 640 o  museugasfgnf@gasnaturalfenosa.com.
URL:https://www.fundacionnaturgy.org/actividad/construimos-reloj-solar/
LOCATION:Museo del Gas de la Fundación Gas Natural Fenosa\, Plaza del Gas\, 8 \, Sabadell\, 08201
ATTACH;FMTTYPE=image/gif:https://www.fundacionnaturgy.org/wp-content/uploads/2016/03/hora-sol-01.gif
END:VEVENT
END:VCALENDAR