BEGIN:VCALENDAR
VERSION:2.0
PRODID:-//Fundación Naturgy - ECPv5.14.0.4//NONSGML v1.0//EN
CALSCALE:GREGORIAN
METHOD:PUBLISH
X-WR-CALNAME:Fundación Naturgy
X-ORIGINAL-URL:https://www.fundacionnaturgy.org
X-WR-CALDESC:Events for Fundación Naturgy
REFRESH-INTERVAL;VALUE=DURATION:PT1H
X-Robots-Tag:noindex
X-PUBLISHED-TTL:PT1H
BEGIN:VTIMEZONE
TZID:Europe/Madrid
BEGIN:DAYLIGHT
TZOFFSETFROM:+0100
TZOFFSETTO:+0200
TZNAME:CEST
DTSTART:20160327T010000
END:DAYLIGHT
BEGIN:STANDARD
TZOFFSETFROM:+0200
TZOFFSETTO:+0100
TZNAME:CET
DTSTART:20161030T010000
END:STANDARD
END:VTIMEZONE
BEGIN:VEVENT
DTSTART;TZID=Europe/Madrid:20160518T080000
DTEND;TZID=Europe/Madrid:20160522T170000
DTSTAMP:20260426T043528
CREATED:20160406T083056Z
LAST-MODIFIED:20160512T093355Z
UID:7704-1463558400-1463936400@www.fundacionnaturgy.org
SUMMARY:Día y Noche Internacional de los Museos
DESCRIPTION:Del 18 al 22 de mayo\, los museos de Sabadell conmemoran el Día Internacional de los Museos\, una iniciativa que tiene como objetivo acercar las instituciones museísticas al público de la ciudad. Los Museos Municipales de Sabadell de Arte y de Historia\, el Espai Cultura Fundació Sabadell 1859\, el Museu del Institut Català de Paleontologia Miquel Crusafont y el Museo del Gas de la Fundación Gas Natural Fenosa\, ofrecerán jornadas de puertas abiertas y actividades para el público familiar durante estos cinco días. El público también podrá visitar la Joya del Museo\, una pieza singular de la colección expuesta con motivo de la efeméride\, y realizar una gincana. \nEl día 21 de mayo se celebra la Noche de los Museos\, una iniciativa orientada al público adulto y joven que propone una serie de espectáculos distribuidos por los diversos espacios museísticos de Sabadell. \nActividad gratuita abierta a todos los públicos. \nProgramación en el Museo del Gas de la Fundación Gas Natural Fenosa: \nJornadas de puertas abiertas los días 18\, 19\, 20\, 21 y 22 de mayo. \nHorario especial:\n18\, 19\, 20 y 22 de mayo: de 10 a 20 h.\nSábado 21 de mayo: de 10 a 00 h. \nLa Joya del Museo del Gas de la Fundación Gas Natural Fenosa\nLa luz de gas en Barcelona\, de Lola Anglada. \nUna joya de actividades\nImágenes en movimiento\nDomingo 22 de mayo\, a las 11.30 h.\nActividad para niños y niñas de más de 4 años.\nNo se requiere reserva previa. Aforo limitado. \nNoche de los Museos\nDanza en el Mirador\nSábado 21 de mayo\, a las 23.00 h.\nLa Compañía de danza “Contemporánea” propone un espectáculo alrededor de nuestra joya. Además\, se podrá asistir a la representación del encendido de una farola a gas. \nMás información al 934 129 640\, museugasfgnf@gasnaturalfenosa.com o haciendo click aquí.
URL:https://www.fundacionnaturgy.org/actividad/dia-noche-internacional-los-museos/
LOCATION:Museo del Gas de la Fundación Gas Natural Fenosa\, Plaza del Gas\, 8 \, Sabadell\, 08201
ATTACH;FMTTYPE=image/jpeg:https://www.fundacionnaturgy.org/wp-content/uploads/2016/04/DIM_NIM.jpg
END:VEVENT
END:VCALENDAR