BEGIN:VCALENDAR
VERSION:2.0
PRODID:-//Fundación Naturgy - ECPv5.14.0.4//NONSGML v1.0//EN
CALSCALE:GREGORIAN
METHOD:PUBLISH
X-WR-CALNAME:Fundación Naturgy
X-ORIGINAL-URL:https://www.fundacionnaturgy.org
X-WR-CALDESC:Events for Fundación Naturgy
REFRESH-INTERVAL;VALUE=DURATION:PT1H
X-Robots-Tag:noindex
X-PUBLISHED-TTL:PT1H
BEGIN:VTIMEZONE
TZID:Europe/Madrid
BEGIN:DAYLIGHT
TZOFFSETFROM:+0100
TZOFFSETTO:+0200
TZNAME:CEST
DTSTART:20160327T010000
END:DAYLIGHT
BEGIN:STANDARD
TZOFFSETFROM:+0200
TZOFFSETTO:+0100
TZNAME:CET
DTSTART:20161030T010000
END:STANDARD
END:VTIMEZONE
BEGIN:VEVENT
DTSTART;TZID=Europe/Madrid:20160926T080000
DTEND;TZID=Europe/Madrid:20160926T170000
DTSTAMP:20260425T004512
CREATED:20160728T084439Z
LAST-MODIFIED:20170419T090857Z
UID:17970-1474876800-1474909200@www.fundacionnaturgy.org
SUMMARY:La distribución del gas natural en México: Retos y Oportunidades
DESCRIPTION:El seminario informó sobre los principales elementos de la reforma energética en curso en México y sobre el papel que se asigna al gas natural en el nuevo modelo energético del país\, contrastándolos con la realidad que supone una distribución de gas natural todavía muy limitada\, muy inferior a la de otros países de América Latina; realizó la evaluación económica y ambiental del gas natural\, comparado con otras fuentes o alternativas energéticas; planteó los planes de acción y las medidas a emprender para superar los obstáculos actuales y asegurar una rápida y continuada expansión de la distribución de gas natural en México y finalmente\, informó de los servicios de todo tipo que hoy puede brindar el gas natural al cliente final\, considerando los usos tradicionales (uso industrial o residencial) y también los nuevos usos (generación de electricidad y transporte).
URL:https://www.fundacionnaturgy.org/actividad/la-distribucion-del-gas-natural-mexico-retos-oportunidades/
LOCATION:Club de Industriales\, Calle Andrés Bello  nº29 Polanco   \, Ciudad de México\, 11550
ATTACH;FMTTYPE=image/jpeg:https://www.fundacionnaturgy.org/wp-content/uploads/2016/07/pag06-scaled.jpg
END:VEVENT
END:VCALENDAR