BEGIN:VCALENDAR
VERSION:2.0
PRODID:-//Fundación Naturgy - ECPv5.14.0.4//NONSGML v1.0//EN
CALSCALE:GREGORIAN
METHOD:PUBLISH
X-WR-CALNAME:Fundación Naturgy
X-ORIGINAL-URL:https://www.fundacionnaturgy.org
X-WR-CALDESC:Events for Fundación Naturgy
REFRESH-INTERVAL;VALUE=DURATION:PT1H
X-Robots-Tag:noindex
X-PUBLISHED-TTL:PT1H
BEGIN:VTIMEZONE
TZID:Europe/Madrid
BEGIN:DAYLIGHT
TZOFFSETFROM:+0100
TZOFFSETTO:+0200
TZNAME:CEST
DTSTART:20160327T010000
END:DAYLIGHT
BEGIN:STANDARD
TZOFFSETFROM:+0200
TZOFFSETTO:+0100
TZNAME:CET
DTSTART:20161030T010000
END:STANDARD
END:VTIMEZONE
BEGIN:VEVENT
DTSTART;TZID=Europe/Madrid:20161111T113000
DTEND;TZID=Europe/Madrid:20161120T170000
DTSTAMP:20260425T165435
CREATED:20160922T112133Z
LAST-MODIFIED:20160922T112133Z
UID:20799-1478863800-1479661200@www.fundacionnaturgy.org
SUMMARY:21a Semana de la Ciencia
DESCRIPTION:Facilitar el acceso a la cultura científica es imprescindible para ser conscientes de la importancia de la investigación y la innovación en el desarrollo de nuestra sociedad. \nPrograma de actividades \nJuguemos con la ciencia \nMartes 15 de noviembre\, a las 17.30 h \nAprenderás qué son los gases a través de pequeños experimentos para disfrutar en familia. \n¡El museo está lleno de ciencia! \nMiércoles 16 de noviembre\, a las 19 h \nDescubrirás la evolución de la energía a través de una visita guiada a las exposiciones. \nBig Van. Científicos sobre ruedas \nViernes 18 de noviembre\, a las 20 h \nDisfrutarás de la ciencia a través de los monólogos humorísticos de este grupo de investigadores. \nLa fiesta de la ciencia\, con Dani Jiménez \nDomingo 20 de noviembre\, a las 11.30 h \nClausuraremos la Semana de la Ciencia con una gran fiesta para sentir la magia de la energía. \nActividad para el público general. \nActividades libres\, sin reserva previa. \nPrecio: gratuito. \nMás información al 934 129 640 o museugasfgnf@gasnaturalfenosa.com.
URL:https://www.fundacionnaturgy.org/actividad/21a-semana-la-ciencia/
LOCATION:Museo del Gas de la Fundación Gas Natural Fenosa\, Plaza del Gas\, 8 \, Sabadell\, 08201
ATTACH;FMTTYPE=image/jpeg:https://www.fundacionnaturgy.org/wp-content/uploads/2016/09/Sin-título-700-500.jpg
END:VEVENT
BEGIN:VEVENT
DTSTART;TZID=Europe/Madrid:20161115T090000
DTEND;TZID=Europe/Madrid:20161115T230000
DTSTAMP:20260425T165435
CREATED:20161026T124147Z
LAST-MODIFIED:20161125T095850Z
UID:22156-1479200400-1479250800@www.fundacionnaturgy.org
SUMMARY:Marketing digital para pymes. Cómo usar internet para crecer\, fortalecerse y exportar. Logroño
DESCRIPTION:Ya no es posible\, para ninguna empresa\, estar al margen del mundo online. Incluso aquellas con productos o servicios más tradicionales\nnecesitan conocer las reglas básicas del marketing digital para aprovechar su fuerza en el mercado propio o en los de exportación.\nEl seminario quiere ofrecer las técnicas digitales que cualquier pyme debe dominar. Estas claves se vehiculan a través de: la gestión\nde las redes sociales\, la visibilidad\, la experiencia de navegación en la web\, las tiendas online\, etc. \nHorario: 9-13h \n#FGNFexportación \n 
URL:https://www.fundacionnaturgy.org/actividad/%ef%bb%bfmarketing-digital-pymes-usar-internet-crecer-fortalecerse-exportar/
LOCATION:Centro Tecnológico de La Rioja\, Av. Zaragoza\, 21\, Logroño\, 26071\, España
ATTACH;FMTTYPE=image/jpeg:https://www.fundacionnaturgy.org/wp-content/uploads/2016/10/marquetingdigital.jpg
END:VEVENT
END:VCALENDAR