BEGIN:VCALENDAR
VERSION:2.0
PRODID:-//Fundación Naturgy - ECPv5.14.0.4//NONSGML v1.0//EN
CALSCALE:GREGORIAN
METHOD:PUBLISH
X-WR-CALNAME:Fundación Naturgy
X-ORIGINAL-URL:https://www.fundacionnaturgy.org
X-WR-CALDESC:Events for Fundación Naturgy
REFRESH-INTERVAL;VALUE=DURATION:PT1H
X-Robots-Tag:noindex
X-PUBLISHED-TTL:PT1H
BEGIN:VTIMEZONE
TZID:Europe/Madrid
BEGIN:DAYLIGHT
TZOFFSETFROM:+0100
TZOFFSETTO:+0200
TZNAME:CEST
DTSTART:20160327T010000
END:DAYLIGHT
BEGIN:STANDARD
TZOFFSETFROM:+0200
TZOFFSETTO:+0100
TZNAME:CET
DTSTART:20161030T010000
END:STANDARD
END:VTIMEZONE
BEGIN:VEVENT
DTSTART;TZID=Europe/Madrid:20161214T090000
DTEND;TZID=Europe/Madrid:20161214T230000
DTSTAMP:20260425T123844
CREATED:20161122T115558Z
LAST-MODIFIED:20161222T090021Z
UID:24649-1481706000-1481756400@www.fundacionnaturgy.org
SUMMARY:Marketing digital para pymes. Cómo usar internet para crecer\, fortalecerse y exportar. Valladolid
DESCRIPTION:Ya no es posible\, para ninguna empresa\, estar al margen del mundo online. Incluso aquellas con productos o servicios más tradicionales\nnecesitan conocer las reglas básicas del marketing digital para aprovechar su fuerza en el mercado propio o en los de exportación.\nEl seminario quiere ofrecer las técnicas digitales que cualquier pyme debe dominar. Estas claves se vehiculan a través de: la gestión\nde las redes sociales\, la visibilidad\, la experiencia de navegación en la web\, las tiendas online\, etc. \nHorario: 9-13h \n#FGNFexportación
URL:https://www.fundacionnaturgy.org/actividad/marketing-digital-pymes-usar-internet-crecer-fortalecerse-exportar-valladolid/
LOCATION:Agencia de Innovación\, Financiación e Internacionalización Empresarial\, C/ Jacinto Benavente\, 2\, Arroyo de la Encomienda\, 47195
ATTACH;FMTTYPE=image/jpeg:https://www.fundacionnaturgy.org/wp-content/uploads/2016/11/marquetingdigital_valladolid.jpg
END:VEVENT
END:VCALENDAR