BEGIN:VCALENDAR
VERSION:2.0
PRODID:-//Fundación Naturgy - ECPv5.14.0.4//NONSGML v1.0//EN
CALSCALE:GREGORIAN
METHOD:PUBLISH
X-WR-CALNAME:Fundación Naturgy
X-ORIGINAL-URL:https://www.fundacionnaturgy.org
X-WR-CALDESC:Events for Fundación Naturgy
REFRESH-INTERVAL;VALUE=DURATION:PT1H
X-Robots-Tag:noindex
X-PUBLISHED-TTL:PT1H
BEGIN:VTIMEZONE
TZID:Europe/Madrid
BEGIN:DAYLIGHT
TZOFFSETFROM:+0100
TZOFFSETTO:+0200
TZNAME:CEST
DTSTART:20170326T010000
END:DAYLIGHT
BEGIN:STANDARD
TZOFFSETFROM:+0200
TZOFFSETTO:+0100
TZNAME:CET
DTSTART:20171029T010000
END:STANDARD
END:VTIMEZONE
BEGIN:VEVENT
DTSTART;TZID=Europe/Madrid:20170126T090000
DTEND;TZID=Europe/Madrid:20170126T230000
DTSTAMP:20260425T123742
CREATED:20161221T121853Z
LAST-MODIFIED:20170209T150504Z
UID:25593-1485421200-1485471600@www.fundacionnaturgy.org
SUMMARY:El gas renovable: presente y futuro del biogás. Murcia
DESCRIPTION:El proceso de conversión de un residuo en un recurso energético ha empezado a desarrollarse en algunos países de Europa y también empieza su implantación en España. En este sentido\, el seminario trata diferentes procesos de obtención y de concentración del biogás\, en la primera parte\, y casos prácticos de utilización del mismo y de su inyección a la red\, en la segunda parte. \n  \nHorario: 9 – 13.15 h \n  \n#FGNFseminarios \n 
URL:https://www.fundacionnaturgy.org/actividad/el-gas-renovable-presente-y-futuro-del-biogas/
LOCATION:Hotel Nelva\, Avda. 1º de Mayo\, 9\, Murcia \, 30006\, España
ATTACH;FMTTYPE=image/jpeg:https://www.fundacionnaturgy.org/wp-content/uploads/2016/11/generica-destacada-1.jpg
END:VEVENT
END:VCALENDAR