BEGIN:VCALENDAR
VERSION:2.0
PRODID:-//Fundación Naturgy - ECPv5.14.0.4//NONSGML v1.0//EN
CALSCALE:GREGORIAN
METHOD:PUBLISH
X-WR-CALNAME:Fundación Naturgy
X-ORIGINAL-URL:https://www.fundacionnaturgy.org
X-WR-CALDESC:Events for Fundación Naturgy
REFRESH-INTERVAL;VALUE=DURATION:PT1H
X-Robots-Tag:noindex
X-PUBLISHED-TTL:PT1H
BEGIN:VTIMEZONE
TZID:Europe/Madrid
BEGIN:DAYLIGHT
TZOFFSETFROM:+0100
TZOFFSETTO:+0200
TZNAME:CEST
DTSTART:20170326T010000
END:DAYLIGHT
BEGIN:STANDARD
TZOFFSETFROM:+0200
TZOFFSETTO:+0100
TZNAME:CET
DTSTART:20171029T010000
END:STANDARD
END:VTIMEZONE
BEGIN:VEVENT
DTSTART;TZID=Europe/Madrid:20170129T113000
DTEND;TZID=Europe/Madrid:20170129T133000
DTSTAMP:20260425T172137
CREATED:20161129T113154Z
LAST-MODIFIED:20161129T113154Z
UID:24907-1485689400-1485696600@www.fundacionnaturgy.org
SUMMARY:¡El Museo del Gas ya cumplió 5 años!
DESCRIPTION:La actividad está incluida dentro del ciclo de actividades De domingo en el Museo del Gas. \nActividad recomendada para niños de 3 a 12 años. \n¡Actividad gratuita abierta a todo el mundo! \nMás información al 934 129 640 o museugasfgnf@gasnaturalfenosa.com.
URL:https://www.fundacionnaturgy.org/actividad/museo-del-gas-ya-cumplio-5-anos/
LOCATION:Plaza del Gas\, Plaza del Gas\, 8 \, Sabadell\, 08201
ATTACH;FMTTYPE=image/jpeg:https://www.fundacionnaturgy.org/wp-content/uploads/2016/11/De-diumenge_Aniversari.jpg
END:VEVENT
END:VCALENDAR