BEGIN:VCALENDAR
VERSION:2.0
PRODID:-//Fundación Naturgy - ECPv5.14.0.4//NONSGML v1.0//EN
CALSCALE:GREGORIAN
METHOD:PUBLISH
X-WR-CALNAME:Fundación Naturgy
X-ORIGINAL-URL:https://www.fundacionnaturgy.org
X-WR-CALDESC:Events for Fundación Naturgy
REFRESH-INTERVAL;VALUE=DURATION:PT1H
X-Robots-Tag:noindex
X-PUBLISHED-TTL:PT1H
BEGIN:VTIMEZONE
TZID:Europe/Madrid
BEGIN:DAYLIGHT
TZOFFSETFROM:+0100
TZOFFSETTO:+0200
TZNAME:CEST
DTSTART:20170326T010000
END:DAYLIGHT
BEGIN:STANDARD
TZOFFSETFROM:+0200
TZOFFSETTO:+0100
TZNAME:CET
DTSTART:20171029T010000
END:STANDARD
END:VTIMEZONE
BEGIN:VEVENT
DTSTART;TZID=Europe/Madrid:20170612T080000
DTEND;TZID=Europe/Madrid:20170616T170000
DTSTAMP:20260426T045106
CREATED:20170410T102658Z
LAST-MODIFIED:20170607T091813Z
UID:30646-1497254400-1497632400@www.fundacionnaturgy.org
SUMMARY:Formación en exportación "Beca Primera Exportación Pymes 2017"
DESCRIPTION:[vc_row][vc_column][vc_column_text]La Fundación Gas Natural Fenosa a través de su Programa Primera Exportación invita a empresarios pyme y a profesionales independientes españoles\, de cualquier sector\, a postular a una de las 15 becas de formación en la sede de la Barcelona School of Management de la Universidad Pompeu Fabra. Las clases se impartirán del lunes 12 al viernes 16 de junio de 2017. \n\nBases y convocatoria beca 2017\nFormulario de solicitud de beca\n\n[/vc_column_text][/vc_column][/vc_row]
URL:https://www.fundacionnaturgy.org/actividad/curso-internacional-beca-primera-exportacion-pymes-2017/
ATTACH;FMTTYPE=image/jpeg:https://www.fundacionnaturgy.org/wp-content/uploads/2016/04/FOTO-PARA-ACTIVIDAD-DE-LAS-BECAS-2016-e1460026168983.jpg
END:VEVENT
BEGIN:VEVENT
DTSTART;TZID=Europe/Madrid:20170613T083000
DTEND;TZID=Europe/Madrid:20170613T140000
DTSTAMP:20260426T045106
CREATED:20170516T090028Z
LAST-MODIFIED:20170629T120835Z
UID:32017-1497342600-1497362400@www.fundacionnaturgy.org
SUMMARY:La transición energética y el mercado eléctrico. Valladolid
DESCRIPTION:El seminario informará sobre el funcionamiento actual del mercado eléctrico y sobre los mecanismos actuales de fijación de precios. Tratará en profundidad el impacto que han tenido en el mercado energético la irrupción de las energías renovables y la implantación de políticas públicas y el papel de los “traders”. Para finalizar se analizarán los mercados eléctricos de otros países y las propuestas de mejora en el mercado eléctrico español. \nHorario: 8:30 – 14h. \n#FGNFseminarios
URL:https://www.fundacionnaturgy.org/actividad/la-transicion-energetica-mercado-electrico-valladolid/
LOCATION:Patio Herreriano de Valladolid\, C/ Jorge Guillén\, 6\, Valladolid \, 47003\, España
ATTACH;FMTTYPE=image/jpeg:https://www.fundacionnaturgy.org/wp-content/uploads/2017/05/valladolid.jpg
END:VEVENT
END:VCALENDAR