BEGIN:VCALENDAR
VERSION:2.0
PRODID:-//Fundación Naturgy - ECPv5.14.0.4//NONSGML v1.0//EN
CALSCALE:GREGORIAN
METHOD:PUBLISH
X-WR-CALNAME:Fundación Naturgy
X-ORIGINAL-URL:https://www.fundacionnaturgy.org
X-WR-CALDESC:Events for Fundación Naturgy
REFRESH-INTERVAL;VALUE=DURATION:PT1H
X-Robots-Tag:noindex
X-PUBLISHED-TTL:PT1H
BEGIN:VTIMEZONE
TZID:Europe/Madrid
BEGIN:DAYLIGHT
TZOFFSETFROM:+0100
TZOFFSETTO:+0200
TZNAME:CEST
DTSTART:20170326T010000
END:DAYLIGHT
BEGIN:STANDARD
TZOFFSETFROM:+0200
TZOFFSETTO:+0100
TZNAME:CET
DTSTART:20171029T010000
END:STANDARD
END:VTIMEZONE
BEGIN:VEVENT
DTSTART;TZID=Europe/Madrid:20170621T090000
DTEND;TZID=Europe/Madrid:20170621T134000
DTSTAMP:20260426T045108
CREATED:20170523T152215Z
LAST-MODIFIED:20170626T135031Z
UID:32433-1498035600-1498052400@www.fundacionnaturgy.org
SUMMARY:Habilidades directivas y digitales para el emprendedor pyme y la exportación. Barcelona
DESCRIPTION:En este seminario ofrecemos contenidos esenciales que ayuden a consolidar la figura del director de orquesta del universo pyme: el emprendedor. Entre las habilidades directivas y digitales que se abordarán\, destacan herramientas de acción comercial\, dirección de equipos\, liderazgo\, marketing digital y exportación. Todos ellos son los fundamentos que se quieren reforzar para impulsar las empresas más pequeñas del mapa empresarial. \nHorario: 09:00 – 13:40 h. \n#FGNFseminarios
URL:https://www.fundacionnaturgy.org/actividad/habilidades-directivas-digitales-emprendedor-pyme-la-exportacion/
LOCATION:Sede Gas Natural Fenosa\, Plaça del Gas\, 1\, Barcelona\, 08003
ATTACH;FMTTYPE=image/jpeg:https://www.fundacionnaturgy.org/wp-content/uploads/2017/05/habilitats-directives.jpg
END:VEVENT
BEGIN:VEVENT
DTSTART;TZID=Europe/Madrid:20170621T190000
DTEND;TZID=Europe/Madrid:20170621T200000
DTSTAMP:20260426T045108
CREATED:20170601T125415Z
LAST-MODIFIED:20170614T104631Z
UID:33278-1498071600-1498075200@www.fundacionnaturgy.org
SUMMARY:Presentación del libro "Energía y agua". Barcelona
DESCRIPTION:Programa del acto: \n19:00 h. D. Jaume Lanaspa\, presidente de la Oficina del Club de Roma en Barcelona.\n19:10 h. D. Martí Solà\, director general de la Fundación Gas Natural Fenosa.\n19:20 h. D. Miquel Salgot\, profesor de la Facultad de Farmacia\, Universidad de Barcelona.\n19:50 h. D. José Manuel Morán\, vicepresidente de la Oficina del Club de Roma.\n20:00 h. Fin de acto. \nSe entregará un ejemplar del libro editado por la Fundación Gas Natural Fenosa a los asistentes al acto.
URL:https://www.fundacionnaturgy.org/actividad/presentacion-del-libro-energia-agua-barcelona/
LOCATION:Palau Macaya\, Paseo Sant Joan\, 108\, Barcelona\, 08037\, España
ATTACH;FMTTYPE=image/jpeg:https://www.fundacionnaturgy.org/wp-content/uploads/2017/06/presentacio-llibre-energiaagua-3.jpg
END:VEVENT
END:VCALENDAR