BEGIN:VCALENDAR
VERSION:2.0
PRODID:-//Fundación Naturgy - ECPv5.14.0.4//NONSGML v1.0//EN
CALSCALE:GREGORIAN
METHOD:PUBLISH
X-WR-CALNAME:Fundación Naturgy
X-ORIGINAL-URL:https://www.fundacionnaturgy.org
X-WR-CALDESC:Events for Fundación Naturgy
REFRESH-INTERVAL;VALUE=DURATION:PT1H
X-Robots-Tag:noindex
X-PUBLISHED-TTL:PT1H
BEGIN:VTIMEZONE
TZID:Europe/Madrid
BEGIN:DAYLIGHT
TZOFFSETFROM:+0100
TZOFFSETTO:+0200
TZNAME:CEST
DTSTART:20190331T010000
END:DAYLIGHT
BEGIN:STANDARD
TZOFFSETFROM:+0200
TZOFFSETTO:+0100
TZNAME:CET
DTSTART:20191027T010000
END:STANDARD
BEGIN:DAYLIGHT
TZOFFSETFROM:+0100
TZOFFSETTO:+0200
TZNAME:CEST
DTSTART:20200329T010000
END:DAYLIGHT
BEGIN:STANDARD
TZOFFSETFROM:+0200
TZOFFSETTO:+0100
TZNAME:CET
DTSTART:20201025T010000
END:STANDARD
END:VTIMEZONE
BEGIN:VEVENT
DTSTART;TZID=Europe/Madrid:20190901T090000
DTEND;TZID=Europe/Madrid:20200630T170000
DTSTAMP:20260425T181720
CREATED:20190724T135511Z
LAST-MODIFIED:20200422T081307Z
UID:65664-1567328400-1593536400@www.fundacionnaturgy.org
SUMMARY:Actividad “Programa de Aprendizaje-Servicio. El gasto energético”. España
DESCRIPTION:[vc_row][vc_column width=»2/3″][vc_empty_space height=»12px»][vc_column_text]La Fundación Naturgy pone al alcance de la comunidad educativa esta propuesta didáctica sobre la gestión energética\, dirigido a alumnos de 3º y 4º de ESO. Este recurso educativo\, para desarrollar en el aula con el soporte formativo de la Fundación Naturgy\, se engloba bajo las temáticas de Medio Ambiente\, Física\, Química y Tecnología.[/vc_column_text][/vc_column][vc_column width=»1/3″][vc_column_text css=».vc_custom_1563976520657{padding-top: 25px !important;padding-right: 25px !important;padding-bottom: 25px !important;padding-left: 25px !important;background-color: #004571 !important;border-radius: 3px !important;}»] \n\nDel 1 de septiembre de 2019 al 30 de junio de 2020\nEn centros educativos de todo el territorio español \nMás información e inscripciones:\nAprendizaje-Servicio\neducacionfundacion@naturgy.com o\ntel. 93 412 96 80 \n[/vc_column_text][/vc_column][/vc_row]
URL:https://www.fundacionnaturgy.org/actividad/actividad-programa-de-aprendizaje-servicio-el-gasto-energetico-espana/
ATTACH;FMTTYPE=image/jpeg:https://www.fundacionnaturgy.org/wp-content/uploads/2018/04/aprenentatge-servei-aps-museu-2.jpg
END:VEVENT
BEGIN:VEVENT
DTSTART;TZID=Europe/Madrid:20191007T090000
DTEND;TZID=Europe/Madrid:20191213T200000
DTSTAMP:20260425T181720
CREATED:20191001T111021Z
LAST-MODIFIED:20191104T140957Z
UID:66502-1570438800-1576267200@www.fundacionnaturgy.org
SUMMARY:Exposición "La belleza de la máquina. Fotografía industrial de Ramón de Baños (1890-1980)". Barcelona
DESCRIPTION:[vc_row][vc_column width=»2/3″][vc_empty_space height=»12px»][vc_column_text]Del 7 de octubre al 13 de diciembre de 2019\, la Universitat Autònoma de Barcelona presenta La belleza de la máquina\, una muestra de la Fundación Naturgy que permite descubrir\, mediante la obra más significativa del fotógrafo Ramón de Baños (1890-1980)\, el carácter pionero de la actual Naturgy desde sus orígenes\, así como la innovación tecnológica impulsada a inicios del S.XX en el sector de la energía. Se trata de una selección inédita de imágenes de género industrial que ponen en valor la fotografía de Ramón de Baños\, conocido hasta ahora como pionero del cine en España\, mostrando la modernidad de la antigua fábrica de gas de la actual Naturgy\, la cual permitió proveer de luz la ciudad de Barcelona en 1842. El conjunto de obras fotográficas ofrecen una mirada nueva que nos permite disfrutar de la belleza de la fotografía de género industrial\, y constituyen un extraordinario testimonio gráfico de los avances tecnológicos que siempre se han ido desarrollando en el sector de la energía. \nEn 1929\, la actual Naturgy -en ese momento Catalana de Gas y Electricidad S.A.– como muchas otras empresas de la época\, hicieron encargos fotográficos con el fin de documentar su talante moderno\, sus activos y la capacidad de producción. Aunque las primeras colaboraciones de Ramón de Baños con Catalana de Gas son del año 1929\, con motivo de la Exposición Universal de Barcelona\, no es hasta más adelante que se incorpora como «fotógrafo adjunto a los Servicios Técnicos «. El encargo principal que Ramón de Baños realiza entonces para la compañía es el llamdo Álbum de 1947\, una colección de 58 fotografías de maquinaria y arquitectura industrial. \nRamón de Baños desarrolla un estilo fotográfico propio que le permite embellecer y sublimar la maquinaria y el paisaje industrial. Las fotografías eran retocadas a mano perfilando los elementos de la imagen con finísimos pinceles\, el aerógrafo\, las pinturas\, el lápiz y las herramientas de corte afilado. Este trabajo cuidado le permitía definir superficies y planos de luz\, limpiando irregularidades e imperfecciones\, y logrando el tono lírico tan personal de sus composiciones.[/vc_column_text][vc_separator][/vc_column][vc_column width=»1/3″][vc_empty_space height=»12px»][vc_column_text css=».vc_custom_1569927786757{padding-top: 10px !important;padding-right: 25px !important;padding-bottom: 25px !important;padding-left: 25px !important;background-color: #004571 !important;border-radius: 3px !important;}»] \n\n Del 7 de octubre al 13 de diciembre de 2019\nHorario: de lunes a jueves\, de 10 a 19h. Viernes\, de 10 a 17 h.\nFines de semana y festivos\, la Sala de exposiciones permanecerá cerrada.\n\n \nUniversitat Autònoma de Barcelona\nEdificio de la Biblioteca de Comunicación y Hemeroteca General – Pl. Cívica\n08193 Bellaterra\, Cerdanyola del Vallès (Barcelona) \nEntrada gratuita \n[/vc_column_text][/vc_column][/vc_row]
URL:https://www.fundacionnaturgy.org/actividad/exposicion-la-belleza-de-la-maquina-fotografia-industrial-de-ramon-de-banos-1890-1980-barcelona/
ATTACH;FMTTYPE=image/jpeg:https://www.fundacionnaturgy.org/wp-content/uploads/2019/10/exposicion-itinerante-belleza-maquina4.jpg
END:VEVENT
BEGIN:VEVENT
DTSTART;TZID=Europe/Madrid:20191008T090000
DTEND;TZID=Europe/Madrid:20191008T133000
DTSTAMP:20260425T181720
CREATED:20190910T080425Z
LAST-MODIFIED:20191010T094902Z
UID:65788-1570525200-1570541400@www.fundacionnaturgy.org
SUMMARY:Seminario "Generación eléctrica distribuida: impactos e implementación". Santiago de Compostela
DESCRIPTION:[vc_row][vc_column width=»2/3″][vc_empty_space height=»12px»][vc_column_text]Una de las grandes tendencias que se abren en el camino hacia un nuevo modelo energético es el desarrollo de la producción y de consumo de forma más descentralizada. Así hablamos de la generación eléctrica distribuida para describir el proceso de producción de energía desde múltiples puntos y lo más cerca posible del consumidor final. \nEl objetivo de este Seminario es analizar en detalle el impacto de esta descentralización en el sistema Europeo y Español y presentar experiencias de implantación a tres Niveles diferentes: residencial\, terciario y de barrio. \nPrograma\n09:00h Sesión inaugural\nMaría Eugenia Coronado\, directora general\, Fundación Naturgy.\nÁngel Bernardo Tahoces\, director Xeral de Enerxía e Minas\, Consellería de Economía\, Emprego e Industria\, Xunta de Galicia. \n09:30h  Regulación de la generación eléctrica distribuida en España. Comparación con otros países\nPablo Frías\, Instituto de Investigación Tecnológica IIT\, Universidad Pontificia Comillas \n10:00h Impacto de la generación eléctrica distribuida en las redes de distribución\nRaúl Suárez\, director de Redes de Electricidad de España\, Naturgy. \n10:30h Impacto de la generación eléctrica distribuida en los mercados eléctricos\nJuan Bogas\, director de Seguimiento del Mercado\, OMIE \n11:00h Coloquio \n11:15h Pausa Café \n11:45h Impacto y adecuación de la operación del sistema con la implantación de la generación distribuida\nTomás Domínguez\, director de Operación\, REE. \n12:15h Mesa Redonda: Casos prácticos de implantación de la generación distribuida en  España \n– Sector residencial: un caso de generación doméstica con solar fotovoltaica\nFranc Comino\, socio fundador\, Wattia Innova. \n– Sector terciario: el Centro Hospitalario de Santiago de Compostela y el edifício de Oficinas CUZCO\nJosé Antonio de Lama\, director de Servicios Energéticos\, CLECE. \n– Sector territorial: distrito energético (Near Zero Emission): Köln Hilden\, Mannheim-Franklin-Germany\nLucienne Krosse\, InnoEnergy Thematic Leader Smart Buildings & Cities. \n13:15h Coloquio \n13:30h Fin del seminario[/vc_column_text][/vc_column][vc_column width=»1/3″][vc_empty_space height=»12px»][vc_column_text css=».vc_custom_1568039450403{padding-top: 10px !important;padding-right: 25px !important;padding-bottom: 25px !important;padding-left: 25px !important;background-color: #004571 !important;border-radius: 3px !important;}»] \n\nMartes\, 8 de octubre\nHotel AC Palacio del Carmen –\nC/ Oblatas\, s/n\, Santiago de Compostela \nAforo limitado \n[/vc_column_text]Ver programa[/vc_column][/vc_row]
URL:https://www.fundacionnaturgy.org/actividad/seminario-generacion-electrica-distribuida-impactos-e-implementacion-santiago-de-compostela/
ATTACH;FMTTYPE=image/jpeg:https://www.fundacionnaturgy.org/wp-content/uploads/2019/05/generica-seminarios.jpg
END:VEVENT
END:VCALENDAR