BEGIN:VCALENDAR
VERSION:2.0
PRODID:-//Fundación Naturgy - ECPv5.14.0.4//NONSGML v1.0//EN
CALSCALE:GREGORIAN
METHOD:PUBLISH
X-WR-CALNAME:Fundación Naturgy
X-ORIGINAL-URL:https://www.fundacionnaturgy.org
X-WR-CALDESC:Events for Fundación Naturgy
REFRESH-INTERVAL;VALUE=DURATION:PT1H
X-Robots-Tag:noindex
X-PUBLISHED-TTL:PT1H
BEGIN:VTIMEZONE
TZID:Europe/Madrid
BEGIN:DAYLIGHT
TZOFFSETFROM:+0100
TZOFFSETTO:+0200
TZNAME:CEST
DTSTART:20250330T010000
END:DAYLIGHT
BEGIN:STANDARD
TZOFFSETFROM:+0200
TZOFFSETTO:+0100
TZNAME:CET
DTSTART:20251026T010000
END:STANDARD
END:VTIMEZONE
BEGIN:VEVENT
DTSTART;TZID=Europe/Madrid:20250520T150000
DTEND;TZID=Europe/Madrid:20250612T173000
DTSTAMP:20260424T040224
CREATED:20250404T130221Z
LAST-MODIFIED:20260211T122823Z
UID:92076-1747753200-1749749400@www.fundacionnaturgy.org
SUMMARY:Curso Asesor energético-pobreza energética
DESCRIPTION:[vc_row][vc_column width=»2/3″][vc_column_text] \nDirigido a personas que trabajan en el ámbito social y con interés en mejorar su conocimiento y habilidades sobre la pobreza energética\nInicio: 20 de mayo\nFin: 12 de junio\nCalendario y horario: cada martes y cada jueves de 15 a 17:30h.\nFormato: online \nContenido del curso: \n\nPobreza\, pobreza energética y consumidor vulnerable.\nFactura de luz y gas (teoría y casos prácticos).\nBono social (teoría y casos prácticos).\nHábitos de consumo en el hogar.\nElectrodomésticos eficientes.\nGestión energética y Energías Renovables.\nRehabilitación exprés.\nHerramientas online para gestión de los suministros.\nOficinas de pobreza energética y casos prácticos.\n\nLos alumnos que asistan a más del 80% de las horas obtendrán un “Certificado de aprovechamiento” expedido por Fundación Naturgy. \nSi estás interesado contáctanos en: escuelaenergia@naturgy.com[/vc_column_text][/vc_column][vc_column width=»1/3″][vc_column_text css=».vc_custom_1744271232035{padding-top: 25px !important;padding-right: 25px !important;padding-bottom: 25px !important;padding-left: 25px !important;background-color: #004571 !important;border-radius: 3px !important;}»] \n\n\n\nPlazas limitadas\nFormación de 20 horas \nMás información \n[/vc_column_text][/vc_column][/vc_row]
URL:https://www.fundacionnaturgy.org/actividad/curso-asesor-energetico-pobreza-energetica-2/
END:VEVENT
BEGIN:VEVENT
DTSTART;TZID=Europe/Madrid:20250523T100000
DTEND;TZID=Europe/Madrid:20250523T110000
DTSTAMP:20260424T040224
CREATED:20250307T091403Z
LAST-MODIFIED:20250512T111830Z
UID:91890-1747994400-1747998000@www.fundacionnaturgy.org
SUMMARY:El Mecanismo de Ajuste en Frontera por Carbono (CBAM) de la UE
DESCRIPTION:[vc_row][vc_column width=»2/3″][vc_column_text]Fundación Naturgy te invita a la presentación del documento El Mecanismo de Ajuste en Frontera por Carbono (CBAM) de la UE\, elaborado por Compass Lexecon\, en el que se repasan los principios económicos\, los impactos a esperar y las cuestiones pendientes del CBAM de la UE. A través de un repaso de la historia y los principios que han llevado hasta el mecanismo actual\, se plantean cuáles son los puntos importantes a abordar para la fase de implementación (2026-2034) en un contexto en el que la competitividad de la industria europea está considerada prioritaria. \nPrograma\n\n10:00h Apertura \n\nManuel Calvo\, director de Energía y Medio ambiente\, Fundación Naturgy\n\n10:10h Presentación del informe “El mecanismo de ajuste en frontera por carbono (CBAM) de la UE” \n\nFabien Roques\, Executive Vice President & Head of Energy Practice\, Compass Lexecon\nFlorian Bourcier\, Senior Economist EMEA Energy Team\, Compass Lexecon\n\n10:30h Preguntas y respuestas \n11:00h Cierre \n\n[/vc_column_text][/vc_column][vc_column width=»1/3″][vc_column_text css=».vc_custom_1744372232872{padding-top: 25px !important;padding-right: 25px !important;padding-bottom: 25px !important;padding-left: 25px !important;background-color: #004571 !important;border-radius: 3px !important;}»] \n\n23 de mayo de 2025\nInscripción online \n[/vc_column_text][/vc_column][/vc_row]
URL:https://www.fundacionnaturgy.org/actividad/el-mecanismo-de-ajuste-en-frontera-por-carbono-cbam-de-la-ue/
ATTACH;FMTTYPE=image/png:https://www.fundacionnaturgy.org/wp-content/uploads/2025/03/Ficha_actividad_frontera-carbono.png
END:VEVENT
END:VCALENDAR