BEGIN:VCALENDAR
VERSION:2.0
PRODID:-//Fundación Naturgy - ECPv5.14.0.4//NONSGML v1.0//EN
CALSCALE:GREGORIAN
METHOD:PUBLISH
X-WR-CALNAME:Fundación Naturgy
X-ORIGINAL-URL:https://www.fundacionnaturgy.org
X-WR-CALDESC:Events for Fundación Naturgy
REFRESH-INTERVAL;VALUE=DURATION:PT1H
X-Robots-Tag:noindex
X-PUBLISHED-TTL:PT1H
BEGIN:VTIMEZONE
TZID:Europe/Madrid
BEGIN:DAYLIGHT
TZOFFSETFROM:+0100
TZOFFSETTO:+0200
TZNAME:CEST
DTSTART:20250330T010000
END:DAYLIGHT
BEGIN:STANDARD
TZOFFSETFROM:+0200
TZOFFSETTO:+0100
TZNAME:CET
DTSTART:20251026T010000
END:STANDARD
END:VTIMEZONE
BEGIN:VEVENT
DTSTART;TZID=Europe/Madrid:20250617T110000
DTEND;TZID=Europe/Madrid:20250617T133000
DTSTAMP:20260424T072039
CREATED:20250515T112232Z
LAST-MODIFIED:20250603T092300Z
UID:89322-1750158000-1750167000@www.fundacionnaturgy.org
SUMMARY:Ceremonia de entrega de premios a la mejor iniciativa social en el ámbito energético
DESCRIPTION:[vc_row][vc_column width=»2/3″][vc_column_text]¡Ganamos todos\, premiamos más! Premiamos la energía que transforma la sociedad.  \n¿Quieres conocer a los ganadores de la VI edición del Premio a la mejor iniciativa social en el ámbito energético de Fundación Naturgy? \n¡Acompáñanos el próximo 17 de junio\, a las 11.00h\, en el evento de entrega de premios! Este año\, además del ganador y el accésit\, se otorgarán hasta 8 premios de reconocimiento a aquellas candidaturas que han quedado finalistas. \nComenzaremos con una exposición y presentación de candidaturas\, en la que se podrá conocer de primera mano las mejores iniciativas de este año. Es una gran ocasión de poder conocer a las entidades participantes\, encontrar sinergias\, compartir aprendizajes y\, por qué no\, posibles oportunidades de colaboración. ¡Esperamos contar con vosotros! \nDía: 17 de junio de 2025\nExposición y presentación de candidaturas: de 11.00 a 12.00h\nEntrega de premios: de 12.00 a 13.00h\nCóctel y continuación de networking: a partir de las 13.00h\nLugar: Avda. de América\, 38 (Madrid)\n\nEl evento estará presentado por el periodista Ángel Expósito. [/vc_column_text][/vc_column][vc_column width=»1/3″][vc_column_text css=».vc_custom_1748941907458{padding-top: 25px !important;padding-right: 25px !important;padding-bottom: 25px !important;padding-left: 25px !important;background-color: #004571 !important;border-radius: 3px !important;}»] \n\n17 de junio de 2025\, de 11.00 a 13.30 h\nAv. América\, 38 (Madrid)\n[/vc_column_text][/vc_column][/vc_row][vc_row][vc_column][vc_column_text][/vc_column_text][/vc_column][/vc_row]
URL:https://www.fundacionnaturgy.org/actividad/ceremonia-de-entrega-de-premios-a-la-mejor-iniciativa-social-en-el-ambito-energetico/
ATTACH;FMTTYPE=image/png:https://www.fundacionnaturgy.org/wp-content/uploads/2024/10/Slider_VI_premio_AS-1.png
END:VEVENT
END:VCALENDAR