BEGIN:VCALENDAR
VERSION:2.0
PRODID:-//Fundación Naturgy - ECPv5.14.0.4//NONSGML v1.0//EN
CALSCALE:GREGORIAN
METHOD:PUBLISH
X-WR-CALNAME:Fundación Naturgy
X-ORIGINAL-URL:https://www.fundacionnaturgy.org
X-WR-CALDESC:Events for Fundación Naturgy
REFRESH-INTERVAL;VALUE=DURATION:PT1H
X-Robots-Tag:noindex
X-PUBLISHED-TTL:PT1H
BEGIN:VTIMEZONE
TZID:Europe/Madrid
BEGIN:DAYLIGHT
TZOFFSETFROM:+0100
TZOFFSETTO:+0200
TZNAME:CEST
DTSTART:20250330T010000
END:DAYLIGHT
BEGIN:STANDARD
TZOFFSETFROM:+0200
TZOFFSETTO:+0100
TZNAME:CET
DTSTART:20251026T010000
END:STANDARD
END:VTIMEZONE
BEGIN:VEVENT
DTSTART;TZID=Europe/Madrid:20250625T100000
DTEND;TZID=Europe/Madrid:20250711T130000
DTSTAMP:20260424T072024
CREATED:20250430T124207Z
LAST-MODIFIED:20250513T192622Z
UID:92310-1750845600-1752238800@www.fundacionnaturgy.org
SUMMARY:Formación para formadores de FP «Gases Renovables: tecnología\, usos y beneficios»
DESCRIPTION:[vc_row][vc_column width=»2/3″][vc_column_text]Fundación Naturgy impulsa una nueva edición del curso sobre gases renovables: tecnología\, usos y beneficios dirigido a profesorado de Formación Profesional de toda España. \nDel 25 de junio al 11 de julio 2025\nWebinars on line síncronas: 25 de junio de 10 a 11h y 11 de julio de 10 a 13h.\nTutorías on line síncronas: 2 y 8 de julio de 10h a 12h.\nEl aula virtual estará abierta del 16 de junio al 18 de julio. \nMás información del curso\, aquí.\nSi deseas recibir más información\, puedes escribir un correo electrónico a fp_fundacion@naturgy.com.[/vc_column_text][/vc_column][vc_column width=»1/3″][vc_column_text css=».vc_custom_1746016771406{padding-top: 25px !important;padding-right: 25px !important;padding-bottom: 25px !important;padding-left: 25px !important;background-color: #004571 !important;border-radius: 3px !important;}»] \n\nDel 25 de junio al 11 de julio de 2025\nPlazas limitadas\nFormación de 25 horas \nMás información \n[/vc_column_text][/vc_column][/vc_row][vc_row][vc_column]\n                \n                        \n                            Inscripción al Programa de Formación Profesional para la Empleabilidad de Fundación Naturgy – Junio/Julio 2025\n                         \n \n                        Datos del participanteNombre y apellidos:* DNI:* Correo electrónico de contacto profesional:* Ciclos formativos en los que imparte formación:* Módulos o unidades formativas que imparte:* Curso a impartir:*\n			\n				\n				Edificación y rehabilitación sostenible\n			\n			\n				\n				Gases renovables: tecnología\, usos y beneficios\n			\n			\n				\n				Asesoría energética en entornos vulnerables\n			\n			\n				\n				Instalación y mantenimiento de sistemas solares fotovoltaicos\n			\n			\n				\n				Redes de gas verdes y digitales\n			\n			\n				\n				Digitalización de redes eléctricas\n			\n			\n				\n				Sostenibilidad aplicada al sistema productivo\n			Datos del centroNombre del centro:* Dirección:* Población:* Comunidad Autónoma*AndalucíaAsturiasCastilla-La ManchaCastilla y LeónCataluñaComunidad ValencianaExtremaduraGaliciaMadridOtrosTeléfono:* ¿A cuántos alumnos impactará esta formación?* Observaciones:Información básica sobre Protección de Datos PersonalesLos datos personales recabados a través de este formulario web serán tratados por la Fundación Naturgy\, en su condición de responsable del tratamiento\, con la finalidad de gestionar la organización y su participación en el evento online Curso para Formadores de FP\, así como para mantener una relación profesional con usted o con la persona jurídica en la que usted presta sus servicios. \n\nAdicionalmente solicitamos tu consentimiento para las siguientes finalidades:Usted tiene derecho a acceder\, rectificar y suprimir sus datos\, limitar y oponerse al tratamiento\, a la portabilidad de sus datos\, a revocar su consentimiento en cualquier momento\, así como a no ser objeto de decisiones individuales automatizadas como se explica en nuestra Política de Privacidad\, donde encontrará información adicional y detallada sobre Protección de Datos.*\n								\n								Acepto que la Fundación Naturgy comunique al Departamento de Educación de mi Comunidad la información relativa a mi asistencia al curso con la finalidad de emitir el correspondiente certificado.\n							\n								\n								En caso de curso desarrollado en colaboración con la UOC\, autorizo a la Fundación Naturgy a comunicar mis datos personales (nombre\, apellidos y correo electrónico) a la Universitat Oberta de Catalunya (UOC)\, con la única finalidad de gestionar mi acceso y participación en la formación online asociada al programa de formación. Esta cesión se realiza exclusivamente para cumplir con la organización y ejecución de la acción formativa y en ningún caso será utilizada para fines distintos. Podré revocar este consentimiento en cualquier momento conforme a lo establecido en la Política de Privacidad.\n							Usted tiene derecho a acceder\, rectificar y suprimir sus datos\, limitar y oponerse al tratamiento\, a la portabilidad de sus datos\, a revocar su consentimiento en cualquier momento\, así como a no ser objeto de decisiones individuales automatizadas como se explica en nuestra Política de Privacidad\, donde encontrará información adicional y detallada sobre Protección de Datos.\n          \n            \n            \n            \n            \n            \n            \n            \n            \n            \n        \n                        \n                        [/vc_column][/vc_row]
URL:https://www.fundacionnaturgy.org/actividad/curso-para-la-empleabilidad-gases-renovables-tecnologia-usos-y-beneficios/
ATTACH;FMTTYPE=image/jpeg:https://www.fundacionnaturgy.org/wp-content/uploads/2021/11/mailing-fp-renovable.jpg
END:VEVENT
BEGIN:VEVENT
DTSTART;TZID=Europe/Madrid:20250625T100000
DTEND;TZID=Europe/Madrid:20250711T130000
DTSTAMP:20260424T072024
CREATED:20250430T125708Z
LAST-MODIFIED:20250505T104335Z
UID:92312-1750845600-1752238800@www.fundacionnaturgy.org
SUMMARY:Formación para formadores de FP "Instalación y mantenimiento de sistemas solares fotovoltaicos"
DESCRIPTION:[vc_row][vc_column width=»2/3″][vc_column_text]Fundación Naturgy impulsa una nueva edición del curso sobre instalación y mantenimiento de sistemas solares fotovoltaicos dirigido a profesorado de Formación Profesional de toda España. \nDel 25 de junio al 11 de julio 2025\nWebinars on line síncronas: 25 de junio de 10 a 13h y 11 de julio de 10 a 13h.\nTutorías on line síncronas: 1 y 8 de julio de 10h a 12h.\nEl aula virtual estará abierta del 16 de junio al 18 de julio. \nMás información del curso\, aquí.\nSi deseas recibir más información\, puedes escribir un correo electrónico a fp_fundacion@naturgy.com.[/vc_column_text][/vc_column][vc_column width=»1/3″][vc_column_text css=».vc_custom_1746018188564{padding-top: 25px !important;padding-right: 25px !important;padding-bottom: 25px !important;padding-left: 25px !important;background-color: #004571 !important;border-radius: 3px !important;}»] \n\nDel 25 de junio al 11 de julio de 2025\nPlazas limitadas\nFormación de 25 horas \nMás información \n[/vc_column_text][/vc_column][/vc_row][vc_row][vc_column]\n                \n                        \n                            Inscripción al Programa de Formación Profesional para la Empleabilidad de Fundación Naturgy – Junio/Julio 2025\n                         \n \n                        Datos del participanteNombre y apellidos:* DNI:* Correo electrónico de contacto profesional:* Ciclos formativos en los que imparte formación:* Módulos o unidades formativas que imparte:* Curso a impartir:*\n			\n				\n				Edificación y rehabilitación sostenible\n			\n			\n				\n				Gases renovables: tecnología\, usos y beneficios\n			\n			\n				\n				Asesoría energética en entornos vulnerables\n			\n			\n				\n				Instalación y mantenimiento de sistemas solares fotovoltaicos\n			\n			\n				\n				Redes de gas verdes y digitales\n			\n			\n				\n				Digitalización de redes eléctricas\n			\n			\n				\n				Sostenibilidad aplicada al sistema productivo\n			Datos del centroNombre del centro:* Dirección:* Población:* Comunidad Autónoma*AndalucíaAsturiasCastilla-La ManchaCastilla y LeónCataluñaComunidad ValencianaExtremaduraGaliciaMadridOtrosTeléfono:* ¿A cuántos alumnos impactará esta formación?* Observaciones:Información básica sobre Protección de Datos PersonalesLos datos personales recabados a través de este formulario web serán tratados por la Fundación Naturgy\, en su condición de responsable del tratamiento\, con la finalidad de gestionar la organización y su participación en el evento online Curso para Formadores de FP\, así como para mantener una relación profesional con usted o con la persona jurídica en la que usted presta sus servicios. \n\nAdicionalmente solicitamos tu consentimiento para las siguientes finalidades:Usted tiene derecho a acceder\, rectificar y suprimir sus datos\, limitar y oponerse al tratamiento\, a la portabilidad de sus datos\, a revocar su consentimiento en cualquier momento\, así como a no ser objeto de decisiones individuales automatizadas como se explica en nuestra Política de Privacidad\, donde encontrará información adicional y detallada sobre Protección de Datos.*\n								\n								Acepto que la Fundación Naturgy comunique al Departamento de Educación de mi Comunidad la información relativa a mi asistencia al curso con la finalidad de emitir el correspondiente certificado.\n							\n								\n								En caso de curso desarrollado en colaboración con la UOC\, autorizo a la Fundación Naturgy a comunicar mis datos personales (nombre\, apellidos y correo electrónico) a la Universitat Oberta de Catalunya (UOC)\, con la única finalidad de gestionar mi acceso y participación en la formación online asociada al programa de formación. Esta cesión se realiza exclusivamente para cumplir con la organización y ejecución de la acción formativa y en ningún caso será utilizada para fines distintos. Podré revocar este consentimiento en cualquier momento conforme a lo establecido en la Política de Privacidad.\n							Usted tiene derecho a acceder\, rectificar y suprimir sus datos\, limitar y oponerse al tratamiento\, a la portabilidad de sus datos\, a revocar su consentimiento en cualquier momento\, así como a no ser objeto de decisiones individuales automatizadas como se explica en nuestra Política de Privacidad\, donde encontrará información adicional y detallada sobre Protección de Datos.\n          \n            \n            \n            \n            \n            \n            \n            \n            \n            \n        \n                        \n                        [/vc_column][/vc_row]
URL:https://www.fundacionnaturgy.org/actividad/curso-para-la-empleabilidad-instalacion-sistemas-solares-fotovoltaicos/
ATTACH;FMTTYPE=image/png:https://www.fundacionnaturgy.org/wp-content/uploads/2023/02/f_placas-fotovoltaicas-1.png
END:VEVENT
BEGIN:VEVENT
DTSTART;TZID=Europe/Madrid:20250625T100000
DTEND;TZID=Europe/Madrid:20250711T140000
DTSTAMP:20260424T072024
CREATED:20250430T122148Z
LAST-MODIFIED:20250509T100831Z
UID:92308-1750845600-1752242400@www.fundacionnaturgy.org
SUMMARY:Formación para formadores de FP «Digitalización de redes eléctricas»
DESCRIPTION:[vc_row][vc_column width=»2/3″][vc_column_text]Fundación Naturgy impulsa una nueva edición del curso sobre digitalización de redes eléctricas dirigido a profesorado de Formación Profesional de toda España. \nDel 25 de junio al 11 de julio 2025\nWebinars on line síncronas: 25 de junio de 10 a 11h y 11 de julio de 10 a14h.\nHoras tutorías: 30/06\, 2\, 4\, 7 y 9 de julio de 10 a 11h.\nEl aula virtual estará abierta del 17 de junio al 18 de julio. \nMás información del curso\, aquí.\nSi deseas recibir más información\, puedes escribir un correo electrónico a fp_fundacion@naturgy.com.[/vc_column_text][/vc_column][vc_column width=»1/3″][vc_column_text css=».vc_custom_1746785824761{padding-top: 25px !important;padding-right: 25px !important;padding-bottom: 25px !important;padding-left: 25px !important;background-color: #004571 !important;border-radius: 3px !important;}»] \n\nDel 25 de junio al 11 de julio de 2025\nPlazas limitadas\nFormación de 37 horas \nMás información \n[/vc_column_text][/vc_column][/vc_row][vc_row][vc_column]\n                \n                        \n                            Inscripción al Programa de Formación Profesional para la Empleabilidad de Fundación Naturgy – Junio/Julio 2025\n                         \n \n                        Datos del participanteNombre y apellidos:* DNI:* Correo electrónico de contacto profesional:* Ciclos formativos en los que imparte formación:* Módulos o unidades formativas que imparte:* Curso a impartir:*\n			\n				\n				Edificación y rehabilitación sostenible\n			\n			\n				\n				Gases renovables: tecnología\, usos y beneficios\n			\n			\n				\n				Asesoría energética en entornos vulnerables\n			\n			\n				\n				Instalación y mantenimiento de sistemas solares fotovoltaicos\n			\n			\n				\n				Redes de gas verdes y digitales\n			\n			\n				\n				Digitalización de redes eléctricas\n			\n			\n				\n				Sostenibilidad aplicada al sistema productivo\n			Datos del centroNombre del centro:* Dirección:* Población:* Comunidad Autónoma*AndalucíaAsturiasCastilla-La ManchaCastilla y LeónCataluñaComunidad ValencianaExtremaduraGaliciaMadridOtrosTeléfono:* ¿A cuántos alumnos impactará esta formación?* Observaciones:Información básica sobre Protección de Datos PersonalesLos datos personales recabados a través de este formulario web serán tratados por la Fundación Naturgy\, en su condición de responsable del tratamiento\, con la finalidad de gestionar la organización y su participación en el evento online Curso para Formadores de FP\, así como para mantener una relación profesional con usted o con la persona jurídica en la que usted presta sus servicios. \n\nAdicionalmente solicitamos tu consentimiento para las siguientes finalidades:Usted tiene derecho a acceder\, rectificar y suprimir sus datos\, limitar y oponerse al tratamiento\, a la portabilidad de sus datos\, a revocar su consentimiento en cualquier momento\, así como a no ser objeto de decisiones individuales automatizadas como se explica en nuestra Política de Privacidad\, donde encontrará información adicional y detallada sobre Protección de Datos.*\n								\n								Acepto que la Fundación Naturgy comunique al Departamento de Educación de mi Comunidad la información relativa a mi asistencia al curso con la finalidad de emitir el correspondiente certificado.\n							\n								\n								En caso de curso desarrollado en colaboración con la UOC\, autorizo a la Fundación Naturgy a comunicar mis datos personales (nombre\, apellidos y correo electrónico) a la Universitat Oberta de Catalunya (UOC)\, con la única finalidad de gestionar mi acceso y participación en la formación online asociada al programa de formación. Esta cesión se realiza exclusivamente para cumplir con la organización y ejecución de la acción formativa y en ningún caso será utilizada para fines distintos. Podré revocar este consentimiento en cualquier momento conforme a lo establecido en la Política de Privacidad.\n							Usted tiene derecho a acceder\, rectificar y suprimir sus datos\, limitar y oponerse al tratamiento\, a la portabilidad de sus datos\, a revocar su consentimiento en cualquier momento\, así como a no ser objeto de decisiones individuales automatizadas como se explica en nuestra Política de Privacidad\, donde encontrará información adicional y detallada sobre Protección de Datos.\n          \n            \n            \n            \n            \n            \n            \n            \n            \n            \n        \n                        \n                        [/vc_column][/vc_row]
URL:https://www.fundacionnaturgy.org/actividad/curso-para-la-empleabilidad-digitalizacion-de-redes-electricas/
ATTACH;FMTTYPE=image/png:https://www.fundacionnaturgy.org/wp-content/uploads/2023/02/f_digitalizacion-redes.png
END:VEVENT
BEGIN:VEVENT
DTSTART;TZID=Europe/Madrid:20250707T090000
DTEND;TZID=Europe/Madrid:20250711T140000
DTSTAMP:20260424T072024
CREATED:20250430T130538Z
LAST-MODIFIED:20250509T095505Z
UID:92314-1751878800-1752242400@www.fundacionnaturgy.org
SUMMARY:Formación para formadores de FP «Redes de distribución de gas verdes y digitales»
DESCRIPTION:[vc_row][vc_column width=»2/3″][vc_column_text]Fundación Naturgy impulsa una nueva edición del curso sobre redes de distribución de gas verdes y digitales\, dirigido a profesorado de Formación Profesional de toda España. \nHorario: lunes a viernes\, de 9:00 a 14:00 horas.\nModalidad: online síncrono. \nMás información del curso\, aquí. \nSi deseas recibir más información\, puedes escribir un correo electrónico a fp_fundacion@naturgy.com.[/vc_column_text][/vc_column][vc_column width=»1/3″][vc_column_text css=».vc_custom_1746018793899{padding-top: 25px !important;padding-right: 25px !important;padding-bottom: 25px !important;padding-left: 25px !important;background-color: #004571 !important;border-radius: 3px !important;}»] \n\nDel 7 al 11 de julio de 2025\nPlazas limitadas\nFormación de 25 horas \nMás información \n[/vc_column_text][/vc_column][/vc_row][vc_row][vc_column]\n                \n                        \n                            Inscripción al Programa de Formación Profesional para la Empleabilidad de Fundación Naturgy – Junio/Julio 2025\n                         \n \n                        Datos del participanteNombre y apellidos:* DNI:* Correo electrónico de contacto profesional:* Ciclos formativos en los que imparte formación:* Módulos o unidades formativas que imparte:* Curso a impartir:*\n			\n				\n				Edificación y rehabilitación sostenible\n			\n			\n				\n				Gases renovables: tecnología\, usos y beneficios\n			\n			\n				\n				Asesoría energética en entornos vulnerables\n			\n			\n				\n				Instalación y mantenimiento de sistemas solares fotovoltaicos\n			\n			\n				\n				Redes de gas verdes y digitales\n			\n			\n				\n				Digitalización de redes eléctricas\n			\n			\n				\n				Sostenibilidad aplicada al sistema productivo\n			Datos del centroNombre del centro:* Dirección:* Población:* Comunidad Autónoma*AndalucíaAsturiasCastilla-La ManchaCastilla y LeónCataluñaComunidad ValencianaExtremaduraGaliciaMadridOtrosTeléfono:* ¿A cuántos alumnos impactará esta formación?* Observaciones:Información básica sobre Protección de Datos PersonalesLos datos personales recabados a través de este formulario web serán tratados por la Fundación Naturgy\, en su condición de responsable del tratamiento\, con la finalidad de gestionar la organización y su participación en el evento online Curso para Formadores de FP\, así como para mantener una relación profesional con usted o con la persona jurídica en la que usted presta sus servicios. \n\nAdicionalmente solicitamos tu consentimiento para las siguientes finalidades:Usted tiene derecho a acceder\, rectificar y suprimir sus datos\, limitar y oponerse al tratamiento\, a la portabilidad de sus datos\, a revocar su consentimiento en cualquier momento\, así como a no ser objeto de decisiones individuales automatizadas como se explica en nuestra Política de Privacidad\, donde encontrará información adicional y detallada sobre Protección de Datos.*\n								\n								Acepto que la Fundación Naturgy comunique al Departamento de Educación de mi Comunidad la información relativa a mi asistencia al curso con la finalidad de emitir el correspondiente certificado.\n							\n								\n								En caso de curso desarrollado en colaboración con la UOC\, autorizo a la Fundación Naturgy a comunicar mis datos personales (nombre\, apellidos y correo electrónico) a la Universitat Oberta de Catalunya (UOC)\, con la única finalidad de gestionar mi acceso y participación en la formación online asociada al programa de formación. Esta cesión se realiza exclusivamente para cumplir con la organización y ejecución de la acción formativa y en ningún caso será utilizada para fines distintos. Podré revocar este consentimiento en cualquier momento conforme a lo establecido en la Política de Privacidad.\n							Usted tiene derecho a acceder\, rectificar y suprimir sus datos\, limitar y oponerse al tratamiento\, a la portabilidad de sus datos\, a revocar su consentimiento en cualquier momento\, así como a no ser objeto de decisiones individuales automatizadas como se explica en nuestra Política de Privacidad\, donde encontrará información adicional y detallada sobre Protección de Datos.\n          \n            \n            \n            \n            \n            \n            \n            \n            \n            \n        \n                        \n                        [/vc_column][/vc_row]
URL:https://www.fundacionnaturgy.org/actividad/curso-para-la-empleabilidad-redes-de-distribucion-de-gas-verdes-y-digitales/
ATTACH;FMTTYPE=image/png:https://www.fundacionnaturgy.org/wp-content/uploads/2023/02/f_redes-de-gas-1.png
END:VEVENT
END:VCALENDAR