BEGIN:VCALENDAR
VERSION:2.0
PRODID:-//Fundación Naturgy - ECPv5.14.0.4//NONSGML v1.0//EN
CALSCALE:GREGORIAN
METHOD:PUBLISH
X-WR-CALNAME:Fundación Naturgy
X-ORIGINAL-URL:https://www.fundacionnaturgy.org
X-WR-CALDESC:Events for Fundación Naturgy
REFRESH-INTERVAL;VALUE=DURATION:PT1H
X-Robots-Tag:noindex
X-PUBLISHED-TTL:PT1H
BEGIN:VTIMEZONE
TZID:Europe/Madrid
BEGIN:DAYLIGHT
TZOFFSETFROM:+0100
TZOFFSETTO:+0200
TZNAME:CEST
DTSTART:20090329T010000
END:DAYLIGHT
BEGIN:STANDARD
TZOFFSETFROM:+0200
TZOFFSETTO:+0100
TZNAME:CET
DTSTART:20091025T010000
END:STANDARD
END:VTIMEZONE
BEGIN:VEVENT
DTSTART;TZID=Europe/Madrid:20091025T080000
DTEND;TZID=Europe/Madrid:20091025T170000
DTSTAMP:20260425T181814
CREATED:20091025T110233Z
LAST-MODIFIED:20160705T080212Z
UID:2451-1256457600-1256490000@www.fundacionnaturgy.org
SUMMARY:Creación de empresas: de la idea al proyecto
DESCRIPTION:El programa analiza los aspectos básicos ligados a los procesos de cración de empresas que son especialmente interesantes para los jóvenes emprendedores.
URL:https://www.fundacionnaturgy.org/actividad/creacion-de-empresas-de-la-idea-al-proyecto/
LOCATION:Recinto sin nombre\, Orán\, Algeria
CATEGORIES:Argelia
END:VEVENT
END:VCALENDAR