BEGIN:VCALENDAR
VERSION:2.0
PRODID:-//Fundación Naturgy - ECPv5.14.0.4//NONSGML v1.0//EN
CALSCALE:GREGORIAN
METHOD:PUBLISH
X-WR-CALNAME:Fundación Naturgy
X-ORIGINAL-URL:https://www.fundacionnaturgy.org
X-WR-CALDESC:Events for Fundación Naturgy
REFRESH-INTERVAL;VALUE=DURATION:PT1H
X-Robots-Tag:noindex
X-PUBLISHED-TTL:PT1H
BEGIN:VTIMEZONE
TZID:Europe/Madrid
BEGIN:DAYLIGHT
TZOFFSETFROM:+0100
TZOFFSETTO:+0200
TZNAME:CEST
DTSTART:20100328T010000
END:DAYLIGHT
BEGIN:STANDARD
TZOFFSETFROM:+0200
TZOFFSETTO:+0100
TZNAME:CET
DTSTART:20101031T010000
END:STANDARD
END:VTIMEZONE
BEGIN:VEVENT
DTSTART;TZID=Europe/Madrid:20100426T080000
DTEND;TZID=Europe/Madrid:20100426T170000
DTSTAMP:20260425T155413
CREATED:20100426T104519Z
LAST-MODIFIED:20160705T163445Z
UID:2485-1272268800-1272301200@www.fundacionnaturgy.org
SUMMARY:Programa de Formación de Proveedores. Colombia
DESCRIPTION:Tiene como propósito ofrecer una capacitación a cinco pequeñas empresas que prestan sus servicios en las áreas de Servicio al Cliente (toma de lecturas\, reparto de la factura\, operaciones técnicas)\, firmas reparadoras y atención de emergencias relacionadas con el servicio de gas natural.
URL:https://www.fundacionnaturgy.org/actividad/programa-de-formacion-de-proveedores-colombia/
LOCATION:Recinto sin nombre\, Bucaramanga \, Colombia
CATEGORIES:Colombia
ATTACH;FMTTYPE=image/jpeg:https://www.fundacionnaturgy.org/wp-content/uploads/2015/12/5-1-scaled.jpg
END:VEVENT
END:VCALENDAR