BEGIN:VCALENDAR
VERSION:2.0
PRODID:-//Fundación Naturgy - ECPv5.14.0.4//NONSGML v1.0//EN
CALSCALE:GREGORIAN
METHOD:PUBLISH
X-WR-CALNAME:Fundación Naturgy
X-ORIGINAL-URL:https://www.fundacionnaturgy.org
X-WR-CALDESC:Events for Fundación Naturgy
REFRESH-INTERVAL;VALUE=DURATION:PT1H
X-Robots-Tag:noindex
X-PUBLISHED-TTL:PT1H
BEGIN:VTIMEZONE
TZID:Europe/Madrid
BEGIN:DAYLIGHT
TZOFFSETFROM:+0100
TZOFFSETTO:+0200
TZNAME:CEST
DTSTART:20150329T010000
END:DAYLIGHT
BEGIN:STANDARD
TZOFFSETFROM:+0200
TZOFFSETTO:+0100
TZNAME:CET
DTSTART:20151025T010000
END:STANDARD
END:VTIMEZONE
BEGIN:VEVENT
DTSTART;TZID=Europe/Madrid:20150602T080000
DTEND;TZID=Europe/Madrid:20150602T170000
DTSTAMP:20260424T220923
CREATED:20150602T123835Z
LAST-MODIFIED:20160302T101714Z
UID:2166-1433232000-1433264400@www.fundacionnaturgy.org
SUMMARY:Taller práctico: Elaboración de mi Plan de Exportación. Ferrol
DESCRIPTION:Cada empresario trabajará sobre su propio proyecto guiado por el ponente. Esta aproximación\, totalmente práctica y real\, no pretende transmitir conocimientos teóricos o académicos sino que cada participante elaborará el plan de exportación de su propia pyme. Cada parte del proceso se inicia con la explicación de las bases\, para entrar\, a continuación\, en la elaboración propiamente dicha\, pudiendo interactuar estrechamente con el ponente gracias al grupo reducido de participantes.
URL:https://www.fundacionnaturgy.org/actividad/taller-practico-elaboracion-de-mi-plan-de-exportacion-ferrol/
ATTACH;FMTTYPE=image/jpeg:https://www.fundacionnaturgy.org/wp-content/uploads/2015/12/logo-primera-exportacion-1.jpg
END:VEVENT
BEGIN:VEVENT
DTSTART;TZID=Europe/Madrid:20150602T080000
DTEND;TZID=Europe/Madrid:20150602T170000
DTSTAMP:20260424T220923
CREATED:20150602T124147Z
LAST-MODIFIED:20160302T101940Z
UID:2176-1433232000-1433264400@www.fundacionnaturgy.org
SUMMARY:Taller práctico: Elaboración de mi Plan de Exportación. Lugo
DESCRIPTION:Cada empresario trabajará sobre su propio proyecto guiado por el ponente. Esta aproximación\, totalmente práctica y real\, no pretende transmitir conocimientos teóricos o académicos sino que cada participante elaborará el plan de exportación de su propia pyme. Cada parte del proceso se inicia con la explicación de las bases\, para entrar\, a continuación\, en la elaboración propiamente dicha\, pudiendo interactuar estrechamente con el ponente gracias al grupo reducido de participantes.
URL:https://www.fundacionnaturgy.org/actividad/taller-practico-elaboracion-de-mi-plan-de-exportacion-lugo/
ATTACH;FMTTYPE=image/jpeg:https://www.fundacionnaturgy.org/wp-content/uploads/2015/12/logo-primera-exportacion-1.jpg
END:VEVENT
BEGIN:VEVENT
DTSTART;TZID=Europe/Madrid:20150602T080000
DTEND;TZID=Europe/Madrid:20150602T170000
DTSTAMP:20260424T220923
CREATED:20150602T155131Z
LAST-MODIFIED:20160302T102315Z
UID:2669-1433232000-1433264400@www.fundacionnaturgy.org
SUMMARY:Energía y agua
DESCRIPTION:En la segunda parte se exponen cinco casos prácticos del binomio energía y agua. Se abordará en detalle algunas iniciativas de eficiencia energética en estaciones de depuración de aguas residuales\, de gestión del agua en centrales de ciclo combinado\, de ahorro de energía en la agricultura de regadío\, de utilización de embalses reversibles para almacenar electricidad y de generación eléctrica a partir de los caudales ecológicos de los ríos.
URL:https://www.fundacionnaturgy.org/actividad/energia-y-agua-2/
LOCATION:Recinto sin nombre\, Toledo \, España
ATTACH;FMTTYPE=image/jpeg:https://www.fundacionnaturgy.org/wp-content/uploads/2015/12/10-Inauguracion-del-Seminario-Agua-y-Energía.jpg
END:VEVENT
BEGIN:VEVENT
DTSTART;TZID=Europe/Madrid:20150602T080000
DTEND;TZID=Europe/Madrid:20150604T170000
DTSTAMP:20260424T220923
CREATED:20150602T122558Z
LAST-MODIFIED:20160302T101344Z
UID:2127-1433232000-1433437200@www.fundacionnaturgy.org
SUMMARY:Taller práctico: Elaboración de mi Plan de Exportación. Galicia
DESCRIPTION:Este taller está diseñado para ser un ejercicio real de elaboración de un Plan de Exportación. Cada empresario trabajará sobre su propio proyecto guiado por el ponente. Esta aproximación\, totalmente práctica y real\, no pretende transmitir conocimientos teóricos o académicos sino que cada participante elaborará el plan de exportación de su propia pyme. Cada parte del proceso se inicia con la explicación de las bases\, para entrar\, a continuación\, en la elaboración propiamente dicha\, pudiendo interactuar estrechamente con el ponente gracias al grupo reducido de participantes.
URL:https://www.fundacionnaturgy.org/actividad/taller-practico-elaboracion-de-mi-plan-de-exportacion-galicia/
ATTACH;FMTTYPE=image/jpeg:https://www.fundacionnaturgy.org/wp-content/uploads/2015/12/6.jpg
END:VEVENT
BEGIN:VEVENT
DTSTART;TZID=Europe/Madrid:20150603T080000
DTEND;TZID=Europe/Madrid:20150603T170000
DTSTAMP:20260424T220923
CREATED:20150603T123042Z
LAST-MODIFIED:20160302T100632Z
UID:2140-1433318400-1433350800@www.fundacionnaturgy.org
SUMMARY:Taller práctico: Elaboración de mi Plan de Exportación. Ourense
DESCRIPTION:Cada empresario trabajará sobre su propio proyecto guiado por el ponente. Esta aproximación\, totalmente práctica y real\, no pretende transmitir conocimientos teóricos o académicos sino que cada participante elaborará el plan de exportación de su propia pyme. Cada parte del proceso se inicia con la explicación de las bases\, para entrar\, a continuación\, en la elaboración propiamente dicha\, pudiendo interactuar estrechamente con el ponente gracias al grupo reducido de participantes.
URL:https://www.fundacionnaturgy.org/actividad/taller-practico-elaboracion-de-mi-plan-de-exportacion-ourense/
ATTACH;FMTTYPE=image/jpeg:https://www.fundacionnaturgy.org/wp-content/uploads/2015/12/7.jpg
END:VEVENT
BEGIN:VEVENT
DTSTART;TZID=Europe/Madrid:20150603T080000
DTEND;TZID=Europe/Madrid:20150603T170000
DTSTAMP:20260424T220923
CREATED:20150603T123452Z
LAST-MODIFIED:20160302T101121Z
UID:2153-1433318400-1433350800@www.fundacionnaturgy.org
SUMMARY:Taller práctico: Elaboración de mi Plan de Exportación. Vigo
DESCRIPTION:Cada empresario trabajará sobre su propio proyecto guiado por el ponente. Esta aproximación\, totalmente práctica y real\, no pretende transmitir conocimientos teóricos o académicos sino que cada participante elaborará el plan de exportación de su propia pyme. Cada parte del proceso se inicia con la explicación de las bases\, para entrar\, a continuación\, en la elaboración propiamente dicha\, pudiendo interactuar estrechamente con el ponente gracias al grupo reducido de participantes.
URL:https://www.fundacionnaturgy.org/actividad/taller-practico-elaboracion-de-mi-plan-de-exportacion-vigo/
ATTACH;FMTTYPE=image/jpeg:https://www.fundacionnaturgy.org/wp-content/uploads/2015/12/logo-primera-exportacion-1.jpg
END:VEVENT
BEGIN:VEVENT
DTSTART;TZID=Europe/Madrid:20150604T080000
DTEND;TZID=Europe/Madrid:20150604T170000
DTSTAMP:20260424T220923
CREATED:20150604T121232Z
LAST-MODIFIED:20160302T100221Z
UID:2101-1433404800-1433437200@www.fundacionnaturgy.org
SUMMARY:Taller práctico: Elaboración de mi Plan de Exportación. Santiago de Compostela
DESCRIPTION:Cada empresario trabajará sobre su propio proyecto guiado por el ponente. Esta aproximación\, totalmente práctica y real\, no pretende transmitir conocimientos teóricos o académicos sino que cada participante elaborará el plan de exportación de su propia pyme. Cada parte del proceso se inicia con la explicación de las bases\, para entrar\, a continuación\, en la elaboración propiamente dicha\, pudiendo interactuar estrechamente con el ponente gracias al grupo reducido de participantes.
URL:https://www.fundacionnaturgy.org/actividad/taller-practico-elaboracion-de-mi-plan-de-exportacion-santiago-de-compostela/
ATTACH;FMTTYPE=image/jpeg:https://www.fundacionnaturgy.org/wp-content/uploads/2015/12/4-1.jpg
END:VEVENT
BEGIN:VEVENT
DTSTART;TZID=Europe/Madrid:20150604T080000
DTEND;TZID=Europe/Madrid:20150604T170000
DTSTAMP:20260424T220923
CREATED:20150604T121823Z
LAST-MODIFIED:20151216T151320Z
UID:2114-1433404800-1433437200@www.fundacionnaturgy.org
SUMMARY:Taller práctico: Elaboración de mi Plan de Exportación. A Coruña
DESCRIPTION:Cada empresario trabajará sobre su propio proyecto guiado por el ponente. Esta aproximación\, totalmente práctica y real\, no pretende transmitir conocimientos teóricos o académicos sino que cada participante elaborará el plan de exportación de su propia pyme. Cada parte del proceso se inicia con la explicación de las bases\, para entrar\, a continuación\, en la elaboración propiamente dicha\, pudiendo interactuar estrechamente con el ponente gracias al grupo reducido de participantes.
URL:https://www.fundacionnaturgy.org/actividad/taller-practico-elaboracion-de-mi-plan-de-exportacion-a-coruna/
ATTACH;FMTTYPE=image/jpeg:https://www.fundacionnaturgy.org/wp-content/uploads/2015/12/5.jpg
END:VEVENT
BEGIN:VEVENT
DTSTART;TZID=Europe/Madrid:20150605T080000
DTEND;TZID=Europe/Madrid:20150605T170000
DTSTAMP:20260424T220924
CREATED:20150605T143711Z
LAST-MODIFIED:20160302T095816Z
UID:2524-1433491200-1433523600@www.fundacionnaturgy.org
SUMMARY:Quince años de calidad ambiental en Castilla y León
DESCRIPTION:Por ello\, el 5 junio y con motivo del Día Mundial del Medio Ambiente\, la Fundación Gas Natural Fenosa celebra en Valladolid el 15º aniversario de esta actividad de información\, divulgación y debate\, con el seminario «Quince años de calidad ambiental en Castilla y León». A lo largo de esta jornada\, organizada con la Junta de Castilla y León\, se abordan temáticas que contribuyen en la mejora ambiental de la Comunidad como: la edificación y el urbanismo respetuoso con el medio ambiente\, la movilidad y el transporte sostenible\, la gestión eficiente de los espacios naturales y de la energía en el sector agrícola y el biogás como elemento de valoración energética de los residuos. También se presenta una propuesta sobre la incentivación fiscal de la calidad ambiental en sus diversos ámbitos\, en base a la experiencia internacional y como gran vector de futuro en España.
URL:https://www.fundacionnaturgy.org/actividad/quince-anos-de-calidad-ambiental-en-castilla-y-leon/
LOCATION:Patio Herreriano de Valladolid\, Valladolid \, España
ATTACH;FMTTYPE=image/jpeg:https://www.fundacionnaturgy.org/wp-content/uploads/2015/12/generica-destacada.jpg
END:VEVENT
BEGIN:VEVENT
DTSTART;TZID=Europe/Madrid:20150617T080000
DTEND;TZID=Europe/Madrid:20150617T170000
DTSTAMP:20260424T220924
CREATED:20150617T100718Z
LAST-MODIFIED:20170217T114555Z
UID:2453-1434528000-1434560400@www.fundacionnaturgy.org
SUMMARY:La Exportación y las herramientas digitales
DESCRIPTION:El seminario se celebrara en el Fórum Cultural del Municipio de Zárate\, el próximo miércoles 17 de junio de 2015. \nLa presentación del Seminario correrá a cargo de varios representantes de los distintos sectores organizadores. Se presentarán ponencias desarrolladas por los señores Pablo Furnari\, Diego Miranda Iglesias\, especialista en marketing digital y redes sociales y Federico Bassa\, Gerente Comercial de provincia NET. Los tres ponentes trataran la importancia que tienen las herramientas digitales a la hora de exportar y también de colocar una marca en el mercado. \nEsta capacitación es gratuita y se realiza en virtud del Convenio firmado el pasado mes de marzo entre el Presidente de Gas Natural Fenosa en Argentina\, D. Horacio Cristiani y el Subsecretario de Relaciones Económicas Internacionales\, D. Carlos Matías Peralta\, que permitirá aplicar los programas BIA Digital y Primera Exportación\, destinados a la capacitación de pymes en exportación de bienes y servicios\, e implementación de plataformas tecnológicas y sistemas de software empresariales. \nDesde el año 2001 la Fundación Gas Natural Fenosa desarrolla el Programa Primera Exportación\, que brinda asesoramiento gratuito y especializado en comercio exterior a pymes de cualquier ramo y en toda Argentina. A lo largo de estos años\, se realizaron más de 800 seminarios\, alrededor de 2000 empresas concretaron sus primeras exportaciones\, y entre asesoramientos y capacitaciones brindadas\, el Programa ha beneficiado a más de 40.000 empresas.
URL:https://www.fundacionnaturgy.org/actividad/la-exportacion-y-las-herramientas-digitales/
LOCATION:Recinto sin nombre\, Zárate \, Argentina
CATEGORIES:Argentina
ATTACH;FMTTYPE=image/jpeg:https://www.fundacionnaturgy.org/wp-content/uploads/2015/12/2-2.jpg
END:VEVENT
END:VCALENDAR