BEGIN:VCALENDAR
VERSION:2.0
PRODID:-//Fundación Naturgy - ECPv5.14.0.4//NONSGML v1.0//EN
CALSCALE:GREGORIAN
METHOD:PUBLISH
X-WR-CALNAME:Fundación Naturgy
X-ORIGINAL-URL:https://www.fundacionnaturgy.org
X-WR-CALDESC:Events for Fundación Naturgy
REFRESH-INTERVAL;VALUE=DURATION:PT1H
X-Robots-Tag:noindex
X-PUBLISHED-TTL:PT1H
BEGIN:VTIMEZONE
TZID:Europe/Madrid
BEGIN:DAYLIGHT
TZOFFSETFROM:+0100
TZOFFSETTO:+0200
TZNAME:CEST
DTSTART:20150329T010000
END:DAYLIGHT
BEGIN:STANDARD
TZOFFSETFROM:+0200
TZOFFSETTO:+0100
TZNAME:CET
DTSTART:20151025T010000
END:STANDARD
END:VTIMEZONE
BEGIN:VEVENT
DTSTART;TZID=Europe/Madrid:20150706T093000
DTEND;TZID=Europe/Madrid:20150710T140000
DTSTAMP:20260424T203523
CREATED:20150706T073050Z
LAST-MODIFIED:20160302T094640Z
UID:2415-1436175000-1436536800@www.fundacionnaturgy.org
SUMMARY:Energía: nuevos actores\, nuevas tecnologías
DESCRIPTION:Del 6 al 10 de julio tendrá lugar en la ciudad de Barcelona el curso de verano sobre «Energía: nuevos actores\, nuevas tecnologías» organizado en colaboración con la Universidad de Barcelona. Se centrará en los nuevos retos normativos\, los avances tecnológicos\, los rendimientos\, los costes económicos y la facilidad de operación de algunas tecnologías energéticas como la solar fotovoltaica\, la fisión nuclear\, la fusión nuclear o el biogás. También se analizarán las tendencias en extracción y procesamiento en combustibles fósiles. Por otra parte\, se analizarán las oportunidades que se abren por lo que respecta a la descentralización de la generación de electricidad y las ventajas y riesgos del autoconsumo. Se analizará también la trayectoria de los actores que han liderado en los últimos diez años la investigación y el desarrollo empresarial en este terreno. \nA quién se dirige\nEl Curso se dirige especialmente a profesionales y representantes de:\n• Empresas de todo el ciclo de la energía.\n• Empresas de generación eléctrica.\n• Empresas constructoras e inmobiliarias.\n• Empresas industriales\, especialmente las grandes consumidoras de electricidad y de calor.\n• Ingenierías.\n• Arquitectos y aparejadores.\n• Consultoras energéticas.\n• Expertos en eficiencia energética.\n• Administraciones locales\, autonómicas o estatales: áreas de energía y de medio ambiente.\n• Técnicos y expertos en la relación entre energía y medio ambiente.\n• Estudiantes\, profesores e investigadores sobre energía y medio ambiente.
URL:https://www.fundacionnaturgy.org/actividad/2415/
LOCATION:Auditorio Sede Gas Natural Fenosa\, Plaça del Gas\, 1\, Barcelona\, 08003
ATTACH;FMTTYPE=image/jpeg:https://www.fundacionnaturgy.org/wp-content/uploads/2015/12/nuevosactores2-scaled.jpg
END:VEVENT
BEGIN:VEVENT
DTSTART;VALUE=DATE:20150707
DTEND;VALUE=DATE:20150708
DTSTAMP:20260424T203523
CREATED:20150707T170052Z
LAST-MODIFIED:20151216T103201Z
UID:2439-1436227200-1436313599@www.fundacionnaturgy.org
SUMMARY:Presentación del libro "La creación de valor compartido\, en el sector energético. 25 casos prácticos"
DESCRIPTION:El presidente del Club de Roma en Barcelona y el director general de la Fundación Gas Natural Fenosa tienen el placer de invitarlo al acto de presentación del libro: «La creación de valor compartido\, en el sector energético. 25 casos prácticos.»
URL:https://www.fundacionnaturgy.org/actividad/presentacion-del-libro-la-creacion-de-valor-compartido-en-el-sector-energetico-25-casos-practicos/
LOCATION:Palau Macaya\, Passeig de Sant Joan\, 108\, Barcelona
END:VEVENT
BEGIN:VEVENT
DTSTART;TZID=Europe/Madrid:20150713T080000
DTEND;TZID=Europe/Madrid:20150713T170000
DTSTAMP:20260424T203523
CREATED:20150713T115547Z
LAST-MODIFIED:20160302T093656Z
UID:2080-1436774400-1436806800@www.fundacionnaturgy.org
SUMMARY:Taller práctico. Elaboración de mi Plan de Exportación. Barcelona
DESCRIPTION:Cada empresario trabajará sobre su propio proyecto guiado por el ponente. Esta aproximación\, totalmente práctica y real\, no pretende transmitir conocimientos teóricos o académicos sino que cada participante elaborará el plan de exportación de su propia pyme. Cada parte del proceso se inicia con la explicación de las bases\, para entrar\, a continuación\, en la elaboración propiamente dicha\, pudiendo interactuar estrechamente con el ponente gracias al grupo reducido de participantes.
URL:https://www.fundacionnaturgy.org/actividad/taller-practico-elaboracion-de-mi-plan-de-exportacion-barcelona/
LOCATION:Foment del Treball Nacional\, Barcelona \, España
ATTACH;FMTTYPE=image/jpeg:https://www.fundacionnaturgy.org/wp-content/uploads/2015/12/logo-primera-exportacion-1.jpg
END:VEVENT
BEGIN:VEVENT
DTSTART;TZID=Europe/Madrid:20150716T080000
DTEND;TZID=Europe/Madrid:20150716T170000
DTSTAMP:20260424T203523
CREATED:20150716T115301Z
LAST-MODIFIED:20160302T093111Z
UID:2069-1437033600-1437066000@www.fundacionnaturgy.org
SUMMARY:III ciclo. Encontrar agente o importador: Búsqueda\, identificación y negociación. Vigo
DESCRIPTION:Buenos agentes comerciales\, importadores y distribuidores son las figuras más deseadas por las pymes y el resultado de esta búsqueda puede marcar un antes y un después en la expansión internacional. Pero\, para llevar a buen término esta tarea\, hay que conocer los criterios clave de selección\, saber identificar las fuentes de información\, usar los medios financieros idóneos\, conocer los riesgos legales y\, finalmente\, saber negociar con interlocutores de otros orígenes y culturas.
URL:https://www.fundacionnaturgy.org/actividad/iii-ciclo-encontrar-agente-o-importador-busqueda-identificacion-y-negociacion-vigo/
LOCATION:Club Financiero\, Vigo \, España
ATTACH;FMTTYPE=image/jpeg:https://www.fundacionnaturgy.org/wp-content/uploads/2015/12/logo-primera-exportacion-1.jpg
END:VEVENT
BEGIN:VEVENT
DTSTART;TZID=Europe/Madrid:20150717T080000
DTEND;TZID=Europe/Madrid:20150717T170000
DTSTAMP:20260424T203523
CREATED:20150717T114901Z
LAST-MODIFIED:20160301T120142Z
UID:2058-1437120000-1437152400@www.fundacionnaturgy.org
SUMMARY:III ciclo. Encontrar agente o importador: Búsqueda\, identificación y negociación. A Coruña
DESCRIPTION:Buenos agentes comerciales\, importadores y distribuidores son las figuras más deseadas por las pymes y el resultado de esta búsqueda puede marcar un antes y un después en la expansión internacional. Pero\, para llevar a buen término esta tarea\, hay que conocer los criterios clave de selección\, saber identificar las fuentes de información\, usar los medios financieros idóneos\, conocer los riesgos legales y\, finalmente\, saber negociar con interlocutores de otros orígenes y culturas.
URL:https://www.fundacionnaturgy.org/actividad/iii-ciclo-encontrar-agente-o-importador-busqueda-identificacion-y-negociacion-a-coruna/
LOCATION:Museo de Arte Contemporáneo\, A Coruña \, España
ATTACH;FMTTYPE=image/jpeg:https://www.fundacionnaturgy.org/wp-content/uploads/2015/12/logo-primera-exportacion-1.jpg
END:VEVENT
BEGIN:VEVENT
DTSTART;TZID=Europe/Madrid:20150720T080000
DTEND;TZID=Europe/Madrid:20150720T170000
DTSTAMP:20260424T203523
CREATED:20150720T114502Z
LAST-MODIFIED:20160301T115903Z
UID:2047-1437379200-1437411600@www.fundacionnaturgy.org
SUMMARY:Taller práctico: Elaboración de mi Plan de Exportación
DESCRIPTION:Cada empresario trabajará sobre su propio proyecto guiado por el ponente. Esta aproximación\, totalmente práctica y real\, no pretende transmitir conocimientos teóricos o académicos sino que cada participante elaborará el plan de exportación de su propia pyme. Cada parte del proceso se inicia con la explicación de las bases\, para entrar\, a continuación\, en la elaboración propiamente dicha\, pudiendo interactuar estrechamente con el ponente gracias al grupo reducido de participantes.
URL:https://www.fundacionnaturgy.org/actividad/taller-practico-elaboracion-de-mi-plan-de-exportacion/
LOCATION:Foment del Treball Nacional
ATTACH;FMTTYPE=image/jpeg:https://www.fundacionnaturgy.org/wp-content/uploads/2015/12/logo-primera-exportacion-1.jpg
END:VEVENT
END:VCALENDAR