BEGIN:VCALENDAR
VERSION:2.0
PRODID:-//Fundación Naturgy - ECPv5.14.0.4//NONSGML v1.0//EN
CALSCALE:GREGORIAN
METHOD:PUBLISH
X-WR-CALNAME:Fundación Naturgy
X-ORIGINAL-URL:https://www.fundacionnaturgy.org
X-WR-CALDESC:Events for Fundación Naturgy
REFRESH-INTERVAL;VALUE=DURATION:PT1H
X-Robots-Tag:noindex
X-PUBLISHED-TTL:PT1H
BEGIN:VTIMEZONE
TZID:Europe/Madrid
BEGIN:DAYLIGHT
TZOFFSETFROM:+0100
TZOFFSETTO:+0200
TZNAME:CEST
DTSTART:20150329T010000
END:DAYLIGHT
BEGIN:STANDARD
TZOFFSETFROM:+0200
TZOFFSETTO:+0100
TZNAME:CET
DTSTART:20151025T010000
END:STANDARD
END:VTIMEZONE
BEGIN:VEVENT
DTSTART;TZID=Europe/Madrid:20150928T080000
DTEND;TZID=Europe/Madrid:20151002T170000
DTSTAMP:20260424T174006
CREATED:20151215T120707Z
LAST-MODIFIED:20151215T123315Z
UID:1978-1443427200-1443805200@www.fundacionnaturgy.org
SUMMARY:Becas para formación en el Programa Primera Exportación de la Fundación Gas Natural Fenosa
DESCRIPTION:Con estos fines\, la Fundación convoca 15 becas de formación en exportación dirigidas a empresarios de pequeñas y medianas empresas y a profesionales independientes\, de cualquier sector\, a realizar en la sede de la Barcelona School of Management de l’Institut d’Educació Contínua de la Universidad Pompeu Fabra de Barcelona. \nLa formación tendrá lugar desde el 28 de septiembre al 2 de octubre\, ambos incluidos. Estas becas\, de carácter multisectorial\, tienen por objeto contribuir de manera determinante en la formación de los empresarios PyME y profesionales independientes para afianzar las bases de la expansión internacional de sus empresas. Los becados podrán participar en un curso de nivel postgrado en negocios internacionales impartido por los profesionales más destacados del Máster en Negocios con América Latina de dicha Universidad. Además\, coincidirán con empresarios argentinos inscritos en el Programa Primera Exportación en Argentina y que participarán también en las jornadas en Barcelona\, otorgando la posibilidad de crear networkingy establecer nuevas alianzas. \nLa formación está becada al 100%; siendo los otros gastos (desplazamiento\, manutención\, alojamiento…) por cuenta de cada participante. \nTodas las candidaturas serán evaluadas a partir de la documentación aportada en este Descargar formulario. En el caso de ser seleccionado/a\, la Fundación contactará con el/la becada para comunicárselo. \nOtros datos de interés: \n¿Quién puede participar? Empresarios PyMEs\, de cualquier sector\, profesionales independientes y particulares radicados en España. \nFecha límite para la presentación de solicitudes: jueves 9 de julio 2015 \nFecha de notificación a los becados: viernes\, 10 de julio 2015 \nSe entregará un certificado oficial emitido por la Barcelona School of Management de l’Insititut d’Educació Contínua de la Universidad Pompeu Fabra que acredite la participación y aprovechamiento de la formación. \nCoordinadores:\n\nLic. Pablo Furnari – Director Ejecutivo Programa Primera Exportación Argentina. \nSr. Emilio Segura – Director Ejecutivo Programa Primera Exportación España. \nDr. Carles Murillo Fort – Director del Máster en Negocios Internacionales con especialización en América Latina del Barcelona School of Management. \n  \n 
URL:https://www.fundacionnaturgy.org/actividad/becas-para-formacion-en-el-programa-primera-exportacion-de-la-fundacion-gas-natural-fenosa/
LOCATION:BARCELONA SCHOOL OF MANAGEMENT
ATTACH;FMTTYPE=image/jpeg:https://www.fundacionnaturgy.org/wp-content/uploads/2015/12/logo-primera-exportacion-1.jpg
END:VEVENT
BEGIN:VEVENT
DTSTART;TZID=Europe/Madrid:20151001T080000
DTEND;TZID=Europe/Madrid:20151001T170000
DTSTAMP:20260424T174006
CREATED:20150902T111330Z
LAST-MODIFIED:20161011T094808Z
UID:1990-1443686400-1443718800@www.fundacionnaturgy.org
SUMMARY:Encontrar agente o importador: búsqueda identificación\, y negociación. Barcelona
DESCRIPTION:Buenos agentes comerciales\, importadores y distribuidores son las figuras más deseadas por las pymes y el resultado de esta búsqueda puede marcar un antes y un después en la expansión internacional. Pero\, para llevar a buen término esta tarea\, hay que conocer los criterios clave de selección\, saber identificar las fuentes de información\, usar los medios financieros idóneos\, conocer los riesgos legales y\, finalmente\, saber negociar con interlocutores de otros orígenes y culturas.
URL:https://www.fundacionnaturgy.org/actividad/encontrar-agente-o-importador-busqueda-identificacion-y-negociacion-barcelona/
LOCATION:Recinto sin nombre\, Barcelona 
ATTACH;FMTTYPE=image/jpeg:https://www.fundacionnaturgy.org/wp-content/uploads/2015/12/logo-primera-exportacion-1.jpg
END:VEVENT
BEGIN:VEVENT
DTSTART;VALUE=DATE:20151005
DTEND;VALUE=DATE:20151006
DTSTAMP:20260424T174006
CREATED:20151005T081622Z
LAST-MODIFIED:20160301T114342Z
UID:2372-1444003200-1444089599@www.fundacionnaturgy.org
SUMMARY:El gas natural y la seguridad energética de Europa
DESCRIPTION:Uno de los grandes retos de la Unión Europea que afecta de forma decisiva a la competitividad económica y a la calidad de vida de sus ciudadanos es la disponibilidad\, la seguridad de suministro y el precio de la energía. En este contexto\, el gas natural ofrece a la Unión Europea una gran oportunidad. \nEn el seminario se propondrán iniciativas que contribuirán en la Unión Europea a disminuir la dependencia energética\, aumentar la garantía de suministro\, reducir el precio del gas natural y avanzar de forma equilibrada en el respeto al medio ambiente. Se tratarán cuatros aspectos claves para impulsar estas iniciativas: el desarrollo de la red de comercio de GNL a través del tráfico marítimo; el refuerzo de las conexiones gasistas internacionales como es el caso de España con el resto de Europa; el aumento de la extracción de gas natural propio y el desarrollo de la extracción de shale gas a través de tecnologías de fractura hidráulica. \nSesión inaugural\n8:30 h Recepción de participantes y entrega de documentación\n9:00 h Sesión inaugural\nD. Salvador Gabarró\nPresidente\, Gas Natural Fenosa.\nD. José Manuel Soria\nMinistro de Industria\, Energía y Turismo\, Gobierno de España.\nHble. Sr. D. Felip Puig\nConsejero de Empresa y Empleo\, Generalitat de Catalunya.\nD. Miguel Arias Cañete\nComisario de Política Climática y Energía\, Comisión Europea. \n9:15 h Conferencia inaugural\nD. Miguel Arias Cañete\nComisario de Política Climática y Energía\, Comisión Europea. \nPonencias\n9:45 h Las infraestructuras del gas natural en Europa. \nLa visión de Portugal\nDña. María José Clara\nDirectora general\, Redes Energéticas Nacionais.\nLa visión de España\nD. Antonio Llardén \nPresidente\, Enagás. \nLa visión de Francia\nDña. Monique Delamare\nPresidenta\, TIGF Investissements.\nModerador\nD. Antoni Peris\nPresidente\, Sedigas. \n11:00 h Pausa café \n11:30 h El mercado del gas natural\nLas grandes tendencias del mercado\nD. Rodrigo Pinto Scholbach\nDepartamento de Gas\, Carbón y Energía\, Agencia Internacional de la Energía.\nLa visión del productor de gas natural\nD. Isa M. Inuwa\nDirector general adjunto / Director ejecutivo\, Nigeria LNG.\nDña. Meg Gentle\nVice Presidenta ejecutiva de Marketing\, Cheniere.\nLa visión de la empresa industrial\nD. Antón Valero\nPresidente\, Dow Chemical Ibérica. Presidente\, FEIQUE.\nModerador\nD. Jose María Egea\nDirector general de Planificación Energética\, Gas Natural Fenosa. \n13:15 h Conferencia de clausura\nEl punto de vista de las grandes empresas energéticas europeas.\nD. Rafael Villaseca\nConsejero delegado\, Gas Natural Fenosa.\nAgrupación de Grandes\nEmpresas Energéticas Europeas.\nModerador\nD. Martí Solà\nDirector general\, Fundación Gas Natural Fenosa. \n13:45 h Fin del seminario
URL:https://www.fundacionnaturgy.org/actividad/el-gas-natural-y-la-seguridad-energetica-de-europa/
LOCATION:Petit Palau – Palau de la Música Catalana\, C/ Palau de la Música s/n\, Barcelona\, 08003
ATTACH;FMTTYPE=image/jpeg:https://www.fundacionnaturgy.org/wp-content/uploads/2015/12/DSC9858SEMINTER1-scaled.jpg
END:VEVENT
BEGIN:VEVENT
DTSTART;VALUE=DATE:20151008
DTEND;VALUE=DATE:20151009
DTSTAMP:20260424T174006
CREATED:20151008T075142Z
LAST-MODIFIED:20160301T114106Z
UID:2345-1444262400-1444348799@www.fundacionnaturgy.org
SUMMARY:El gas natural en Menorca: una nueva energía
DESCRIPTION:El gas natural llegará a la isla de Menorca en el año 2016. Este hecho abre para los ciudadanos\, empresas\, administración pública y entidades de todo tipo una serie de oportunidades. De ahí que la Consejería de Territorio\, Energía y Movilidad del Govern de les Illes Balears y la Fundación Gas Natural Fenosa hayan creído oportuno organizar este seminario que informará en primer lugar sobre las características del gas natural\, el proceso de llegada\, el desarrollo\, las ventajas económicas\, ambientales\, tecnológicas y sociales de este combustible. Por otro lado\, se detallarán las posibilidades que tiene el gas natural de ser usado para diversas finalidades: en el hogar\, en los hoteles\, en los centros comerciales y en los vehículos de transporte\, así como que es el combustible fósil que mejor combina con las energías renovables. \nPrograma\n8:30 h Recepción de participantes y entrega de documentación \n9:00 h Sesión inaugural\nD. Martí Solà\nDirector general\,\nFundación Gas Natural Fenosa.\nHble. Sr. Joan Boned\nConsejero de Territorio\,\nEnergía y Movilidad\,\nGovern de les Illes Balears.\nHble. Sra. Maite Salord\nPresidenta\,\nConsell Insular de Menorca. \n9:30 h ¿Qué es el gas natural? Los usos del gas natural. El gas natural en el mundo. Las ventajas operativas\, económicas y ambientales del gas natural\nD. Jesús Hernández Hurtado\nUnidad Oferta/Productos Mercado Gran Consumo y Nueva Edificación\,\nGas Natural Distribución. \n10:00 h El gas natural en España. El desarrollo del gas natural en la isla de Menorca\nD. Juan Manuel Belda\nDirector de Nuevas Poblaciones\ne Infraestructuras\,\nGas Natural Distribución. \n10:20 h La climatización de viviendas con gas natural\nD. José Montero\nDirección de Cataluña y Baleares\,\nSaunier Duval. \n10:50 h Coloquio \n11:05 h Pausa café \n11:35 h El gas natural en el sector terciario (hoteles\, hospitales\, oficinas\, edificios públicos)\nD. Antoni Vila\nCabot Proyectos SLP. \n12:05 h El gas natural en los vehículos de transporte\nD. Juan Ángel Terrón\nDirector de Ingeniería y Medio Ambiente\,\nEmpresa Municipal de Transportes de Madrid. \n12:35 h La hibridación del gas natural con las energías renovables\nD. Josep Lluís Lloret Soler\nDirector de Mercado Terciario y Soluciones Energéticas\,\nGas Natural Fenosa. \n13:05 h La política del Govern Balear para la introducción del gas natural en las Islas\nD. Joan Groizard\nDirector general de Energía y Cambio Climático\,\nConsejería de Territorio\, Energía y Movilidad\,\nGovern de les Illes Balears. \n13:35 h Coloquio \n13:50 h Final del Seminario
URL:https://www.fundacionnaturgy.org/actividad/el-gas-natural-en-menorca-una-nueva-energia/
LOCATION:Ateneo de Mahón – Salón de actos\, Sa Rovellada de Dalt\, 25\, Mahón (Menorca)\, 07703 
ATTACH;FMTTYPE=image/jpeg:https://www.fundacionnaturgy.org/wp-content/uploads/2015/12/PSR_2107menorca1-scaled.jpg
END:VEVENT
BEGIN:VEVENT
DTSTART;VALUE=DATE:20151029
DTEND;VALUE=DATE:20151030
DTSTAMP:20260424T174006
CREATED:20151029T165956Z
LAST-MODIFIED:20160301T113649Z
UID:2316-1446076800-1446163199@www.fundacionnaturgy.org
SUMMARY:El biogás: Retos y oportunidades
DESCRIPTION:El biogás es un combustible obtenido a través de procesos de degradación de la materia orgánica de origen animal y vegetal en condiciones anaerobias. Este proceso de conversión de un residuo en un recurso energético ha empezado a desarrollarse en algunos países de Europa y hoy empieza su implantación en España. En la primera parte del seminario se describen los procesos de concentración y purificación «upgrading» del biogás\, la gasificación termoquímica de la biomasa y la obtención del biometano a partir del gas de síntesis. La segunda parte de la jornada se concentra en la práctica del aprovechamiento y tratamiento del biogás de vertedero y de plantas depuradoras de aguas residuales en la Comunidad de Madrid. También se profundiza en las técnicas de medición y de control de los parámetros exigidos a esta nueva fuente. \nPrograma\n8:30 h Recepción de participantes y entrega de documentación \n9:00 h Sesión inaugural\nD. Martí Solà\nDirector general\,\nFundación Gas Natural Fenosa.\nExcmo. Sr. D. Jaime González Taboada\nConsejero de Medio Ambiente\, Administración Local y Ordenación del Territorio\,\nComunidad de Madrid. \n9:15 h El biogás y su inyección a la red: panorama global\nDña. Piedad Martínez Gonzalo\nGas Natural Fenosa Engineering. \n9:45 h Línea 1. El “upgrading” o concentración y purificación del biogás de vertedero\, ganadero o de EDAR en gas metano. Casos prácticos\nD. Miquel Torrente\nGrupo Hera. \n10:15 h Línea 2. La gasificación termo-química de la biomasa. El biometano a partir del gas de síntesis: situación y perspectivas\nD. Javier Gil Barnó\nDepartamento de Biomasa\,\nCentro Nacional de Energías Renovables (CENER). \n10:45 h Coloquio \n11:15 h Pausa café \n11:45 h El biogás en la práctica (1): el aprovechamiento del gas de vertedero y de plantas depuradoras de aguas residuales en Madrid\nD. José Luis Cifuentes\nJefe de Departamento de Promoción e Información\,\nDirección General del Parque T. de Valdemingómez\,\nÁrea de Gobierno de Medio Ambiente y Movilidad.\nD. Miguel Ángel Gálvez\nSubdirector de Depuración y Medio Ambiente\,\nCanal de Isabel II Gestión S.A. \n12:45 h El biogás en la práctica (2): las técnicas de medición y de control de los parámetros exigidos\nD. Joan R. Gibert Sabaté\nPresidente\,\nIngeniería Analítica. \n13:15 h Coloquio \n13:45 h Fin del seminario
URL:https://www.fundacionnaturgy.org/actividad/el-biogas-retos-y-oportunidades-2/
LOCATION:Sede de Gas Natural Fenosa Salón de actos\, Avenida de San Luis\, 77 \, Madrid\, 28033
ATTACH;FMTTYPE=image/jpeg:https://www.fundacionnaturgy.org/wp-content/uploads/2015/12/0LE_7807bio5-scaled.jpg
END:VEVENT
END:VCALENDAR