BEGIN:VCALENDAR
VERSION:2.0
PRODID:-//Fundación Naturgy - ECPv5.14.0.4//NONSGML v1.0//EN
CALSCALE:GREGORIAN
METHOD:PUBLISH
X-WR-CALNAME:Fundación Naturgy
X-ORIGINAL-URL:https://www.fundacionnaturgy.org
X-WR-CALDESC:Events for Fundación Naturgy
REFRESH-INTERVAL;VALUE=DURATION:PT1H
X-Robots-Tag:noindex
X-PUBLISHED-TTL:PT1H
BEGIN:VTIMEZONE
TZID:Europe/Madrid
BEGIN:DAYLIGHT
TZOFFSETFROM:+0100
TZOFFSETTO:+0200
TZNAME:CEST
DTSTART:20150329T010000
END:DAYLIGHT
BEGIN:STANDARD
TZOFFSETFROM:+0200
TZOFFSETTO:+0100
TZNAME:CET
DTSTART:20151025T010000
END:STANDARD
END:VTIMEZONE
BEGIN:VEVENT
DTSTART;TZID=Europe/Madrid:20151201T183000
DTEND;TZID=Europe/Madrid:20151201T210000
DTSTAMP:20260424T210144
CREATED:20151201T173046Z
LAST-MODIFIED:20160202T113025Z
UID:2231-1448994600-1449003600@www.fundacionnaturgy.org
SUMMARY:Presentación del libro “La creación de valor compartido en el sector energético 25 casos prácticos”
DESCRIPTION:Presentación del libro «La creación de valor compartido en el sector energético. 25 casos prácticos» de Josep M. Palau\, responsable de proyectos de l’ Estudi Ramon Folch i Associats. En él se evalua el concepto y la aplicabilidad de las estrategias de “creación de valor compartido” y se presentan 25 estudios de casos del desarrollo de estas políticas en el sector energético. \nPrograma del acto:\n18:30 h. D. Martí Solà\, director general de la Fundación Gas Natural Fenosa.\n18:45 h. D. José Manuel Morán\, vicepresidente del Capítulo Español del Club de Roma.\n19:00 h.\nD. José Luis Blasco\, socio responsable del Área de Cambio Climático y Sostenibilidad de KPMG España.\n19:15 h. D. Josep M. Palau\, jefe de proyectos\, Estudi Ramon Folch i Associats.
URL:https://www.fundacionnaturgy.org/actividad/presentacion-del-libro-la-creacion-valor-compartido-sector-energetico-25-casos-practicos/
LOCATION:Sede de Gas Natural Fenosa\, Avenida América\, 38\, Madrid
ATTACH;FMTTYPE=image/jpeg:https://www.fundacionnaturgy.org/wp-content/uploads/2015/12/0LE_5321_1-scaled.jpg
END:VEVENT
BEGIN:VEVENT
DTSTART;TZID=Europe/Madrid:20151210T080000
DTEND;TZID=Europe/Madrid:20151210T170000
DTSTAMP:20260424T210144
CREATED:20151115T105124Z
LAST-MODIFIED:20161011T102454Z
UID:1965-1449734400-1449766800@www.fundacionnaturgy.org
SUMMARY:Encontrar agente o importador: búsqueda\, identificación y negociación. Logroño
DESCRIPTION:Buenos agentes comerciales\, importadores y distribuidores son las figuras más deseadas por las PYMES y el resultado de esta búsqueda puede marcar un antes y un después en la expansión internacional. Pero\, para llevar a buen término esta tarea\, hay que conocer los criterios clave de selección\, saber identificar las fuentes de información\, usar los medios financieros idóneos\, conocer los riesgos legales y\, finalmente\, saber negociar con interlocutores de otros orígenes y culturas.
URL:https://www.fundacionnaturgy.org/actividad/encontrar-agente-o-importador-busqueda-identificacion-y-negociacion-logrono/
LOCATION:Centro Tecnológico de La Rioja\, Av. Zaragoza\, 21 \, Logroño\, 26071
ATTACH;FMTTYPE=image/jpeg:https://www.fundacionnaturgy.org/wp-content/uploads/2015/12/3-1.jpg
END:VEVENT
END:VCALENDAR