BEGIN:VCALENDAR
VERSION:2.0
PRODID:-//Fundación Naturgy - ECPv5.14.0.4//NONSGML v1.0//EN
CALSCALE:GREGORIAN
METHOD:PUBLISH
X-WR-CALNAME:Fundación Naturgy
X-ORIGINAL-URL:https://www.fundacionnaturgy.org
X-WR-CALDESC:Events for Fundación Naturgy
REFRESH-INTERVAL;VALUE=DURATION:PT1H
X-Robots-Tag:noindex
X-PUBLISHED-TTL:PT1H
BEGIN:VTIMEZONE
TZID:Europe/Madrid
BEGIN:DAYLIGHT
TZOFFSETFROM:+0100
TZOFFSETTO:+0200
TZNAME:CEST
DTSTART:20160327T010000
END:DAYLIGHT
BEGIN:STANDARD
TZOFFSETFROM:+0200
TZOFFSETTO:+0100
TZNAME:CET
DTSTART:20161030T010000
END:STANDARD
END:VTIMEZONE
BEGIN:VEVENT
DTSTART;VALUE=DATE:20160402
DTEND;VALUE=DATE:20160403
DTSTAMP:20260426T043527
CREATED:20160322T150850Z
LAST-MODIFIED:20160322T153936Z
UID:7039-1459555200-1459641599@www.fundacionnaturgy.org
SUMMARY:Vet aquí Sabadell
DESCRIPTION:Diferentes sesiones con cuentacuentos\, que convertirán Sabadell durante un día en la ciudad del cuento. Los relatos y la fantasía estarán presentes en la Plaza del Gas. \nDirección del Festival: Anna Fité en colaboración con LaSala\, Petit Sabadell y el Museo del Gas. \nActividad gratuita abierta a todos los públicos. \nMás información al 934 129 640 o  museugasfgnf@gasnaturalfenosa.com.
URL:https://www.fundacionnaturgy.org/actividad/vet-aqui-sabadell/
LOCATION:Plaza del Gas\, Plaza del Gas\, 8 \, Sabadell\, 08201
ATTACH;FMTTYPE=image/jpeg:https://www.fundacionnaturgy.org/wp-content/uploads/2016/03/vet_aquí.jpg
END:VEVENT
BEGIN:VEVENT
DTSTART;TZID=Europe/Madrid:20160403T080000
DTEND;TZID=Europe/Madrid:20160424T170000
DTSTAMP:20260426T043527
CREATED:20160322T153334Z
LAST-MODIFIED:20160322T173954Z
UID:7048-1459670400-1461517200@www.fundacionnaturgy.org
SUMMARY:Vermuts del Embassa’t en el Museo del Gas
DESCRIPTION:En cada sesión disfrutaremos de un concierto en pequeño formato: una ventana a grupos emergentes con unas sugerencias encantadoras para acompañar el vermut. \n– Anna Moliner + Kinsale: Domingo  3 de abril\, a las 12h \n– Ana&Alicia + M.Arnal-M.Bagés: Domingo 10 de abril\, a las 12h \n– Crap Apples  + Les Sueques: Domingo 17 de abril\, a las 12h \n– Marion Harper + Carla Serrat: Domingo 24 de abril\, a las 12h \n  \nFestival Embassa’t \n09\, 10\, 11\, 12 de junio \nVenta de entradas en www.embassat.com y en el Museo del Gas 1 h antes del inicio de las sesiones. Aforo limitado. Actividad coorganizada con SBD Sona Jove. \nPrecio: 5€\, con consumición incluida. Acceso gratuito con el abono del Embassa’t 2016. \nMás información al 934 129 640 o  museugasfgnf@gasnaturalfenosa.com. \n 
URL:https://www.fundacionnaturgy.org/actividad/vermuts-del-embassat-museo-del-gas/
LOCATION:Mirador del Museo del Gas\, Plaza del Gas\, 8 \, Sabadell\, 08201
ATTACH;FMTTYPE=image/jpeg:https://www.fundacionnaturgy.org/wp-content/uploads/2016/03/vermuts-embassat.jpg
END:VEVENT
BEGIN:VEVENT
DTSTART;TZID=Europe/Madrid:20160403T120000
DTEND;TZID=Europe/Madrid:20160403T130000
DTSTAMP:20260426T043527
CREATED:20160322T092953Z
LAST-MODIFIED:20160322T095028Z
UID:6889-1459684800-1459688400@www.fundacionnaturgy.org
SUMMARY:Visita guiada gratuita
DESCRIPTION:Cada primer domingo de mes\, os ofrecemos una visita guiada gratuita que os permitirá descubrir el museo desde una nueva perspectiva. \nNo se permitirá la entrada una vez iniciada la actividad. \nPara esta actividad no es necesario realizar inscripción previa. \nMás información al 934 129 640.
URL:https://www.fundacionnaturgy.org/actividad/visita-guiada-gratuita-al-museo-abril/
LOCATION:Museo del Gas de la Fundación Gas Natural Fenosa\, Plaza del Gas\, 8 \, Sabadell\, 08201
ATTACH;FMTTYPE=image/jpeg:https://www.fundacionnaturgy.org/wp-content/uploads/2016/03/Visita-guiada-museu-e1458638976670.jpg
END:VEVENT
BEGIN:VEVENT
DTSTART;TZID=Europe/Madrid:20160405T083000
DTEND;TZID=Europe/Madrid:20160405T133000
DTSTAMP:20260426T043527
CREATED:20160229T154312Z
LAST-MODIFIED:20160506T112525Z
UID:5516-1459845000-1459863000@www.fundacionnaturgy.org
SUMMARY:Generación eléctrica distribuida y autoconsumo: evaluación técnica y económica\, Pamplona
DESCRIPTION:En el seminario se analizará la estructura interna de la tarifa eléctrica y se realizará una evaluación técnica y económica de la autogeneración y el autoconsumo de la electricidad por parte del cliente final\, tanto con gas natural como con energía solar fotovoltaica. Y finalmente\, se propondran medidas de regulación y ordenación que permitan asegurar un desarrollo equilibrido del autoconsumo\, tanto económico como ambiental.
URL:https://www.fundacionnaturgy.org/actividad/generacion-electrica-distribuida-y-autoconsumo-evaluacion-tecnica-y-economica-pamplona/
LOCATION:Baluarte\, Palacio de Congresos y Auditorio de Navarra\, Plaza de Baluarte \, Pamplona\, Navarra\, España
ATTACH;FMTTYPE=image/jpeg:https://www.fundacionnaturgy.org/wp-content/uploads/2015/12/generica-destacada.jpg
END:VEVENT
BEGIN:VEVENT
DTSTART;TZID=Europe/Madrid:20160407T083000
DTEND;TZID=Europe/Madrid:20160407T140000
DTSTAMP:20260426T043527
CREATED:20160315T105553Z
LAST-MODIFIED:20160506T112339Z
UID:6539-1460017800-1460037600@www.fundacionnaturgy.org
SUMMARY:La energía como oportunidad de empleo y de creación de empresas\, Toledo
DESCRIPTION:El seminario se estructura en dos partes. En la primera se analiza en profundidad la influencia que el coste\, disponibilidad y calidad de la energía tiene en la competitividad internacional. En la segunda parte\, se identifican las oportunidades de empleo y de creación de empresas en cinco áreas clave: la eficiencia energética\, las energías renovables\, el almacenamiento de electricidad y la integración de redes urbanas.
URL:https://www.fundacionnaturgy.org/actividad/la-energia-como-oportunidad-de-empleo-y-de-creacion-de-empresas-toledo/
LOCATION:Palacio de Congresos\, C/ Venancio González\, 24\, Toledo\, 45001\, España
ATTACH;FMTTYPE=image/jpeg:https://www.fundacionnaturgy.org/wp-content/uploads/2015/12/generica-destacada.jpg
END:VEVENT
BEGIN:VEVENT
DTSTART;TZID=Europe/Madrid:20160410T113000
DTEND;TZID=Europe/Madrid:20160410T130000
DTSTAMP:20260426T043527
CREATED:20160322T111143Z
LAST-MODIFIED:20160406T080118Z
UID:6946-1460287800-1460293200@www.fundacionnaturgy.org
SUMMARY:El jardín sostenible
DESCRIPTION:PLAZAS AGOTADAS \nLa actividad está incluida dentro del ciclo de actividades De domingo en el Museo del Gas. \nActividad recomendada para niños de 3 a 12 años. \nAforo limitado. La inscripción se abrirá 15 días antes de la fecha de realización. \nNo se permitirá el acceso a la actividad pasados 5 minutos de su inicio. \nPrecio: 2 €. Gratuito para los miembros del Club CH4. \nMás información al 934 129 640 o  museugasfgnf@gasnaturalfenosa.com.
URL:https://www.fundacionnaturgy.org/actividad/el-jardin-sostenible/
LOCATION:Museo del Gas de la Fundación Gas Natural Fenosa\, Plaza del Gas\, 8 \, Sabadell\, 08201
ATTACH;FMTTYPE=image/jpeg:https://www.fundacionnaturgy.org/wp-content/uploads/2016/03/decorar-macetas.jpg
END:VEVENT
BEGIN:VEVENT
DTSTART;TZID=Europe/Madrid:20160413T080000
DTEND;TZID=Europe/Madrid:20160516T170000
DTSTAMP:20260426T043527
CREATED:20160411T080550Z
LAST-MODIFIED:20160517T153134Z
UID:7912-1460534400-1463418000@www.fundacionnaturgy.org
SUMMARY:Curso Internacional “BECA Primera Exportación PYMES 2016”
DESCRIPTION:Con el fin de dar soporte a las PYMES españolas en su lucha por la competitividad y la internacionalización\, la Fundación convoca 15 becas de formación en exportación dirigidas a empresarios PYME\, a profesionales independientes y autónomos españoles\, de cualquier sector\, a realizar en la sede del Barcelona School of Management de la Universidad Pompeu Fabra de Barcelona del 6 al 10 de junio de 2016. \n\nBases y Convocatoria BECA 2016\nFormulario de solicitud de beca
URL:https://www.fundacionnaturgy.org/actividad/beca-primera-exportacion-pymes-2016/
ATTACH;FMTTYPE=image/jpeg:https://www.fundacionnaturgy.org/wp-content/uploads/2016/04/FOTO-PARA-ACTIVIDAD-DE-LAS-BECAS-2016-e1460026168983.jpg
END:VEVENT
BEGIN:VEVENT
DTSTART;TZID=Europe/Madrid:20160416T173000
DTEND;TZID=Europe/Madrid:20160416T200000
DTSTAMP:20260426T043527
CREATED:20160405T153405Z
LAST-MODIFIED:20160406T090243Z
UID:7650-1460827800-1460836800@www.fundacionnaturgy.org
SUMMARY:Río y la experiencia de volar
DESCRIPTION:La actividad está incluida dentro del ciclo de actividades Tardes de sábado en el Museo del Gas. \nActividad recomendada para niños de 3 a 15 años. \nAforo limitado. La inscripción se abrirá 15 días antes de la fecha de realización. Sólo se considerarán la plazas reservadas\, si se ha realizado el pago de las entradas \nNo se permitirá el acceso a la actividad pasados 5 minutos de su inicio. \nPrecio: 2 €. Gratuito para los miembros del Club CH4. \nMás información al 934 129 640 o  museugasfgnf@gasnaturalfenosa.com.
URL:https://www.fundacionnaturgy.org/actividad/rio-la-experiencia-volar/
LOCATION:Museo del Gas de la Fundación Gas Natural Fenosa\, Plaza del Gas\, 8 \, Sabadell\, 08201
ATTACH;FMTTYPE=image/jpeg:https://www.fundacionnaturgy.org/wp-content/uploads/2016/04/rio.jpg
END:VEVENT
BEGIN:VEVENT
DTSTART;TZID=Europe/Madrid:20160419T083000
DTEND;TZID=Europe/Madrid:20160423T140000
DTSTAMP:20260426T043527
CREATED:20160318T090213Z
LAST-MODIFIED:20160510T100159Z
UID:6768-1461054600-1461420000@www.fundacionnaturgy.org
SUMMARY:Soluciones híbridas con gas natural y calidad del aire\, Valencia
DESCRIPTION:En la primera parte del seminario se analizará la situación actual de la calidad del aire en España. En la segunda parte se expondrán tres alternativas de hibridación: las calderas de condensación a gas combinadas con las bombas de calor eléctricas\, las soluciones mixtas de energía solar térmica y gas natural en edificios y los automóviles a gas natural y eléctricos.
URL:https://www.fundacionnaturgy.org/actividad/soluciones-hibridas-con-gas-natural-y-calidad-del-aire-valencia/
LOCATION:Ayre Hotel Astoria Palace\, Plaza de Rodrigo Botet\, 5\, Valencia\, 46002\, España
ATTACH;FMTTYPE=image/jpeg:https://www.fundacionnaturgy.org/wp-content/uploads/2015/12/generica-destacada.jpg
END:VEVENT
BEGIN:VEVENT
DTSTART;TZID=Europe/Madrid:20160421T090000
DTEND;TZID=Europe/Madrid:20160421T133000
DTSTAMP:20260426T043527
CREATED:20160329T092032Z
LAST-MODIFIED:20160506T080559Z
UID:7198-1461229200-1461245400@www.fundacionnaturgy.org
SUMMARY:Primera Exportación: Un reto asumible para cualquier PYME\, Cartagena
DESCRIPTION:En esta sesión inaugural del Programa Primera Exportación\, en La Región de Murcia\, se ofrecerán las claves para realizar el auto-diagnóstico de las capacidades exportadoras de una Pyme. Se darán las pautas para el control del riesgo financiero\, los métodos de pago con menos riesgo y para la optimización del transporte internacional.
URL:https://www.fundacionnaturgy.org/actividad/primera-exportacion-reto-asumible-cualquier-pyme/
LOCATION:Cámara Oficial de Comercio\, Industria\, Servicios y Navegación de Cartagena\, Muelle Alfonso XII s/n\, Cartagena. Teléfono: 968 50 70 50\, Murcia\, 30201\, España
ATTACH;FMTTYPE=image/jpeg:https://www.fundacionnaturgy.org/wp-content/uploads/2015/12/PPE-activitats-e1459266895516.jpg
END:VEVENT
BEGIN:VEVENT
DTSTART;VALUE=DATE:20160423
DTEND;VALUE=DATE:20160424
DTSTAMP:20260426T043527
CREATED:20160406T081029Z
LAST-MODIFIED:20160406T081029Z
UID:7691-1461369600-1461455999@www.fundacionnaturgy.org
SUMMARY:Celebremos la fiesta de Sant Jordi
DESCRIPTION:A lo largo de la jornada se podrá participar en diferentes talleres\, adquirir libros y cuentos especializados en energía y medio ambiente. \nA las 18.00 h\, la Plaza del Gas acogerá un espectáculo de la compañía El Galliner. \nComo en ediciones anteriores\, participaremos en el Bookcrosing\, con el que bibliotecas de museos y centros de arte y cultura de toda España inundan las ciudades de libros con motivo de la celebración del Día Internacional del Libro. Una acción que hará llegar las publicaciones de la Fundación Gas Natural Fenosa a cualquier punto del mundo. \nActividad gratuita abierta a todos los públicos. \nMás información al 934 129 640 o museugasfgnf@gasnaturalfenosa.com.
URL:https://www.fundacionnaturgy.org/actividad/celebremos-la-fiesta-sant-jordi/
LOCATION:Museo del Gas de la Fundación Gas Natural Fenosa\, Plaza del Gas\, 8 \, Sabadell\, 08201
ATTACH;FMTTYPE=image/jpeg:https://www.fundacionnaturgy.org/wp-content/uploads/2016/04/sant_jordi.jpg
END:VEVENT
BEGIN:VEVENT
DTSTART;TZID=Europe/Madrid:20160424T113000
DTEND;TZID=Europe/Madrid:20160424T130000
DTSTAMP:20260426T043527
CREATED:20160322T112415Z
LAST-MODIFIED:20160322T112415Z
UID:6959-1461497400-1461502800@www.fundacionnaturgy.org
SUMMARY:Construimos un reloj solar
DESCRIPTION:La actividad está incluida dentro del ciclo de actividades De domingo en el Museo del Gas. \nActividad recomendada para niños de 5 a 14 años. \nAforo limitado. La inscripción se abrirá 15 días antes de la fecha de realización. \nNo se permitirá el acceso a la actividad pasados 5 minutos de su inicio. \nPrecio: 2 €. Gratuito para los miembros del Club CH4. \nMás información al 934 129 640 o  museugasfgnf@gasnaturalfenosa.com.
URL:https://www.fundacionnaturgy.org/actividad/construimos-reloj-solar/
LOCATION:Museo del Gas de la Fundación Gas Natural Fenosa\, Plaza del Gas\, 8 \, Sabadell\, 08201
ATTACH;FMTTYPE=image/gif:https://www.fundacionnaturgy.org/wp-content/uploads/2016/03/hora-sol-01.gif
END:VEVENT
END:VCALENDAR