BEGIN:VCALENDAR
VERSION:2.0
PRODID:-//Fundación Naturgy - ECPv5.14.0.4//NONSGML v1.0//EN
CALSCALE:GREGORIAN
METHOD:PUBLISH
X-WR-CALNAME:Fundación Naturgy
X-ORIGINAL-URL:https://www.fundacionnaturgy.org
X-WR-CALDESC:Events for Fundación Naturgy
REFRESH-INTERVAL;VALUE=DURATION:PT1H
X-Robots-Tag:noindex
X-PUBLISHED-TTL:PT1H
BEGIN:VTIMEZONE
TZID:Europe/Madrid
BEGIN:DAYLIGHT
TZOFFSETFROM:+0100
TZOFFSETTO:+0200
TZNAME:CEST
DTSTART:20160327T010000
END:DAYLIGHT
BEGIN:STANDARD
TZOFFSETFROM:+0200
TZOFFSETTO:+0100
TZNAME:CET
DTSTART:20161030T010000
END:STANDARD
END:VTIMEZONE
BEGIN:VEVENT
DTSTART;TZID=Europe/Madrid:20160605T120000
DTEND;TZID=Europe/Madrid:20160605T130000
DTSTAMP:20260425T194651
CREATED:20160322T094312Z
LAST-MODIFIED:20160520T095704Z
UID:6913-1465128000-1465131600@www.fundacionnaturgy.org
SUMMARY:Visita guiada gratuita
DESCRIPTION:Cada primer domingo de mes\, os ofrecemos una visita guiada gratuita que os permitirá descubrir el museo desde una nueva perspectiva. \nNo se permitirá la entrada una vez iniciada la actividad. \nPara esta actividad no es necesario realizar inscripción previa. \nMás información al 934 129 640.
URL:https://www.fundacionnaturgy.org/actividad/visita-guiada-gratuita-junio/
LOCATION:Museo del Gas de la Fundación Gas Natural Fenosa\, Plaza del Gas\, 8 \, Sabadell\, 08201
ATTACH;FMTTYPE=image/jpeg:https://www.fundacionnaturgy.org/wp-content/uploads/2016/03/Visita-guiada-museu-e1458638976670.jpg
END:VEVENT
BEGIN:VEVENT
DTSTART;TZID=Europe/Madrid:20160607T090000
DTEND;TZID=Europe/Madrid:20160607T133500
DTSTAMP:20260425T194651
CREATED:20160520T091735Z
LAST-MODIFIED:20161104T105254Z
UID:10461-1465290000-1465306500@www.fundacionnaturgy.org
SUMMARY:Marketing digital para pymes. Cómo usar internet para crecer\, fortalecerse y exportar. Madrid
DESCRIPTION:Ya no es posible\, para ninguna empresa\, estar al margen del mundo online. Incluso aquellas con productos o servicios más tradicionales  necesitan conocer las reglas básicas del marketing digital para aprovechar su fuerza en el mercado propio o en los de exportación. \nEl seminario quiere ofrecer las técnicas digitales que cualquier pyme debe dominar. Estas claves se vehiculan a través de: la gestión de las redes sociales\, la visibilidad\, la experiencia de navegación en la web\, las tiendas online\, etc. \nLibro de regalo “Marketing de Guerrilla para emprendedores valientes” de Carlos Bravo para los asistentes.
URL:https://www.fundacionnaturgy.org/actividad/marketing-digital-pymes-usar-internet-crecer-fortalecerse-exportar-madrid/
LOCATION:Sede Gas Natural Fenosa\, Av. San Luís\, 77\, Madrid\, Madrid\, 28033\, España
ATTACH;FMTTYPE=image/jpeg:https://www.fundacionnaturgy.org/wp-content/uploads/2016/05/FOTO-PARA-ACTIVIDAD-PPE-MADRID-I-BCNA-7-Y-9-DE-JUNIO-2016-para-que-aparezca-enra-que-salga-en-web-y-mailing-e1463735804936.jpg
END:VEVENT
BEGIN:VEVENT
DTSTART;TZID=Europe/Madrid:20160609T090000
DTEND;TZID=Europe/Madrid:20160609T133500
DTSTAMP:20260425T194651
CREATED:20160520T092601Z
LAST-MODIFIED:20161209T084853Z
UID:10472-1465462800-1465479300@www.fundacionnaturgy.org
SUMMARY:Marketing digital para pymes. Cómo usar internet para crecer\, fortalecerse y exportar. Barcelona
DESCRIPTION:Ya no es posible\, para ninguna empresa\, estar al margen del mundo online. Incluso aquellas con productos o servicios más tradicionales  necesitan conocer las reglas básicas del marketing digital para aprovechar su fuerza en el mercado propio o en los de exportación. \nEl seminario quiere ofrecer las técnicas digitales que cualquier pyme debe dominar. Estas claves se vehiculan a través de: la gestión de las redes sociales\, la visibilidad\, la experiencia de navegación en la web\, las tiendas online\, etc. \nLibro de regalo “Marketing de Guerrilla para emprendedores valientes” de Carlos Bravo para los asistentes.
URL:https://www.fundacionnaturgy.org/actividad/marketing-digital-pymes-usar-internet-crecer-fortalecerse-exportar-barcelona/
LOCATION:Seu Gas Natural Fenosa\, Plaça del Gas\, 1\, Barcelona\, Barcelona\, 08003\, España
ATTACH;FMTTYPE=image/jpeg:https://www.fundacionnaturgy.org/wp-content/uploads/2016/05/FOTO-PARA-ACTIVIDAD-PPE-MADRID-I-BCNA-7-Y-9-DE-JUNIO-2016-para-que-aparezca-enra-que-salga-en-web-y-mailing-e1463735804936.jpg
END:VEVENT
BEGIN:VEVENT
DTSTART;TZID=Europe/Madrid:20160612T113000
DTEND;TZID=Europe/Madrid:20160612T130000
DTSTAMP:20260425T194651
CREATED:20160322T144501Z
LAST-MODIFIED:20160322T144501Z
UID:7000-1465731000-1465736400@www.fundacionnaturgy.org
SUMMARY:Recicla y crea
DESCRIPTION:La actividad está incluida dentro del ciclo de actividades De domingo en el Museo del Gas. \nActividad recomendada para niños de 5 a 14 años. \nAforo limitado. La inscripción se abrirá 15 días antes de la fecha de realización. \nNo se permitirá el acceso a la actividad pasados 5 minutos de su inicio. \nPrecio: 2 €. Gratuito para los miembros del Club CH4. \nMás información al 934 129 640 o  museugasfgnf@gasnaturalfenosa.com.
URL:https://www.fundacionnaturgy.org/actividad/recicla-y-crea/
LOCATION:Museo del Gas de la Fundación Gas Natural Fenosa\, Plaza del Gas\, 8 \, Sabadell\, 08201
ATTACH;FMTTYPE=image/jpeg:https://www.fundacionnaturgy.org/wp-content/uploads/2016/03/robot-e1458650239260.jpg
END:VEVENT
BEGIN:VEVENT
DTSTART;TZID=Europe/Madrid:20160613T090000
DTEND;TZID=Europe/Madrid:20160613T113000
DTSTAMP:20260425T194651
CREATED:20160526T142915Z
LAST-MODIFIED:20160704T142914Z
UID:11313-1465808400-1465817400@www.fundacionnaturgy.org
SUMMARY:Taller práctico: Elaboración de mi Plan de Exportación\, Barcelona
DESCRIPTION:El taller está diseñado para ser un ejercicio real de elaboración de un Plan de Exportación. Cada empresario trabajará sobre su propio proyecto guiado por el ponente. Esta aproximación\, totalmente práctica y real\, no pretende transmitir conocimientos teóricos o académicos sino que cada participante elaborará el plan de exportación de su propia pyme. \nCada parte del proceso se inicia con la explicación de las bases\, para entrar\, a continuación\, en la elaboración propiamente dicha\, pudiendo interactuar estrechamente con el ponente gracias al grupo reducido de participantes.
URL:https://www.fundacionnaturgy.org/actividad/taller-practico-elaboracion-plan-exportacion-barcelona/
LOCATION:Foment del Treball\, C/ Vía Layetana\, 32\, Barcelona\,  08003
ATTACH;FMTTYPE=image/jpeg:https://www.fundacionnaturgy.org/wp-content/uploads/2016/05/FOTO-TALLER-BCNA-13-I-20-DE-JUNY-2016-e1464272940602.jpg
END:VEVENT
BEGIN:VEVENT
DTSTART;TZID=Europe/Madrid:20160615T183000
DTEND;TZID=Europe/Madrid:20160615T200000
DTSTAMP:20260425T194651
CREATED:20160603T100008Z
LAST-MODIFIED:20160606T084246Z
UID:12338-1466015400-1466020800@www.fundacionnaturgy.org
SUMMARY:Visita guiada en clave energética
DESCRIPTION:En el marco de la 12ª Semana de la energía y del cambio climático de Sabadell\, os ofrecemos una visita guiada gratuita en clave energética que os permitirá descubrir el museo desde una nueva perspectiva. \nNo se permitirá la entrada una vez iniciada la actividad. \nEs necesaria la  inscripción previa. \nMás información al 934 129 640.
URL:https://www.fundacionnaturgy.org/actividad/visita-guiada-clave-energetica/
LOCATION:Museo del Gas de la Fundación Gas Natural Fenosa\, Plaza del Gas\, 8 \, Sabadell\, 08201
ATTACH;FMTTYPE=image/jpeg:https://www.fundacionnaturgy.org/wp-content/uploads/2016/06/visita-guiada.jpg
END:VEVENT
BEGIN:VEVENT
DTSTART;TZID=Europe/Madrid:20160616T083000
DTEND;TZID=Europe/Madrid:20160616T140000
DTSTAMP:20260425T194651
CREATED:20160519T080106Z
LAST-MODIFIED:20161013T141622Z
UID:10336-1466065800-1466085600@www.fundacionnaturgy.org
SUMMARY:Competitividad\, energía y medio ambiente en el sector alimentario\, Logroño
DESCRIPTION:Cómo la gestión del diseño de productos\, de generación de energía\, de manufactura eficiente y de valorización de residuos ayuda a la competitividad de la industria alimentaria.
URL:https://www.fundacionnaturgy.org/actividad/competitividad-energia-medio-ambiente-sector-alimentario-logrono/
LOCATION:Riojaforum – Palacio de Congresos y Auditorio de La Rioja\, C/ San Millán\, 25\, Logroño\, La Rioja\, 26004\, España
ATTACH;FMTTYPE=image/jpeg:https://www.fundacionnaturgy.org/wp-content/uploads/2015/12/generica-destacada.jpg
END:VEVENT
BEGIN:VEVENT
DTSTART;TZID=Europe/Madrid:20160618T173000
DTEND;TZID=Europe/Madrid:20160618T200000
DTSTAMP:20260425T194651
CREATED:20160405T154801Z
LAST-MODIFIED:20160520T095825Z
UID:7668-1466271000-1466280000@www.fundacionnaturgy.org
SUMMARY:El artesano de los planetas
DESCRIPTION:Una divertida sesión a través de la música\, que será conducido por la compañía sabadellense Mots de Fusta. \nLa actividad está incluida dentro del ciclo de actividades Tardes de sábado en el Museo del Gas. \nAforo limitado. La inscripción se abrirá 15 días antes de la fecha de realización. \nNo se permitirá el acceso a la actividad pasados 5 minutos de su inicio. \nPrecio: 2 €. Gratuito para los miembros del Club CH4. \nMás información al 934 129 640 o  museugasfgnf@gasnaturalfenosa.com.
URL:https://www.fundacionnaturgy.org/actividad/artesano-los-planetas/
LOCATION:Museo del Gas de la Fundación Gas Natural Fenosa\, Plaza del Gas\, 8 \, Sabadell\, 08201
ATTACH;FMTTYPE=image/jpeg:https://www.fundacionnaturgy.org/wp-content/uploads/2016/04/lartesa-dels-planetes-e1459871266673.jpg
END:VEVENT
BEGIN:VEVENT
DTSTART;TZID=Europe/Madrid:20160620T090000
DTEND;TZID=Europe/Madrid:20160620T120000
DTSTAMP:20260425T194651
CREATED:20160526T155113Z
LAST-MODIFIED:20161108T102759Z
UID:11392-1466413200-1466424000@www.fundacionnaturgy.org
SUMMARY:Taller práctico: Negociación intercultural efectiva para PYMES con vocación internacional\, Barcelona
DESCRIPTION:El taller está diseñado para ser una formación en negociación comercial para PYMES\, atendiendo particularmente los aspectos de interculturalidad que se producen en los negocios de exportación (y no de exportación). Entendemos la interculturalidad como aquel aspecto inherente en toda negociación internacional y/o de exportación y ofreceremos las claves para gestionar esta variable. Que la interculturalidad sea una amenaza o una oportunidad depende en buena medida de la preparación.
URL:https://www.fundacionnaturgy.org/actividad/taller-practico-negociacion-intercultural-efectiva-pera-pymes-vocacion-internacional-barcelona/
LOCATION:Foment del Treball\, C/ Vía Layetana\, 32\, Barcelona\,  08003
ATTACH;FMTTYPE=image/jpeg:https://www.fundacionnaturgy.org/wp-content/uploads/2016/05/FOTO-TALLER-BCNA-13-I-20-DE-JUNY-2016-e1464272940602.jpg
END:VEVENT
BEGIN:VEVENT
DTSTART;TZID=Europe/Madrid:20160621T090000
DTEND;TZID=Europe/Madrid:20160621T134500
DTSTAMP:20260425T194651
CREATED:20160526T130242Z
LAST-MODIFIED:20161102T145027Z
UID:11254-1466499600-1466516700@www.fundacionnaturgy.org
SUMMARY:Primera Exportación: Un reto asumible para cualquier PYME\, Tudela
DESCRIPTION:En esta sesión inaugural del Programa Primera Exportación\, en Navarra\, se ofrecerán las claves para realizar el auto-diagnóstico de las capacidades exportadoras de una Pyme. Se darán las pautas para el control del riesgo financiero\, los métodos de pago con menos riesgo y para la optimización del transporte internacional.
URL:https://www.fundacionnaturgy.org/actividad/primera-exportacion-reto-asumible-cualquier-pyme-tudela/
LOCATION:Mancomunidad de Residuos Sólidos de la Ribera\, Paseo de los Grillos\, 17\, Tudela\, Navarra\, 31500\, España
ATTACH;FMTTYPE=image/jpeg:https://www.fundacionnaturgy.org/wp-content/uploads/2016/05/FOTO-PARA-ACTIVIDAD-PPE-MADRID-I-BCNA-7-Y-9-DE-JUNIO-2016-para-que-aparezca-enra-que-salga-en-web-y-mailing-e1463735804936.jpg
END:VEVENT
BEGIN:VEVENT
DTSTART;TZID=Europe/Madrid:20160626T113000
DTEND;TZID=Europe/Madrid:20160626T113000
DTSTAMP:20260425T194651
CREATED:20160322T145129Z
LAST-MODIFIED:20160322T145129Z
UID:7026-1466940600-1466940600@www.fundacionnaturgy.org
SUMMARY:Háztelo tú
DESCRIPTION:La actividad está incluida dentro del ciclo de actividades De domingo en el Museo del Gas. \nActividad recomendada para niños de 3 a 12 años. \nAforo limitado. La inscripción se abrirá 15 días antes de la fecha de realización. \nNo se permitirá el acceso a la actividad pasados 5 minutos de su inicio. \nPrecio: 2 €. Gratuito para los miembros del Club CH4. \nMás información al 934 129 640 o  museugasfgnf@gasnaturalfenosa.com.
URL:https://www.fundacionnaturgy.org/actividad/haztelo-tu/
LOCATION:Museo del Gas de la Fundación Gas Natural Fenosa\, Plaza del Gas\, 8 \, Sabadell\, 08201
ATTACH;FMTTYPE=image/jpeg:https://www.fundacionnaturgy.org/wp-content/uploads/2016/03/marco-250.jpg
END:VEVENT
BEGIN:VEVENT
DTSTART;TZID=Europe/Madrid:20160627T080000
DTEND;TZID=Europe/Madrid:20160627T170000
DTSTAMP:20260425T194651
CREATED:20160603T102149Z
LAST-MODIFIED:20170419T100814Z
UID:12373-1467014400-1467046800@www.fundacionnaturgy.org
SUMMARY:El gas natural en automóviles: una alternativa para la calidad del aire en México
DESCRIPTION:El seminario informó de las características y niveles de la contaminación del aire en la Ciudad de México y de la contribución del transporte a la misma; de la experiencia internacional de la aplicación del gas natural a automóviles de turismo\, camiones y autobuses; de la transformación de vehículos «estandar» en automóviles a gas natural\, a partir de la experiencia de Estados Unidos y finalmente se dió a conocer la opinión del usuario\, a partir del balance realizado por una gran flota de autobuses que compara los vehículos a gas natural con otros combustibles y sistemas de tracción. \n 
URL:https://www.fundacionnaturgy.org/actividad/gas-natural-automoviles-una-alternativa-la-calidad-del-aire-mexico/
LOCATION:Club de Industriales\, Calle Andrés Bello nº 29. Polanco\, Ciudad de México\, 11550\, México
ATTACH;FMTTYPE=image/jpeg:https://www.fundacionnaturgy.org/wp-content/uploads/2016/06/noticia_solo-imagen.jpg
END:VEVENT
END:VCALENDAR