BEGIN:VCALENDAR
VERSION:2.0
PRODID:-//Fundación Naturgy - ECPv5.14.0.4//NONSGML v1.0//EN
CALSCALE:GREGORIAN
METHOD:PUBLISH
X-WR-CALNAME:Fundación Naturgy
X-ORIGINAL-URL:https://www.fundacionnaturgy.org
X-WR-CALDESC:Events for Fundación Naturgy
REFRESH-INTERVAL;VALUE=DURATION:PT1H
X-Robots-Tag:noindex
X-PUBLISHED-TTL:PT1H
BEGIN:VTIMEZONE
TZID:Europe/Madrid
BEGIN:DAYLIGHT
TZOFFSETFROM:+0100
TZOFFSETTO:+0200
TZNAME:CEST
DTSTART:20160327T010000
END:DAYLIGHT
BEGIN:STANDARD
TZOFFSETFROM:+0200
TZOFFSETTO:+0100
TZNAME:CET
DTSTART:20161030T010000
END:STANDARD
END:VTIMEZONE
BEGIN:VEVENT
DTSTART;TZID=Europe/Madrid:20160901T083000
DTEND;TZID=Europe/Madrid:20160901T193000
DTSTAMP:20260424T230651
CREATED:20160513T114453Z
LAST-MODIFIED:20160905T142057Z
UID:9710-1472718600-1472758200@www.fundacionnaturgy.org
SUMMARY:Globalización\, nacionalización y liberalización de la industria del gas en la Europa Latina (siglos XIX-XXI). Barcelona
DESCRIPTION:El próximo 1 de septiembre\, la Fundación Gas Natural Fenosa y el Proyecto I+D de Excelencia “Origen\, consolidación y evolución de la industria del gas en España (siglos XIX-XXI)” organizan el seminario internacional “Globalización\, nacionalización y liberalización de la industria del gas en la Europa Latina (siglos XIX-XXI)”. \nDesde un perspectiva comparada y con un enfoque interdisciplinar\, tendremos ocasión de asistir al primer encuentro entre expertos en historia del gas de España\, Italia\, Francia\, Portugal y Gran Bretaña que debatirán sobre la evolución histórica de la industria del gas en la Europa Latina en los siglos XIX-XXI. \nInscripción gratuita antes del 20 de agosto de 2016. \nPara más información
URL:https://www.fundacionnaturgy.org/actividad/globalizacion-nacionalizacion-y-liberacion-de-la-industria-del-gas-en-america-latina/
LOCATION:Auditorio de la Fundación Gas Natural Fenosa\, Plaza del Gas\, 8\, Sabadell\, Barcelona\, 08201\, España
ATTACH;FMTTYPE=image/jpeg:https://www.fundacionnaturgy.org/wp-content/uploads/2016/05/seminario-globalizacion-e1463139872896.jpg
END:VEVENT
BEGIN:VEVENT
DTSTART;TZID=Europe/Madrid:20160902T080000
DTEND;TZID=Europe/Madrid:20160905T200000
DTSTAMP:20260424T230651
CREATED:20160617T102400Z
LAST-MODIFIED:20160620T154822Z
UID:15891-1472803200-1473105600@www.fundacionnaturgy.org
SUMMARY:¡Celebramos la Fiesta Mayor de Sabadell!
DESCRIPTION:Programa de actividades \n\n Una aventura por la ciudad\n\nSábado 3 de septiembre\, de 11.30 a 14 h\nDurante la Fiesta Mayor\, las moléculas del Museo del Gas han abandonado las vitrinas y se han esparcido por la ciudad. ¡Participa en una gincana para encontrarlas!\n\n\n\n\nBatucada con energía\n\nSábado 3 de septiembre\, a las 18 h\nVen a la plaza del Gas con una botella\, una garrafa o una lata grande\, que reciclaremos en un instrumento de percusión idóneo para una gran batucada. A continuación\, aprenderemos los ritmos más enérgicos de diversos grupos batuqueros y desafiaremos la percusión y el ritmo.\n\n\n\n\nSarao de verano\, con Rah-mon Roma\n\nDomingo 4 de septiembre\, a las 11.30 h\nEspectáculo de animación infantil en el que repasaremos el amplio repertorio de canciones populares con la ayuda de un conjunto de instrumentos.\n\n\n\n\nVisita guiada a las exposiciones\n\nDomingo 4 de septiembre\, a las 12 h\nVen a conocer el Museo del Gas desde una nueva perspectiva.\n\n\n\n\nCine al aire libre\n\nDomingo 4 de septiembre\, a las 22 h\nEn el marco del Ciclo Gas Natural Fenosa de Cine Itinerante\, se proyectará una película española de reciente estreno en la plaza del Gas. Los asistentes disfrutarán de un encuentro con el director o uno de los protagonistas del largometraje que permitirá descubrir las curiosidades del rodaje.\n\n\n\n\nJornadas de puertas abiertas y horarios especiales durante la Fiesta Mayor de Sabadell\n\nDel sábado 3 al lunes 5 de septiembre\, el Museo del Gas de la Fundación Gas Natural Fenosa permanecerá abierto de 10 a 20 h.\n\n\n\n\nV Concurso de dibujo infantil 2016\n\nDurante toda la Fiesta Mayor\, no dejéis de participar en el concurso de dibujo para niños de 2 a 16 años. ¡Podréis ganar un lote de dibujo y una actividad especial para desarrollar vuestra creatividad en familia!\n\n\n\n  \nActividad para el público general. \nActividades libres\, sin reserva previa. \nPrecio: gratuito \nMás información al 934 129 640 o museogasfgnf@gasnaturalfenosa.com.
URL:https://www.fundacionnaturgy.org/actividad/celebramos-la-fiesta-mayor-sabadell/
LOCATION:Museo del Gas de la Fundación Gas Natural Fenosa\, Plaza del Gas\, 8 \, Sabadell\, 08201
ATTACH;FMTTYPE=image/jpeg:https://www.fundacionnaturgy.org/wp-content/uploads/2016/06/Festa-Major.jpg
END:VEVENT
BEGIN:VEVENT
DTSTART;TZID=Europe/Madrid:20160915T090000
DTEND;TZID=Europe/Madrid:20160915T170000
DTSTAMP:20260424T230651
CREATED:20160805T111911Z
LAST-MODIFIED:20170419T101409Z
UID:18384-1473930000-1473958800@www.fundacionnaturgy.org
SUMMARY:El futuro del mercado liberalizado de la energía eléctrica. Experiencia española y perspectivas en la República Moldova
DESCRIPTION:El seminario abordó la liberalización eléctrica en España\, sus objetivos\, etapas y resultados y la liberalización eléctrica en la República Moldova\, su estado actual\, los planes y requerimientos necesarios para que sea una realidad\, pudiéndose conocer así la situación real y las perspectivas de evolución del sector energético de Moldavia. \n 
URL:https://www.fundacionnaturgy.org/actividad/futuro-del-mercado-liberalizado-la-energia-electrica-experiencia-espanola-perspectivas-la-republica-moldova/
ATTACH;FMTTYPE=image/jpeg:https://www.fundacionnaturgy.org/wp-content/uploads/2016/08/mon-scaled.jpg
END:VEVENT
BEGIN:VEVENT
DTSTART;TZID=Europe/Madrid:20160916T090000
DTEND;TZID=Europe/Madrid:20160916T113000
DTSTAMP:20260424T230651
CREATED:20160706T103844Z
LAST-MODIFIED:20161004T145715Z
UID:16758-1474016400-1474025400@www.fundacionnaturgy.org
SUMMARY:Taller práctico: Elaboración de mi Plan de Exportación
DESCRIPTION:Cada empresario trabajará sobre su propio proyecto guiado por el ponente. Esta aproximación\, totalmente práctica y real\, no pretende transmitir conocimientos teóricos o académicos sino que cada participante elaborará el plan de exportación de su propia pyme. Cada parte del proceso se inicia con la explicación de las bases\, para entrar\, a continuación\, en la elaboración propiamente dicha\, pudiendo interactuar estrechamente con el ponente gracias al grupo reducido de participantes.
URL:https://www.fundacionnaturgy.org/actividad/taller-practico-elaboracion-plan-exportacion/
ATTACH;FMTTYPE=image/jpeg:https://www.fundacionnaturgy.org/wp-content/uploads/2016/07/FOTO-PUBLICACIÓ-TALLER-PPE-BCNA-16-I-23-SETEMBRE-2016-1-scaled.jpg
END:VEVENT
BEGIN:VEVENT
DTSTART;TZID=Europe/Madrid:20160919T083000
DTEND;TZID=Europe/Madrid:20160919T140000
DTSTAMP:20260424T230651
CREATED:20160711T131111Z
LAST-MODIFIED:20161024T144440Z
UID:16887-1474273800-1474293600@www.fundacionnaturgy.org
SUMMARY:Emisiones\, eficiencia energética y gas natural. Barcelona
DESCRIPTION:El seminario consta de dos partes. La primera se centra en  la relación entre eficiencia energética y la reducción de emisiones: se describen las tendencias entre ambos factores en el pasado inmediato y en el futuro\,  destacando el papel de la cogeneración de electricidad y calor.  La segunda analiza cuál puede ser la contribución del uso del gas natural en el transporte terrestre y marítimo a la calidad del aire urbano  y se presentan las alternativas y el punto de vista del ciudadano en la mejora de la movilidad. Todos los ponentes son directivos de empresa y expertos del más alto nivel\, además de contar con la participación del Comisario de Energía y Política Climática de la Comisión Europea\, y del Consejero Delegado de Gas Natural Fenosa.
URL:https://www.fundacionnaturgy.org/actividad/emisiones-eficiencia-energetica-gas-natural-barcelona/
LOCATION:Petit Palau – Palau de la Música Catalana\, C/ Palau de la Música s/n\, Barcelona\, 08003
ATTACH;FMTTYPE=image/jpeg:https://www.fundacionnaturgy.org/wp-content/uploads/2015/12/generica-destacada.jpg
END:VEVENT
BEGIN:VEVENT
DTSTART;TZID=Europe/Madrid:20160921T091500
DTEND;TZID=Europe/Madrid:20160921T133000
DTSTAMP:20260424T230651
CREATED:20160725T093457Z
LAST-MODIFIED:20161108T100054Z
UID:17843-1474449300-1474464600@www.fundacionnaturgy.org
SUMMARY:Marketing digital para pymes. Cómo usar internet para crecer\, fortalecerse y exportar. Vigo
DESCRIPTION:Ya no es posible\, para ninguna empresa\, estar al margen del mundo online. Incluso aquellas con productos o servicios más tradicionales necesitan conocer las reglas básicas del marketing digital para aprovechar su fuerza en el mercado propio o en los de exportación. \nEl seminario quiere ofrecer las técnicas digitales que cualquier pyme debe dominar. Estas claves se vehiculan a través de: la gestión de las redes sociales\, la visibilidad\, la experiencia de navegación en la web\, las tiendas online\, etc. \nLa participación es gratuita\, previa inscripción\, hasta completar el aforo de la sala. \n 
URL:https://www.fundacionnaturgy.org/actividad/marketing-digital-pymes-usar-internet-crecer-fortalecerse-exportar-2/
LOCATION:Círculo de Empresarios de Galicia\, Avenida García Barbón\, 62\, Vigo\, 36201
ATTACH;FMTTYPE=image/jpeg:https://www.fundacionnaturgy.org/wp-content/uploads/2016/07/FOTO-PARA-ACTIVIDAD-PPE-VIGO-A-CORUÑA-21-Y-22-DE-SEPTIEMBRE-2016-para-q...-1-scaled.jpg
END:VEVENT
BEGIN:VEVENT
DTSTART;TZID=Europe/Madrid:20160922T091500
DTEND;TZID=Europe/Madrid:20160922T133000
DTSTAMP:20260424T230651
CREATED:20160725T091620Z
LAST-MODIFIED:20161107T163645Z
UID:17811-1474535700-1474551000@www.fundacionnaturgy.org
SUMMARY:Marketing digital para pymes. Cómo usar internet para crecer\, fortalecerse y exportar. A Coruña
DESCRIPTION:Ya no es posible\, para ninguna empresa\, estar al margen del mundo online. Incluso aquellas con productos o servicios más tradicionales necesitan conocer las reglas básicas del marketing digital para aprovechar su fuerza en el mercado propio o en los de exportación. \nEl seminario quiere ofrecer las técnicas digitales que cualquier pyme debe dominar. Estas claves se vehiculan a través de: la gestión de las redes sociales\, la visibilidad\, la experiencia de navegación en la web\, las tiendas online\, etc. \nLa participación es gratuita\, previa inscripción\, hasta completar el aforo de la sala.
URL:https://www.fundacionnaturgy.org/actividad/marketing-digital-pymes-usar-internet-crecer-fortalecerse-exportar-a-coruna/
LOCATION:Museo de Arte Contemporáneo\, Avenida de Arteixo\, 171 \,  A Coruña\, 15007
ATTACH;FMTTYPE=image/jpeg:https://www.fundacionnaturgy.org/wp-content/uploads/2016/07/FOTO-PARA-ACTIVIDAD-PPE-VIGO-A-CORUÑA-21-Y-22-DE-SEPTIEMBRE-2016-para-q...-scaled.jpg
END:VEVENT
BEGIN:VEVENT
DTSTART;TZID=Europe/Madrid:20160923T090000
DTEND;TZID=Europe/Madrid:20160923T120000
DTSTAMP:20260424T230651
CREATED:20160706T102254Z
LAST-MODIFIED:20170609T074557Z
UID:16749-1474621200-1474632000@www.fundacionnaturgy.org
SUMMARY:Taller práctico: Negociación intercultural efectiva para Pymes con vocación internacional
DESCRIPTION:El taller está diseñado para ser una formación en negociación comercial para Pymes\, atendiendo particularmente los aspectos de interculturalidad que se producen en los negocios de exportación (y no de exportación). Entendemos la interculturalidad como aquel aspecto inherente en toda negociación internacional y/o de exportación y ofreceremos las claves para gestionar esta variable. \nQue la interculturalidad sea una amenaza o una oportunidad depende en buena medida de la preparación.
URL:https://www.fundacionnaturgy.org/actividad/taller-practico-negociacion-intercultural-efectiva-pymes-vocacion-internacional/
ATTACH;FMTTYPE=image/jpeg:https://www.fundacionnaturgy.org/wp-content/uploads/2016/07/FOTO-PUBLICACIÓ-TALLER-PPE-BCNA-16-I-23-SETEMBRE-2016-scaled.jpg
END:VEVENT
BEGIN:VEVENT
DTSTART;TZID=Europe/Madrid:20160923T190000
DTEND;TZID=Europe/Madrid:20160924T190000
DTSTAMP:20260424T230651
CREATED:20160623T112402Z
LAST-MODIFIED:20160909T085847Z
UID:16240-1474657200-1474743600@www.fundacionnaturgy.org
SUMMARY:Tardes de Embassa’t en el Museo del Gas
DESCRIPTION:En las Tardes de Embassa’t crearemos un espacio reposado para reflexionar sobre la escena musical. A través de documentales de género musical y de una propuesta de conciertos\, intercambiaremos puntos de vista entre los que llevamos la música en la sangre. \n\n23 set: Dusminguet i la Patxanga Jonda + concierto de Joan Garriga y Carles Belda\n24 set: Joy Division + sesión DJ Gogh\n\nLa actividad está incluida dentro del ciclo de actividades Tardes de Embassa’t en el Museo del Gas. \nActividad para adultos. \nVenta de entradas en www.embassat.com y en el Museo del Gas 1 h antes del inicio de las sesiones. Aforo limitado. Actividad coorganizada con SBD Sona Jove. \nPrecio: 5€\, con consumición incluida. \nMás información al 934 129 640 o museogasfgnf@gasnaturalfenosa.com. \n 
URL:https://www.fundacionnaturgy.org/actividad/tardes-embassat-museo-del-gas/
ATTACH;FMTTYPE=image/jpeg:https://www.fundacionnaturgy.org/wp-content/uploads/2016/06/Tardes-Embassat.jpg
END:VEVENT
BEGIN:VEVENT
DTSTART;TZID=Europe/Madrid:20160926T080000
DTEND;TZID=Europe/Madrid:20160926T170000
DTSTAMP:20260424T230651
CREATED:20160728T084439Z
LAST-MODIFIED:20170419T090857Z
UID:17970-1474876800-1474909200@www.fundacionnaturgy.org
SUMMARY:La distribución del gas natural en México: Retos y Oportunidades
DESCRIPTION:El seminario informó sobre los principales elementos de la reforma energética en curso en México y sobre el papel que se asigna al gas natural en el nuevo modelo energético del país\, contrastándolos con la realidad que supone una distribución de gas natural todavía muy limitada\, muy inferior a la de otros países de América Latina; realizó la evaluación económica y ambiental del gas natural\, comparado con otras fuentes o alternativas energéticas; planteó los planes de acción y las medidas a emprender para superar los obstáculos actuales y asegurar una rápida y continuada expansión de la distribución de gas natural en México y finalmente\, informó de los servicios de todo tipo que hoy puede brindar el gas natural al cliente final\, considerando los usos tradicionales (uso industrial o residencial) y también los nuevos usos (generación de electricidad y transporte).
URL:https://www.fundacionnaturgy.org/actividad/la-distribucion-del-gas-natural-mexico-retos-oportunidades/
LOCATION:Club de Industriales\, Calle Andrés Bello  nº29 Polanco   \, Ciudad de México\, 11550
ATTACH;FMTTYPE=image/jpeg:https://www.fundacionnaturgy.org/wp-content/uploads/2016/07/pag06-scaled.jpg
END:VEVENT
BEGIN:VEVENT
DTSTART;TZID=Europe/Madrid:20160929T091500
DTEND;TZID=Europe/Madrid:20160929T170000
DTSTAMP:20260424T230651
CREATED:20160915T074502Z
LAST-MODIFIED:20161013T135823Z
UID:20099-1475140500-1475168400@www.fundacionnaturgy.org
SUMMARY:Congreso Digital - Ecommerce para Pymes y Emprendedores. Alicante
DESCRIPTION:El comercio electrónico o eCommerce es la herramienta propia de la era digital y\, además\, un camino de expansión al que ninguna empresa debe sustraerse. \nPero\, como toda herramienta\, requiere destreza en su uso\, conocimientos de su potencialidad\, sus trucos y su interrelación con las otras herramientas del marketing digital. \nDurante las ponencias\, mostraremos las vías de optimización del comercio electrónico que redunden en la competitividad de las pymes y su internacionalización. Ya no es imprescindible firmar acuerdos con distribuidores extranjeros para exportar. Una buena tienda digital puede convertir un proyecto emprendedor en una pyme competitiva y exportadora.
URL:https://www.fundacionnaturgy.org/actividad/congreso-digital-ecommerce-pymes-emprendedores-alicante/
LOCATION:Fundesem Business School\, Calle de los Deportistas Hermanos Torres\, 17\, Alicante\, Alicante \, 3016\, España
ATTACH;FMTTYPE=image/jpeg:https://www.fundacionnaturgy.org/wp-content/uploads/2016/09/FOTO-PARA-ACTIVIDAD-PPE-ALICANTE-29-09-16-Para-que-aparezca-en-web-y-mailing-750.jpg
END:VEVENT
END:VCALENDAR