BEGIN:VCALENDAR
VERSION:2.0
PRODID:-//Fundación Naturgy - ECPv5.14.0.4//NONSGML v1.0//EN
CALSCALE:GREGORIAN
METHOD:PUBLISH
X-WR-CALNAME:Fundación Naturgy
X-ORIGINAL-URL:https://www.fundacionnaturgy.org
X-WR-CALDESC:Events for Fundación Naturgy
REFRESH-INTERVAL;VALUE=DURATION:PT1H
X-Robots-Tag:noindex
X-PUBLISHED-TTL:PT1H
BEGIN:VTIMEZONE
TZID:Europe/Madrid
BEGIN:DAYLIGHT
TZOFFSETFROM:+0100
TZOFFSETTO:+0200
TZNAME:CEST
DTSTART:20160327T010000
END:DAYLIGHT
BEGIN:STANDARD
TZOFFSETFROM:+0200
TZOFFSETTO:+0100
TZNAME:CET
DTSTART:20161030T010000
END:STANDARD
END:VTIMEZONE
BEGIN:VEVENT
DTSTART;TZID=Europe/Madrid:20161103T120000
DTEND;TZID=Europe/Madrid:20161103T170000
DTSTAMP:20260424T230653
CREATED:20160919T143406Z
LAST-MODIFIED:20161104T170518Z
UID:20546-1478174400-1478192400@www.fundacionnaturgy.org
SUMMARY:Visita guiada a las exposiciones
DESCRIPTION:Actividad recomendada para todos los públicos. \nActividades libres\, sin reserva previa. \nPrecio: gratuito \nMás información al 934 129 640 o museugasfgnf@gasnaturalfenosa.com
URL:https://www.fundacionnaturgy.org/actividad/visita-guiada-las-exposiciones-3/
LOCATION:Museo del Gas\, Plaza del Gas\, 8 \, Sabadell\, 08201
ATTACH;FMTTYPE=image/jpeg:https://www.fundacionnaturgy.org/wp-content/uploads/2016/09/IMG_2748-scaled.jpg
END:VEVENT
BEGIN:VEVENT
DTSTART;TZID=Europe/Madrid:20161110T080000
DTEND;TZID=Europe/Madrid:20161111T235500
DTSTAMP:20260424T230653
CREATED:20161027T112442Z
LAST-MODIFIED:20161116T082621Z
UID:22407-1478764800-1478908500@www.fundacionnaturgy.org
SUMMARY:Primer MOOC de Transformación Digital para Pymes
DESCRIPTION:La Fundación Gas Natural Fenosa conjuntamente con IEBS y tthegap presenta este curso online\, abierto y gratuito sobre Transformación Digital con el objetivo de impulsar y acelerar los procesos de cambio y transformación entre las Pymes\, en un entorno donde la transformarse ya no es una opción sino una necesidad estratégica de supervivencia. \nPara más información haga click aquí. \n 
URL:https://www.fundacionnaturgy.org/actividad/primer-mooc-transformacion-digital-pymes/
ATTACH;FMTTYPE=image/jpeg:https://www.fundacionnaturgy.org/wp-content/uploads/2016/10/img_curso_management.jpg
END:VEVENT
BEGIN:VEVENT
DTSTART;TZID=Europe/Madrid:20161110T090000
DTEND;TZID=Europe/Madrid:20161110T230000
DTSTAMP:20260424T230653
CREATED:20161010T133812Z
LAST-MODIFIED:20161125T100119Z
UID:21440-1478768400-1478818800@www.fundacionnaturgy.org
SUMMARY:Marketing digital para pymes. Cómo usar internet para crecer\, fortalecerse y exportar. Zaragoza
DESCRIPTION:Ya no es posible\, para ninguna empresa\, estar al margen del mundo online. Incluso aquellas con productos o servicios más tradicionales\nnecesitan conocer las reglas básicas del marketing digital para aprovechar su fuerza en el mercado propio o en los de exportación.\nEl seminario quiere ofrecer las técnicas digitales que cualquier pyme debe dominar. Estas claves se vehiculan a través de: la gestión\nde las redes sociales\, la visibilidad\, la experiencia de navegación en la web\, las tiendas online\, etc. \nHorario: 9-13.30h \n#FGNFexportación \n 
URL:https://www.fundacionnaturgy.org/actividad/marketing-digital-pymes-usar-internet-crecer-fortalecerse-exportar/
LOCATION:Colegio de Ingenieros Industriales de Aragón y La Rioja\, C/ Coso\, 31\, Zaragoza\, Zaragoza\, 50003 \, España
ATTACH;FMTTYPE=image/jpeg:https://www.fundacionnaturgy.org/wp-content/uploads/2016/09/FOTO-PARA-ACTIVIDAD-PPE-ALICANTE-29-09-16-Para-que-aparezca-en-web-y-mailing-750.jpg
END:VEVENT
BEGIN:VEVENT
DTSTART;TZID=Europe/Madrid:20161111T113000
DTEND;TZID=Europe/Madrid:20161120T170000
DTSTAMP:20260424T230653
CREATED:20160922T112133Z
LAST-MODIFIED:20160922T112133Z
UID:20799-1478863800-1479661200@www.fundacionnaturgy.org
SUMMARY:21a Semana de la Ciencia
DESCRIPTION:Facilitar el acceso a la cultura científica es imprescindible para ser conscientes de la importancia de la investigación y la innovación en el desarrollo de nuestra sociedad. \nPrograma de actividades \nJuguemos con la ciencia \nMartes 15 de noviembre\, a las 17.30 h \nAprenderás qué son los gases a través de pequeños experimentos para disfrutar en familia. \n¡El museo está lleno de ciencia! \nMiércoles 16 de noviembre\, a las 19 h \nDescubrirás la evolución de la energía a través de una visita guiada a las exposiciones. \nBig Van. Científicos sobre ruedas \nViernes 18 de noviembre\, a las 20 h \nDisfrutarás de la ciencia a través de los monólogos humorísticos de este grupo de investigadores. \nLa fiesta de la ciencia\, con Dani Jiménez \nDomingo 20 de noviembre\, a las 11.30 h \nClausuraremos la Semana de la Ciencia con una gran fiesta para sentir la magia de la energía. \nActividad para el público general. \nActividades libres\, sin reserva previa. \nPrecio: gratuito. \nMás información al 934 129 640 o museugasfgnf@gasnaturalfenosa.com.
URL:https://www.fundacionnaturgy.org/actividad/21a-semana-la-ciencia/
LOCATION:Museo del Gas de la Fundación Gas Natural Fenosa\, Plaza del Gas\, 8 \, Sabadell\, 08201
ATTACH;FMTTYPE=image/jpeg:https://www.fundacionnaturgy.org/wp-content/uploads/2016/09/Sin-título-700-500.jpg
END:VEVENT
BEGIN:VEVENT
DTSTART;TZID=Europe/Madrid:20161115T090000
DTEND;TZID=Europe/Madrid:20161115T230000
DTSTAMP:20260424T230653
CREATED:20161026T124147Z
LAST-MODIFIED:20161125T095850Z
UID:22156-1479200400-1479250800@www.fundacionnaturgy.org
SUMMARY:Marketing digital para pymes. Cómo usar internet para crecer\, fortalecerse y exportar. Logroño
DESCRIPTION:Ya no es posible\, para ninguna empresa\, estar al margen del mundo online. Incluso aquellas con productos o servicios más tradicionales\nnecesitan conocer las reglas básicas del marketing digital para aprovechar su fuerza en el mercado propio o en los de exportación.\nEl seminario quiere ofrecer las técnicas digitales que cualquier pyme debe dominar. Estas claves se vehiculan a través de: la gestión\nde las redes sociales\, la visibilidad\, la experiencia de navegación en la web\, las tiendas online\, etc. \nHorario: 9-13h \n#FGNFexportación \n 
URL:https://www.fundacionnaturgy.org/actividad/%ef%bb%bfmarketing-digital-pymes-usar-internet-crecer-fortalecerse-exportar/
LOCATION:Centro Tecnológico de La Rioja\, Av. Zaragoza\, 21\, Logroño\, 26071\, España
ATTACH;FMTTYPE=image/jpeg:https://www.fundacionnaturgy.org/wp-content/uploads/2016/10/marquetingdigital.jpg
END:VEVENT
BEGIN:VEVENT
DTSTART;TZID=Europe/Madrid:20161117T090000
DTEND;TZID=Europe/Madrid:20161117T230000
DTSTAMP:20260424T230653
CREATED:20161020T105755Z
LAST-MODIFIED:20190508T081727Z
UID:21840-1479373200-1479423600@www.fundacionnaturgy.org
SUMMARY:El gas natural en el transporte: una contribución a la descontaminación ambiental. Santiago de Chile
DESCRIPTION:Este seminario constituye una ocasión única para conocer\, de la mano de expertos de primer nivel\, una de las principales alternativas disponibles para asegurar la calidad del aire en las grandes ciudades chilenas. Las emisiones a la atmósfera procedentes de los vehículos de transporte son la causa principal de la contaminación de la ciudad de Santiago de Chile. De ahí que la Fundación Gas Natural Fenosa\, SOFOFA\, AGN\, el Ministerio de Medio Ambiente\, el Ministerio de Transporte\, la Agencia Chilena de Eficiencia Energética\, la Universidad Adolfo Ibáñez y la Cámara Española de Comercio de Chile hayan decidido dedicar este seminario internacional a explorar hasta que punto la sustitución de vehículos a gasolina o diesel por vehículos a gas natural puede contribuir a la mejora de esta situación. \nEn el seminario se expondrá la experiencia de Chile y de España de la aplicación del gas natural a automóviles de turismo\, camiones y autobuses. Asimismo este seminario informará de las características y niveles de la contaminación del aire en la ciudad de Santiago de Chile y de la contribución del transporte a la misma y se darán a conocer los beneficios e implicancias del fondo verde para el cambio climático. Se dirige especialmente a profesionales y representantes de: Empresas del ciclo integral de la energía; Empresas públicas y privadas de servicios de transporte terrestre; Empresas fabricantes\, comercializadoras y de reparación de automóviles\, autobuses y camiones; Empresas constructoras\, de obra civil\, de autopistas e infraestructuras de transporte terrestre; Empresas suministradoras de combustible; Administraciones Públicas responsables de transporte\, energía y medioambiente; Ingenierías especializadas en eficiencia energética y gestión ambiental en el transporte terrestre; Empresas expertas en calidad del aire; Bufetes de abogados especializados en transporte terrestre y universitarios e investigadores especializados en movilidad. \n  \n#FGNFseminarios \n 
URL:https://www.fundacionnaturgy.org/actividad/gas-natural-transporte-una-contribucion-la-descontaminacion-ambiental/
LOCATION:Auditorium SOFOFA\, Av. Andrés Bello Las Condes\, Santiago de Chile\, 2777 \, Chile
CATEGORIES:Chile
ATTACH;FMTTYPE=image/jpeg:https://www.fundacionnaturgy.org/wp-content/uploads/2016/10/SANTIAGO-DE-CHILE.jpg
END:VEVENT
BEGIN:VEVENT
DTSTART;TZID=Europe/Madrid:20161123T083000
DTEND;TZID=Europe/Madrid:20161123T230000
DTSTAMP:20260424T230653
CREATED:20161028T142704Z
LAST-MODIFIED:20161128T160030Z
UID:22530-1479889800-1479942000@www.fundacionnaturgy.org
SUMMARY:Los acuerdos sobre cambio climático entre París y Marrakech: ratificar e implantar. Madrid
DESCRIPTION:Análisis del estado de los acuerdos y de la acción mundial contra el cambio climático\, a pocos días de la Cumbre COP 22 de Marrakech. ¿Qué novedades existen en el terreno de la evidencia científica\, del acuerdo político\, de la respuesta económica\, de los avances tecnológicos y de la implicación de todos los países del mundo\, en especial de los más pobres y vulnerables (entre los que se encuentra la mayoría de África)?. ¿Qué se ha avanzado en la ratificación del Acuerdo de París y en su implementación efectiva? ¿Cuáles son los retos inmediatos de la agenda mundial contra el cambio climático? ¿Cómo afecta a Europa y a España? \nHorario: 9-14h \n#FGNFseminarios \n 
URL:https://www.fundacionnaturgy.org/actividad/los-acuerdos-cambio-climatico-paris-marrakech-ratificar-e-implantar/
LOCATION:Sede de Gas Natural Fenosa – Salón de actos\, Avenida de San Luis\, 77\, Madrid\, 28033\, España
ATTACH;FMTTYPE=image/jpeg:https://www.fundacionnaturgy.org/wp-content/uploads/2016/10/generica-destacada.jpg
END:VEVENT
END:VCALENDAR