BEGIN:VCALENDAR
VERSION:2.0
PRODID:-//Fundación Naturgy - ECPv5.14.0.4//NONSGML v1.0//EN
CALSCALE:GREGORIAN
METHOD:PUBLISH
X-WR-CALNAME:Fundación Naturgy
X-ORIGINAL-URL:https://www.fundacionnaturgy.org
X-WR-CALDESC:Events for Fundación Naturgy
REFRESH-INTERVAL;VALUE=DURATION:PT1H
X-Robots-Tag:noindex
X-PUBLISHED-TTL:PT1H
BEGIN:VTIMEZONE
TZID:Europe/Madrid
BEGIN:DAYLIGHT
TZOFFSETFROM:+0100
TZOFFSETTO:+0200
TZNAME:CEST
DTSTART:20170326T010000
END:DAYLIGHT
BEGIN:STANDARD
TZOFFSETFROM:+0200
TZOFFSETTO:+0100
TZNAME:CET
DTSTART:20171029T010000
END:STANDARD
END:VTIMEZONE
BEGIN:VEVENT
DTSTART;TZID=Europe/Madrid:20170205T120000
DTEND;TZID=Europe/Madrid:20170205T133000
DTSTAMP:20260425T141935
CREATED:20161128T162013Z
LAST-MODIFIED:20161128T162013Z
UID:24889-1486296000-1486301400@www.fundacionnaturgy.org
SUMMARY:Visita guiada a las exposiciones
DESCRIPTION:Actividad recomendada para todos los públicos. \nActividades libres\, sin reserva previa. \nPrecio: gratuito \nMás información al 934 129 640 o museugasfgnf@gasnaturalfenosa.com
URL:https://www.fundacionnaturgy.org/actividad/visita-guiada-las-exposiciones-5/
LOCATION:Museu del Gas Fundació Gas Natural Fenosa\, plaça del Gas 8\, Sabadell\, 08201
ATTACH;FMTTYPE=image/jpeg:https://www.fundacionnaturgy.org/wp-content/uploads/2016/11/visita_museodelgas.jpg
END:VEVENT
BEGIN:VEVENT
DTSTART;TZID=Europe/Madrid:20170208T090000
DTEND;TZID=Europe/Madrid:20170208T140000
DTSTAMP:20260425T141935
CREATED:20170117T124130Z
LAST-MODIFIED:20170302T095620Z
UID:26384-1486544400-1486562400@www.fundacionnaturgy.org
SUMMARY:La eficiencia energética en hospitales y centros sanitarios. Sevilla
DESCRIPTION:En la primera parte se da una visión general de la estrategia a seguir para mejorar la eficiencia energética en hospitales\, así como la experiencia del Servicio Andaluz de Salud. En la segunda parte\, se expondrán cuatro casos de hospitales andaluces que han girado en torno a cuatro aspectos clave de la mejora de la eficiencia energética: la trigeneración\, el aislamiento/ventilación de edificios\, los sistemas de climatización y el alumbrado. \n  \nHorario: 9 – 14 h. \n  \n#FGNFseminarios \n 
URL:https://www.fundacionnaturgy.org/actividad/la-eficiencia-energetica-hospitales-centros-sanitarios-sevilla/
LOCATION:NH Collection Sevilla\, Avda. Diego Martínez Barrio\, 8 \, Sevilla\, 41013\, España
ATTACH;FMTTYPE=image/jpeg:https://www.fundacionnaturgy.org/wp-content/uploads/2016/11/generica-destacada-1.jpg
END:VEVENT
BEGIN:VEVENT
DTSTART;TZID=Europe/Madrid:20170228T090000
DTEND;TZID=Europe/Madrid:20170228T133000
DTSTAMP:20260425T141936
CREATED:20170203T131959Z
LAST-MODIFIED:20170524T152800Z
UID:27365-1488272400-1488288600@www.fundacionnaturgy.org
SUMMARY:La nueva Industria 4.0: aspectos energéticos y ambientales. Pamplona
DESCRIPTION:El seminario tiene dos partes. En la primera\, se define el concepto de «Industria 4.0»\, se describen las principales tecnologías y los principales cambios que va a plantear la gestión energética y ambiental de las empresas industriales. Se abordará también la transformación de los productos finales en inteligentes. En la segunda parte\, se exponen casos prácticos de la aplicación de estas nuevas tecnologías (sector automovilístico y electrónico). \n  \nHorario: 9 – 13.30 h. \n  \n#FGNFseminarios \n 
URL:https://www.fundacionnaturgy.org/actividad/la-nueva-industria-4-0-aspectos-energeticos-ambientales/
LOCATION:Baluarte\, Palacio de Congresos y Auditorio de Navarra\, Plaza de Baluarte \, Pamplona\, Navarra\, España
ATTACH;FMTTYPE=image/jpeg:https://www.fundacionnaturgy.org/wp-content/uploads/2016/11/generica-destacada-1.jpg
END:VEVENT
END:VCALENDAR