BEGIN:VCALENDAR
VERSION:2.0
PRODID:-//Fundación Naturgy - ECPv5.14.0.4//NONSGML v1.0//EN
CALSCALE:GREGORIAN
METHOD:PUBLISH
X-WR-CALNAME:Fundación Naturgy
X-ORIGINAL-URL:https://www.fundacionnaturgy.org
X-WR-CALDESC:Events for Fundación Naturgy
REFRESH-INTERVAL;VALUE=DURATION:PT1H
X-Robots-Tag:noindex
X-PUBLISHED-TTL:PT1H
BEGIN:VTIMEZONE
TZID:Europe/Madrid
BEGIN:DAYLIGHT
TZOFFSETFROM:+0100
TZOFFSETTO:+0200
TZNAME:CEST
DTSTART:20170326T010000
END:DAYLIGHT
BEGIN:STANDARD
TZOFFSETFROM:+0200
TZOFFSETTO:+0100
TZNAME:CET
DTSTART:20171029T010000
END:STANDARD
END:VTIMEZONE
BEGIN:VEVENT
DTSTART;TZID=Europe/Madrid:20170305T120000
DTEND;TZID=Europe/Madrid:20170305T133000
DTSTAMP:20260425T142119
CREATED:20161128T162553Z
LAST-MODIFIED:20161128T162553Z
UID:24898-1488715200-1488720600@www.fundacionnaturgy.org
SUMMARY:Visita guiada a las exposiciones
DESCRIPTION:Actividad recomendada para todos los públicos. \nActividades libres\, sin reserva previa. \nPrecio: gratuito \nMás información al 934 129 640 o museugasfgnf@gasnaturalfenosa.com
URL:https://www.fundacionnaturgy.org/actividad/visita-guiada-las-exposiciones-6/
LOCATION:Museu del Gas Fundació Gas Natural Fenosa\, plaça del Gas 8\, Sabadell\, 08201
ATTACH;FMTTYPE=image/jpeg:https://www.fundacionnaturgy.org/wp-content/uploads/2016/11/visitaguiada_museodelgas.jpg
END:VEVENT
BEGIN:VEVENT
DTSTART;TZID=Europe/Madrid:20170307T090000
DTEND;TZID=Europe/Madrid:20170307T133000
DTSTAMP:20260425T142119
CREATED:20170210T110326Z
LAST-MODIFIED:20170315T155954Z
UID:27702-1488877200-1488893400@www.fundacionnaturgy.org
SUMMARY:Valencia. Marketing digital para pymes. Cómo usar internet para crecer y exportar
DESCRIPTION:Ya no es posible\, para ninguna empresa\, estar al margen del mundo online. Incluso aquellas con productos o servicios más tradicionales necesitan conocer las reglas básicas del marketing digital para aprovechar su fuerza en el mercado propio o en los de exportación. El seminario quiere ofrecer las técnicas digitales que cualquier pyme debe dominar. Estas claves se vehiculan a través de: la gestión de las redes sociales\, la visibilidad\, la experiencia de navegación en la web\, las tiendas online\, etc. \n  \nHorario: 9 – 13.30 h. \n  \n#FGNFseminarios
URL:https://www.fundacionnaturgy.org/actividad/marketing-digital-pymes-usar-internet-crecer-exportar-valencia/
LOCATION:Cámara Oficial de Comercio\, Industria\, Servicios y Navegación de Valencia\, C/ Del Poeta Querol\, 15\, Valencia\, 46002 
ATTACH;FMTTYPE=image/jpeg:https://www.fundacionnaturgy.org/wp-content/uploads/2016/10/09-Primera-Exportacion-Logroño-FGNF-2016-fotografia-Pablo-Candamio-1-scaled.jpg
END:VEVENT
BEGIN:VEVENT
DTSTART;TZID=Europe/Madrid:20170316T090000
DTEND;TZID=Europe/Madrid:20170316T140000
DTSTAMP:20260425T142119
CREATED:20170215T150353Z
LAST-MODIFIED:20170317T103120Z
UID:27867-1489654800-1489672800@www.fundacionnaturgy.org
SUMMARY:Las cuentas de la energía: tarifas\, impuestos y autoconsumo. Madrid
DESCRIPTION:En la primera parte de la jornada se describe la estructura de las tarifas de gas y electricidad en nuestro país\, así como a qué actividad se destinan los fondos recaudados con los impuestos. En la segunda parte se abordan tres asuntos relacionados con la tarifa energética\, su impacto en la competitividad económica a nivel mundial\, su relevancia en el debate sobre autoconsumo eléctrico y su contribución al déficit público en España. \nLa inscripción a la jornada se cerrará dos días antes y la entrada estará limitada a las personas inscritas. \nHorario: 9 – 14 h. \n#FGNFseminarios
URL:https://www.fundacionnaturgy.org/actividad/las-cuentas-la-energia-tarifas-impuestos-autoconsumo-madrid/
LOCATION:Sede de Gas Natural Fenosa – Salón de actos\, Avenida de San Luis\, 77\, Madrid\, 28033\, España
ATTACH;FMTTYPE=image/jpeg:https://www.fundacionnaturgy.org/wp-content/uploads/2016/11/generica-destacada-1.jpg
END:VEVENT
BEGIN:VEVENT
DTSTART;TZID=Europe/Madrid:20170317T093000
DTEND;TZID=Europe/Madrid:20170317T120000
DTSTAMP:20260425T142119
CREATED:20170227T164604Z
LAST-MODIFIED:20170530T133955Z
UID:28979-1489743000-1489752000@www.fundacionnaturgy.org
SUMMARY:Barcelona. Taller práctico: Elaboración de mi plan de exportación
DESCRIPTION:El taller está diseñado para ser un ejercicio real de elaboración de un plan de exportación. Cada empresario trabajará sobre su propio proyecto guiado por el ponente. Esta aproximación\, totalmente práctica y real\, no pretende transmitir conocimientos teóricos o académicos sino que cada participante elaborará el plan de exportación de su propia pyme. Cada parte del proceso se inicia con la explicación de las bases\, para entrar\, a continuación\, en la elaboración propiamente dicha\, pudiendo interactuar estrechamente con el ponente gracias al grupo reducido de participantes. \n  \nHorario: 9:30 – 12 h. \n 
URL:https://www.fundacionnaturgy.org/actividad/barcelona-taller-practico-elaboracion-plan-exportacion/
LOCATION:Foment del Treball Nacional\, C/ Via Laietana 32\, Barcelona\, 08003\, España
ATTACH;FMTTYPE=image/jpeg:https://www.fundacionnaturgy.org/wp-content/uploads/2016/04/FOTO-PER-PUBLICAR-TALLERS-GALICIA-e1460976332439.jpg
END:VEVENT
BEGIN:VEVENT
DTSTART;TZID=Europe/Madrid:20170330T090000
DTEND;TZID=Europe/Madrid:20170330T133000
DTSTAMP:20260425T142119
CREATED:20170308T164010Z
LAST-MODIFIED:20170616T111820Z
UID:29557-1490864400-1490880600@www.fundacionnaturgy.org
SUMMARY:El almacenamiento de la electricidad. Zaragoza
DESCRIPTION:En el seminario se presenta el libro “El almacenamiento de la electricidad” por parte del autor\, Dr. Joan Ramón Morante\, y se exponen diferentes tecnologías de almacenamiento como los embalses hidráulicos reversibles\, las baterías de ión-litio en automóviles y de altas prestaciones en edificios\, el uso de gas natural como almacén de electricidad (“power to gas”)\, de las oportunidades del Hidrógeno como almacenamiento energético y de las tecnologías de almacenamiento en la Industria. \nHorario: 9 – 13.30 h. \n#FGNFseminarios
URL:https://www.fundacionnaturgy.org/actividad/almacenamiento-la-electricidad-zaragoza/
LOCATION:Silken Reino de Aragón\, C/ Coso\, 80\, Zaragoza\, 50001\, España
ATTACH;FMTTYPE=image/jpeg:https://www.fundacionnaturgy.org/wp-content/uploads/2017/03/generica_mediambient-1-scaled.jpg
END:VEVENT
END:VCALENDAR