BEGIN:VCALENDAR
VERSION:2.0
PRODID:-//Fundación Naturgy - ECPv5.14.0.4//NONSGML v1.0//EN
CALSCALE:GREGORIAN
METHOD:PUBLISH
X-WR-CALNAME:Fundación Naturgy
X-ORIGINAL-URL:https://www.fundacionnaturgy.org
X-WR-CALDESC:Events for Fundación Naturgy
REFRESH-INTERVAL;VALUE=DURATION:PT1H
X-Robots-Tag:noindex
X-PUBLISHED-TTL:PT1H
BEGIN:VTIMEZONE
TZID:Europe/Madrid
BEGIN:DAYLIGHT
TZOFFSETFROM:+0100
TZOFFSETTO:+0200
TZNAME:CEST
DTSTART:20170326T010000
END:DAYLIGHT
BEGIN:STANDARD
TZOFFSETFROM:+0200
TZOFFSETTO:+0100
TZNAME:CET
DTSTART:20171029T010000
END:STANDARD
END:VTIMEZONE
BEGIN:VEVENT
DTSTART;TZID=Europe/Madrid:20170404T090000
DTEND;TZID=Europe/Madrid:20170404T133000
DTSTAMP:20260425T205646
CREATED:20170316T103116Z
LAST-MODIFIED:20210617T113052Z
UID:29869-1491296400-1491312600@www.fundacionnaturgy.org
SUMMARY:Cartagena. Marketing digital para pymes. Cómo usar internet para crecer y exportar
DESCRIPTION:Ya no es posible\, para ninguna empresa\, estar al margen del mundo online. Incluso aquellas con productos o servicios más tradicionales necesitan conocer las reglas básicas del marketing digital para aprovechar su fuerza en el mercado propio o en los de exportación. El seminario quiere ofrecer las técnicas digitales que cualquier pyme debe dominar. Estas claves se vehiculan a través de: la gestión de las redes sociales\, la visibilidad\, la experiencia de navegación en la web\, las tiendas online\, etc. \n  \nHorario: 9 – 13.30 h. \n  \n#FGNFseminarios
URL:https://www.fundacionnaturgy.org/actividad/cartagena-marketing-digital-pymes-usar-internet-crecer-exportar/
LOCATION:Cámara Oficial de Comercio\, Industria\, Servicios y Navegación de Cartagena\, Muelle Alfonso XII s/n\, Cartagena\, Murcia\, 30201\, España
ATTACH;FMTTYPE=image/jpeg:https://www.fundacionnaturgy.org/wp-content/uploads/2016/10/09-Primera-Exportacion-Logroño-FGNF-2016-fotografia-Pablo-Candamio-1-scaled.jpg
END:VEVENT
BEGIN:VEVENT
DTSTART;TZID=Europe/Madrid:20170406T000000
DTEND;TZID=Europe/Madrid:20170406T000000
DTSTAMP:20260425T205646
CREATED:20170315T112337Z
LAST-MODIFIED:20170315T152709Z
UID:29830-1491436800-1491436800@www.fundacionnaturgy.org
SUMMARY:MOOC Email Marketing: Crea una Newsletter y Exporta
DESCRIPTION:[vc_row][vc_column width=»2/3″][vc_column_text]Este MOOC\, impartido por IEBS y en colaboración con la consultora tthegap\, es gratuito y ofrece las herramientas necesarias para que las pymes usen este potente instrumento de crecimiento y expansión de bajo coste. Crearemos la base de datos\, escogeremos el contenido del emailing\, mostraremos cómo medir resultados y las posibilidades relativas a la internacionalización. \n\n[/vc_column_text][/vc_column][vc_column width=»1/3″]Curso a distancia online. Apúntese gratis aquí.[/vc_column][/vc_row]
URL:https://www.fundacionnaturgy.org/actividad/mooc-email-marketing-crea-una-newsletter-exporta/
ATTACH;FMTTYPE=image/jpeg:https://www.fundacionnaturgy.org/wp-content/uploads/2015/12/mooc.jpg
END:VEVENT
BEGIN:VEVENT
DTSTART;TZID=Europe/Madrid:20170427T090000
DTEND;TZID=Europe/Madrid:20170427T134500
DTSTAMP:20260425T205646
CREATED:20170324T134537Z
LAST-MODIFIED:20170427T142254Z
UID:30160-1493283600-1493300700@www.fundacionnaturgy.org
SUMMARY:Energía y agua. Valencia
DESCRIPTION:En la jornada se hablará sobre la importancia de la gestión integrada de la energía y el agua en la Comunidad Valenciana\, se presentará por primera vez el libro de la Fundación Gas Natural Fenosa «Energía y agua» y cinco casos prácticos que muestran la interrelación entre la gestión de la energía y la gestión del agua. \nHorario: 9 – 13:45 h. \n#FGNFseminarios
URL:https://www.fundacionnaturgy.org/actividad/energia-agua-valencia/
LOCATION:Ayre Hotel Astoria Palace\, Plaza de Rodrigo Botet\, 5\, Valencia\, 46002\, España
ATTACH;FMTTYPE=image/jpeg:https://www.fundacionnaturgy.org/wp-content/uploads/2017/03/generica_mediambient-3-scaled.jpg
END:VEVENT
END:VCALENDAR