BEGIN:VCALENDAR
VERSION:2.0
PRODID:-//Fundación Naturgy - ECPv5.14.0.4//NONSGML v1.0//EN
CALSCALE:GREGORIAN
METHOD:PUBLISH
X-WR-CALNAME:Fundación Naturgy
X-ORIGINAL-URL:https://www.fundacionnaturgy.org
X-WR-CALDESC:Events for Fundación Naturgy
REFRESH-INTERVAL;VALUE=DURATION:PT1H
X-Robots-Tag:noindex
X-PUBLISHED-TTL:PT1H
BEGIN:VTIMEZONE
TZID:Europe/Madrid
BEGIN:DAYLIGHT
TZOFFSETFROM:+0100
TZOFFSETTO:+0200
TZNAME:CEST
DTSTART:20180325T010000
END:DAYLIGHT
BEGIN:STANDARD
TZOFFSETFROM:+0200
TZOFFSETTO:+0100
TZNAME:CET
DTSTART:20181028T010000
END:STANDARD
BEGIN:DAYLIGHT
TZOFFSETFROM:+0100
TZOFFSETTO:+0200
TZNAME:CEST
DTSTART:20190331T010000
END:DAYLIGHT
BEGIN:STANDARD
TZOFFSETFROM:+0200
TZOFFSETTO:+0100
TZNAME:CET
DTSTART:20191027T010000
END:STANDARD
END:VTIMEZONE
BEGIN:VEVENT
DTSTART;TZID=Europe/Madrid:20180720T080000
DTEND;TZID=Europe/Madrid:20190324T170000
DTSTAMP:20260426T052347
CREATED:20180710T105609Z
LAST-MODIFIED:20190208T111405Z
UID:46075-1532073600-1553446800@www.fundacionnaturgy.org
SUMMARY:Exposición "¿Juegas? ¡Pensamos en energía!". Vila de Cruces
DESCRIPTION:[vc_row css=».vc_custom_1501687840871{margin-right: 3px !important;}»][vc_column width=»2/3″][vc_empty_space height=»6″][vc_column_text]Del 20 de julio de 2018 al 24 de marzo de 2019 el Museo de la Minería de Fontao en Vila de Cruces presenta “¿Juegas? ¡Pensamos en energía”\, una exposición interactiva de la Fundación Naturgy en la que descubriréis los secretos del gas y de la electricidad como fuente de energía a través de un espacio participativo\, con experimentos didácticos y divertidos desarrollados por el divulgador científico Dani Jiménez. Activad todos los sentidos y atreveos a vivir la naturaleza\, la creación y la distribución de estas energías tan necesarias para nuestra cotidianidad. ¿Conocemos bien la energía que nos rodea? ¿Cómo somos capaces los seres humanos de producir energía? ¿Cómo se creaba la energía en el pasado\, sin la tecnología de nuestros días? ¿Qué herramientas utilizamos hoy para producir energía y para que ésta llegue a nuestros hogares? ¿Qué coste económico tiene la energía y qué hábitos de eficiencia hace falta que tengamos para no derrocharla?[/vc_column_text][/vc_column][vc_column width=»1/3″ css=».vc_custom_1531220293147{padding-right: 15px !important;padding-bottom: 10px !important;padding-left: 15px !important;background-color: #f0f0f0 !important;}»][vc_column_text]Fechas. Del 20 de julio de 2018 al 24 de marzo de 2019. \nHorario. Sábados y domingos de 11 a 14h y de 16 a 18:30h y fuera de este horario\, con cita previa al número de teléfono 986582017 (de 8 a 14h) y por correo electrónico concellodeviladecruces@gmail.com. \nUbicación. Museo de la Minería de Fontao (Vila de Cruces – Pontevedra)\n\nPrecio. Gratuito. \nInscripción. Entrada libre.[/vc_column_text][/vc_column][/vc_row]
URL:https://www.fundacionnaturgy.org/actividad/juegas-pensamos-energia/
ATTACH;FMTTYPE=image/jpeg:https://www.fundacionnaturgy.org/wp-content/uploads/2018/04/exposicion-itinerante-ponferrada-juegas-1.jpg
END:VEVENT
BEGIN:VEVENT
DTSTART;TZID=Europe/Madrid:20190226T090000
DTEND;TZID=Europe/Madrid:20190301T163000
DTSTAMP:20260426T052347
CREATED:20190110T155224Z
LAST-MODIFIED:20190131T145914Z
UID:54060-1551171600-1551457800@www.fundacionnaturgy.org
SUMMARY:Actividad "Cleanairs en el Festival YOMO". Barcelona
DESCRIPTION:[vc_row css=».vc_custom_1501687840871{margin-right: 3px !important;}»][vc_column width=»2/3″][vc_empty_space height=»6″][vc_column_text]Esta propuesta participativa es un reto a reflexionar sobre un fenómeno clave para la salud de las personas y del medio ambiente.  \nCon el objetivo de contribuir al desarrollo educativo\, ambiental y cultural de la sociedad\, la Fundación Naturgy presenta una propuesta que muestra como el fenómeno de la contaminación atmosférica es un factor clave que determina la salud de las personas y del medio ambiente. La implementación de distintas iniciativas por parte de administraciones\, empresas privadas y ciudadanía\, será un reto imprescindible para cumplir los niveles que marca la Organización Mundial de la Salud para mejorar la calidad del aire de nuestro entorno.  \nEl juego de la calidad del aire\, denominado Cleanairs\, propone el reto de mejorar la calidad del aire de una ciudad a través de las acciones que se desarrollarán en cuatro concejalías hipotéticas\, representadas sobre una mesa interactiva. Durante la partida\, como si se tratara de los cuatro años que dura un mandato\, los participantes asumen el desafío de impulsar políticas públicas sobre energía\, urbanismo\, movilidad\, limpieza y gestión de residuos. De este modo\, los participantes abordan cuestiones capitales en la gestión de una ciudad que\, además\, influyen directamente en la calidad del aire que respiramos.  \nCleanairs es un juego entre distintos grupos que se desarrolla en una partida simultánea. En la medida que los distintos equipos participantes toman decisiones desde sus respectivas concejalías\, las acciones que se emprenden se proyectan sobre una pantalla\, a tiempo real\, mediante un formato digital novedoso. De este modo\, los participantes trabajan la negociación\, el civismo y el compromiso social\, mientras que\, por su parte\, el público que presencia la partida desarrolla su sentido crítico y puede analizar las políticas impulsadas\, comparar las diferentes opciones y valorar las consecuencias de las decisiones tomadas por cada equipo. El juego sobre la calidad del aire puede desarrollarse en distintos niveles de dificultad y está dinamizado por un conductor especializado en medioambiente que fomenta un debate profundo sobre el futuro de las ciudades y el compromiso de todos.  \nCleanairs será presentado en el YoMo –The Youth Mobile Festival-\, organizado por GSMA y Mobile World Capital Barcelona en L’Hospitalet de Llobregat\, del 26 de febrero al 2 de marzo de 2019. Este evento experiencial y participativo\, diseñado para estudiantes de 8 a 16 años\, quiere inspirar a miles de jóvenes y ayudarles a conocer mejor las carreras profesionales de los sectores STEAM en un mundo cada vez más móvil. Durante cinco días\, YoMo Barcelona recibirá a 22.000 escolares de Cataluña y España en una enorme exposición de ciencia y tecnología.[/vc_column_text][/vc_column][vc_column width=»1/3″ css=».vc_custom_1521645800416{padding-right: 15px !important;padding-bottom: 25px !important;padding-left: 15px !important;background-color: #f0f0f0 !important;}»][vc_column_text]Fechas. Del 26 de febrero al 2 de marzo de 2019. \nHorario. De martes a jueves\, de 9 a 16:30 h. Viernes\, de 9 a 15 h. Sábado\, de 10 a 16 h. \nUbicación.  La Farga de L’Hospitalet. Carrer Barcelona\, 2. 08901 L’Hospitalet de Llobregat (Barcelona)\n\nPrecio. Gratuito. \nInscripción. https://www.mwcyomo.com \nInformación. educacionfundacion@naturgy.com o tel.: 934 129 680[/vc_column_text][/vc_column][/vc_row]
URL:https://www.fundacionnaturgy.org/actividad/actividad-cleanairs-en-el-festival-yomo-barcelona/
ATTACH;FMTTYPE=image/png:https://www.fundacionnaturgy.org/wp-content/uploads/2018/05/casal-estiu-verano.png
END:VEVENT
BEGIN:VEVENT
DTSTART;TZID=Europe/Madrid:20190312T090000
DTEND;TZID=Europe/Madrid:20190312T130000
DTSTAMP:20260426T052347
CREATED:20190201T145045Z
LAST-MODIFIED:20190313T133227Z
UID:54930-1552381200-1552395600@www.fundacionnaturgy.org
SUMMARY:Seminario "Transiciones energéticas. Un reto mundial". Madrid
DESCRIPTION:[vc_row][vc_column width=»2/3″][vc_empty_space height=»12px»][vc_column_text]La Fundación Naturgy ha organizado el seminario para ofrecer la visión de expertos de primer nivel en las políticas de transición energética\, aportando su visión a nivel mundial y destacando la realidad de países de la Unión Europea. \nAgenda\n9:00h  Acto de apertura\nD. Rafael Villaseca\, presidente\, Fundación Naturgy.\nD. José Domínguez Abascal\, secretario de Estado de Energía\, Ministerio para la Transición Ecológica\, Gobierno de España. \n09:30h Transiciones energéticas: Perspectivas de la Agencia Internacional de la Energía\nD. Paul Simons\, director Ejecutivo Adjunto\, Agencia Internacional de la Energía. \n10:00h Coloquio\n\n10:15h Pausa café\n\n10:45h La transición energética en la República Federal de Alemania: balance y perspectivas\nD. Christoph Burger\, profesor\, European School of Management and Technology (ESMT Berlín). \n11:15h La transición energética en Francia: la Ley de agosto de 2015 y el Plan sobre el Clima de julio de 2017. Balance\nDña. Lola Vallejo\, directora Programa Clima\, Instituto de Desarrollo Sostenible (IDDRI). \n11:45h Coloquio\n\n12:00h Acto de clausura\nD. Martí Solà\, director general\, Fundación Naturgy.\nD. Joan Herrera Torres\, director general del Instituto para la Diversificación y Ahorro de la Energía (IDAE).[/vc_column_text][vc_separator][/vc_column][vc_column width=»1/3″][vc_empty_space height=»12px»][vc_column_text css=».vc_custom_1551958678365{padding-top: 10px !important;padding-right: 25px !important;padding-bottom: 25px !important;padding-left: 25px !important;background-color: #004571 !important;border-radius: 3px !important;}»] \n\n12 de marzo de 2019\, de 9 a 13h\nSede de Naturgy – Avenida de San Luis\, 77\n28033 Madrid\nAforo limitado\nTraducción simultánea en inglés y castellano durante la jornada.\nSi necesitas traducción en lengua de signos\, solicítalo aquí.\nImprimir programa\n[/vc_column_text]Las plazas para asistir al acto en Madrid están agotadas. Puedes asistir a la retransmisión en directo por videoconferencia desde las sedes de Barcelona y A Coruña.[/vc_column][/vc_row]
URL:https://www.fundacionnaturgy.org/actividad/seminario-transiciones-energeticas-un-reto-mundial-madrid/
ATTACH;FMTTYPE=image/jpeg:https://www.fundacionnaturgy.org/wp-content/uploads/2017/11/seminario-tarragona-mercado-electrico.jpg
END:VEVENT
BEGIN:VEVENT
DTSTART;TZID=Europe/Madrid:20190320T093000
DTEND;TZID=Europe/Madrid:20190324T190000
DTSTAMP:20260426T052347
CREATED:20190110T162909Z
LAST-MODIFIED:20190307T123241Z
UID:54061-1553074200-1553454000@www.fundacionnaturgy.org
SUMMARY:Actividad "Cleanairs en el Salón de la Enseñanza". Barcelona
DESCRIPTION:[vc_row css=».vc_custom_1501687840871{margin-right: 3px !important;}»][vc_column width=»2/3″][vc_empty_space height=»6″][vc_column_text]Esta propuesta participativa es un reto a reflexionar sobre un fenómeno clave para la salud de las personas y del medio ambiente.  \nCon el objetivo de contribuir al desarrollo educativo\, ambiental y cultural de la sociedad\, la Fundación Naturgy presenta una propuesta que muestra como el fenómeno de la contaminación atmosférica es un factor clave que determina la salud de las personas y del medio ambiente. La implementación de distintas iniciativas por parte de administraciones\, empresas privadas y ciudadanía\, será un reto imprescindible para cumplir los niveles que marca la Organización Mundial de la Salud para mejorar la calidad del aire de nuestro entorno.  \nEl juego de la calidad del aire\, denominado Cleanairs\, propone el reto de mejorar la calidad del aire de una ciudad a través de las acciones que se desarrollarán en cuatro concejalías hipotéticas\, representadas sobre una mesa interactiva. Durante la partida\, como si se tratara de los cuatro años que dura un mandato\, los participantes asumen el desafío de impulsar políticas públicas sobre energía\, urbanismo\, movilidad\, limpieza y gestión de residuos. De este modo\, los participantes abordan cuestiones capitales en la gestión de una ciudad que\, además\, influyen directamente en la calidad del aire que respiramos.  \nCleanairs es un juego entre distintos grupos que se desarrolla en una partida simultánea. En la medida que los distintos equipos participantes toman decisiones desde sus respectivas concejalías\, las acciones que se emprenden se proyectan sobre una pantalla\, a tiempo real\, mediante un formato digital novedoso. De este modo\, los participantes trabajan la negociación\, el civismo y el compromiso social\, mientras que\, por su parte\, el público que presencia la partida desarrolla su sentido crítico y puede analizar las políticas impulsadas\, comparar las diferentes opciones y valorar las consecuencias de las decisiones tomadas por cada equipo. El juego sobre la calidad del aire puede desarrollarse en distintos niveles de dificultad y está dinamizado por un conductor especializado en medioambiente que fomenta un debate profundo sobre el futuro de las ciudades y el compromiso de todos.  \nCleanairs será presentado en el Salón de la Enseñanza de Fira de Barcelona\, del 20 al 24 de marzo de 2019. En esta feria dedicada a la oferta universitaria\, Cleanairs formará parte del Espai Ciència\, una iniciativa organizada por la Fundació Catalana per a la Recerca i la Innovació (FCRi) que pretende mostrar la ciencia que se realiza en Cataluña explicada de manera práctica\, amena y cercana a los jóvenes\, con el objetivo de encaminar su futuro profesional hacia las disciplinas científicas y tecnológicas.[/vc_column_text][/vc_column][vc_column width=»1/3″ css=».vc_custom_1521645800416{padding-right: 15px !important;padding-bottom: 25px !important;padding-left: 15px !important;background-color: #f0f0f0 !important;}»][vc_column_text]Fechas. Del 20 al 24 de marzo de 2019. \nHorario. De miércoles a viernes de 9 a 19 h\, sábado de 10 a 20 h y domingo de 9:30 a 14:30 h. \nUbicación. Fira de Barcelona. Recinto Montjuïc\, Pavellón 2. Avenida Reina María Cristina\, s/n. 08004 Barcelona \nVenta de entradas. http://www.ensenyament.com \nInformación. educacionfundacion@naturgy.com o tel.: 934 129 680[/vc_column_text][/vc_column][/vc_row]
URL:https://www.fundacionnaturgy.org/actividad/actividad-cleanairs-en-el-salon-de-la-ensenanza-barcelona/
ATTACH;FMTTYPE=image/jpeg:https://www.fundacionnaturgy.org/wp-content/uploads/2019/01/cleanairs-yomo-2019-4.jpg
END:VEVENT
BEGIN:VEVENT
DTSTART;TZID=Europe/Madrid:20190320T180000
DTEND;TZID=Europe/Madrid:20190320T200000
DTSTAMP:20260426T052347
CREATED:20190305T093356Z
LAST-MODIFIED:20190321T095707Z
UID:57308-1553104800-1553112000@www.fundacionnaturgy.org
SUMMARY:Presentación de libro "La fiscalidad energética. Sentido\, objetivos y criterios de aplicación". Barcelona
DESCRIPTION:[vc_row][vc_column width=»2/3″][vc_empty_space height=»12px»][vc_column_text] \nAgenda\n18:00h  Bienvenida\nD. Anton Gasol\, decano\, Col·legi d’Economistes de Catalunya.\nDña. Mª Eugenia Coronado\, directora general\, Fundación Naturgy. \n18:15h  La fiscalidad en la transición energética\nD. Valentí Pich\, presidente\, Consejo de Economistas de España. \n18:45h Presentación de libro\nD. Juan Carpizo\, inspector de Hacienda en excedencia\, Especialista en Fiscalidad Local\, Medioambiental y de la Energía.\nDña. Eugenia Montaña\, abogado Senior\, Business Tax Advisory\, Ernst & Young Abogados. \n19:45h Coloquio\n\n20:00h Fin de sesión\nD. Jaume Menéndez\, vocal de la Junta de Gobierno\, Col·legi d’Economistes de Catalunya.\nDña. Mª Eugenia Coronado\, directora general\, Fundación Naturgy.[/vc_column_text][vc_separator][/vc_column][vc_column width=»1/3″][vc_empty_space height=»12px»][vc_column_text css=».vc_custom_1552561263004{padding-top: 10px !important;padding-right: 25px !important;padding-bottom: 25px !important;padding-left: 25px !important;background-color: #004571 !important;border-radius: 3px !important;}»] \n\n20 de marzo de 2019\, de 18 a 20h\nCol·legi d’Economistes de Catalunya\nPlaza Gal·la Placidia\, 32\n08006 Barcelona\nAforo limitado\nImprimir programa \n[/vc_column_text][/vc_column][/vc_row]
URL:https://www.fundacionnaturgy.org/actividad/presentacion-de-libro-la-fiscalidad-energetica-sentido-objetivos-y-criterios-de-aplicacion-barcelona/
ATTACH;FMTTYPE=image/jpeg:https://www.fundacionnaturgy.org/wp-content/uploads/2019/03/fiscalidad-energetica-3-3.jpg
END:VEVENT
BEGIN:VEVENT
DTSTART;TZID=Europe/Madrid:20190326T100000
DTEND;TZID=Europe/Madrid:20190326T113000
DTSTAMP:20260426T052348
CREATED:20190322T120820Z
LAST-MODIFIED:20190322T121028Z
UID:60243-1553594400-1553599800@www.fundacionnaturgy.org
SUMMARY:Seminar "Advantage of using liquefied natural gas". Sligo
DESCRIPTION:[vc_row][vc_column width=»2/3″][vc_empty_space height=»12px»][vc_column_text] \nAgenda\n10:00am  Welcome & Breakfast\nNaturgy Foundation\n\n10:10am  Overview on Natural Gas Innovation\nMr. Liam Faulkner\, Naturgy Ireland. \n10:30am Virtual Gas Pipeline (LNG) and Natural Gas For Trucks (CNG)\nMr. Juan Ignacio Buenestado\, Bunkering\, Naturgy. \n11:15am Panel discussion / Q&A \n11:30am Closing \n[/vc_column_text][vc_separator][/vc_column][vc_column width=»1/3″][vc_empty_space height=»12px»][vc_column_text css=».vc_custom_1553256666987{padding-top: 10px !important;padding-right: 25px !important;padding-bottom: 25px !important;padding-left: 25px !important;background-color: #004571 !important;border-radius: 3px !important;}»] \n\n26th March 2019\nSligo Park Hotel –\nPearse Rd. Sligo\nF91 Y762 Ireland\n\nRegistration:\nTelephone: 353 (0)1 884 9400\nEmail: Siobhan.macmahon@naturgy.ie \n[/vc_column_text][/vc_column][/vc_row]
URL:https://www.fundacionnaturgy.org/actividad/seminar-advantage-of-using-liquefied-natural-gas-sligo/
ATTACH;FMTTYPE=image/png:https://www.fundacionnaturgy.org/wp-content/uploads/2018/06/energia-medio-ambiente-home.png
END:VEVENT
BEGIN:VEVENT
DTSTART;TZID=Europe/Madrid:20190327T103000
DTEND;TZID=Europe/Madrid:20190327T131500
DTSTAMP:20260426T052348
CREATED:20190322T121824Z
LAST-MODIFIED:20190322T121900Z
UID:60246-1553682600-1553692500@www.fundacionnaturgy.org
SUMMARY:Seminar "Advantage of using liquefied natural gas". Dublín
DESCRIPTION:[vc_row][vc_column width=»2/3″][vc_empty_space height=»12px»][vc_column_text] \nAgenda\n10:30am  Welcome\nNaturgy Foundation\n\n10:40am  Overview on Natural Gas Innovation\nMr. Liam Faulkner\, Naturgy Ireland. \n11:10am Virtual Gas Pipeline (LNG) and Natural Gas For Trucks (CNG)\nMr. Juan Ignacio Buenestado\, Bunkering\, Naturgy. \n11:45am Panel discussion / Q&A \n12:00pm Closing[/vc_column_text][vc_separator][/vc_column][vc_column width=»1/3″][vc_empty_space height=»12px»][vc_column_text css=».vc_custom_1553257176430{padding-top: 10px !important;padding-right: 25px !important;padding-bottom: 25px !important;padding-left: 25px !important;background-color: #004571 !important;border-radius: 3px !important;}»] \n\n27th March 2019\nRDS (The Royal Dublin Society) –\nMerrion Road Ballsbridge\nDublin 4 D04 AK83\n\nRegistration:\nTelephone: 353 (0)1 884 9400\nEmail: Siobhan.macmahon@naturgy.ie \n[/vc_column_text][/vc_column][/vc_row]
URL:https://www.fundacionnaturgy.org/actividad/seminar-advantage-of-using-liquefied-natural-gas-dublin/
ATTACH;FMTTYPE=image/png:https://www.fundacionnaturgy.org/wp-content/uploads/2018/06/energia-medio-ambiente-home.png
END:VEVENT
BEGIN:VEVENT
DTSTART;TZID=Europe/Madrid:20190328T080000
DTEND;TZID=Europe/Madrid:20190412T200000
DTSTAMP:20260426T052348
CREATED:20190311T161814Z
LAST-MODIFIED:20190401T154925Z
UID:57929-1553760000-1555099200@www.fundacionnaturgy.org
SUMMARY:Exposición “La calidad del aire. Un reto actual”. Madrid
DESCRIPTION:[vc_row][vc_column width=»2/3″][vc_empty_space height=»12px»][vc_column_text]La exposición La calidad del aire. Un reto actual\, producida por la Fundación Naturgy con el objetivo de contribuir al desarrollo formativo y a la sensibilización ambiental de la sociedad\, muestra como el fenómeno de la contaminación atmosférica es un factor clave que determina la salud de las personas y del medio ambiente. La implementación de distintas iniciativas\, por parte de administraciones\, empresas privadas y ciudadanía\, será un reto imprescindible para cumplir los niveles que marca la Organización Mundial de la Salud para mejorar la calidad del aire de nuestro entorno. En este contexto\, entre otras medidas\, el uso responsable de la energía y\, en concreto\, del gas natural como combustible limpio\, será un factor determinante para reducir las emisiones y procurar la mejora de la calidad del aire. La muestra\, comisariada por el profesor experto en contaminación atmosférica\, Dr. Xavier Querol\, ofrece las herramientas para conocer e interpretar los factores claves que determinan la calidad del aire a través de cuatro ámbitos: la descripción de fenómeno\, las causas que lo provocan\, los efectos que lo producen y las soluciones para abordarlo. Antes de su parada en Madrid\, la exposición ha efectuado su paso por Barcelona y Guadalajara.[/vc_column_text][vc_separator][/vc_column][vc_column width=»1/3″][vc_empty_space height=»12px»][vc_column_text css=».vc_custom_1553525309640{padding-top: 10px !important;padding-right: 25px !important;padding-bottom: 25px !important;padding-left: 25px !important;background-color: #004571 !important;border-radius: 3px !important;}»] \n\nDel 28 de marzo al 12 de abril de 2019\, de 8 a 20h\nSede de Naturgy\nAv. San Luis\, 77\n28033 Madrid\nGratuito\nMás información a\nexposicionesfundacion@naturgy.com o tel. 93 412 96 40 \n[/vc_column_text][/vc_column][/vc_row]
URL:https://www.fundacionnaturgy.org/actividad/exposicion-la-calidad-del-aire-un-reto-actual-madrid/
ATTACH;FMTTYPE=image/jpeg:https://www.fundacionnaturgy.org/wp-content/uploads/2019/03/seminario-etiquetaje-ambiental-madrid7.jpg
END:VEVENT
BEGIN:VEVENT
DTSTART;TZID=Europe/Madrid:20190328T090000
DTEND;TZID=Europe/Madrid:20190328T130000
DTSTAMP:20260426T052348
CREATED:20190305T155113Z
LAST-MODIFIED:20190416T072249Z
UID:57354-1553763600-1553778000@www.fundacionnaturgy.org
SUMMARY:Seminario "Etiquetaje ambiental de vehículos y gestión de la contaminación urbana". Madrid
DESCRIPTION:[vc_row][vc_column width=»2/3″][vc_empty_space height=»12px»][vc_column_text] \nAgenda\n09:00h  Sesión inaugural\nMª Eugenia Coronado\, directora general\, Fundación Naturgy.\nLuis del Olmo Flores\, director general de Medio Ambiente y Sostenibilidad\, Consejería de Medio Ambiente y Ordenación del Territorio\, Comunidad de Madrid. \n09:30h  La contaminación urbana procedente del transporte y la salud. La situación actual\nen España\nAndrés Alastuey\, profesor e Investigador del CSIC. \n10:00h La experiencia internacional en eco/etiquetaje de vehículos y la lucha contra la\ncontaminación urbana\nRichard Lofthouse\, Investigador Senior de Emissions Analytics. \n10:30h El etiquetaje ambiental de los vehículos: cómo se hace y para qué sirve\nLuis Fernando Velasco\, jefe del Área de Vehículos\, Dirección General de Tráfico (DGT). \n11:00h Coloquio\n\n11:15h Pausa café — Visita la exposición “La calidad del aire\, un reto actual” y entrega del\nlibro “La calidad del aire en las ciudades. Un reto mundial” \n11:45h La experiencia de la ciudad de Madrid en la gestión de episodios por contaminación\natmosférica\nÁngeles Cristóbal\, subdirección general de Sostenibilidad\, dirección general de Sostenibilidad y Control Ambiental\, Ayuntamiento de Madrid. \n12:15h La acción contra la contaminación urbana procedente del tráfico: la gestión de la Comunidad de Madrid\nRicardo Vargas\, jefe de Área de Calidad Atmosférica\, dirección general de Medio Ambiente y Sostenibilidad\, Consejería de Medio Ambiente y Ordenación del Territorio. \n12:45h Coloquio \n13:00h Fin del seminario[/vc_column_text][vc_separator][/vc_column][vc_column width=»1/3″][vc_empty_space height=»12px»][vc_column_text css=».vc_custom_1553534717106{padding-top: 10px !important;padding-right: 25px !important;padding-bottom: 25px !important;padding-left: 25px !important;background-color: #004571 !important;border-radius: 3px !important;}»] \n\n28 de marzo de 2019\, de 09 a 13h\nAuditorio sede de Naturgy\nAv. San Luis\, 77\n28033 Madrid\nAforo limitado\nImprimir programa \n[/vc_column_text][/vc_column][/vc_row]
URL:https://www.fundacionnaturgy.org/actividad/seminario-etiquetaje-ambiental-de-vehiculos-y-gestion-de-la-contaminacion-urbana-madrid/
ATTACH;FMTTYPE=image/jpeg:https://www.fundacionnaturgy.org/wp-content/uploads/2018/09/barcelona-seminario-etiquetaje-ambiental2.jpg
END:VEVENT
BEGIN:VEVENT
DTSTART;TZID=Europe/Madrid:20190328T100000
DTEND;TZID=Europe/Madrid:20190331T200000
DTSTAMP:20260426T052348
CREATED:20190312T123251Z
LAST-MODIFIED:20190312T124349Z
UID:57979-1553767200-1554062400@www.fundacionnaturgy.org
SUMMARY:Actividad "Cleanairs en la Feria Madrid por la Ciencia y la Innovación". Madrid
DESCRIPTION:[vc_row][vc_column width=»2/3″][vc_empty_space height=»12px»][vc_column_text]Esta propuesta participativa es un reto a reflexionar sobre un fenómeno clave para la salud de las personas y del medio ambiente. \nCon el objetivo de contribuir al desarrollo formativo y a la sensibilización ambiental de la sociedad\, la Fundación Naturgy participará en la Feria Madrid por la Ciencia y la Innovación mediante una propuesta que muestra como el fenómeno de la contaminación atmosférica es un factor clave que determina la salud de las personas y del medio ambiente. Se trata de un juego multimedia denominado Cleanairs que reta a los participantes a crear acciones que ayuden a mejorar la calidad del aire de la ciudad\, partiendo de la disposición de cuatro concejalías hipotéticas representadas sobre una mesa interactiva. Durante las partidas\, los participantes asumen el desafío de impulsar políticas públicas sobre energía\, urbanismo\, movilidad\, limpieza y gestión de residuos. Las propuestas que se van generando se proyectan en tiempo real en pantallas\, para poder comparar las diferentes opciones planteadas por los participantes y valorar las consecuencias de las decisiones tomadas por cada equipo. \nCleanairs se presentará en la Feria Madrid por la Ciencia y la Innovación\, organizada por IFEMA\, Feria de Madrid y la Fundación para el Conocimiento Madri+d\, dentro de la Semana de la Educación. Este evento que tiene lugar del 28 al 31 de marzo de 2019\, tiene como principal objetivo difundir la cultura científica\, fomentando las vocaciones STEM y eliminando las barreras de género\, para mostrar como la ciencia y la tecnología influyen en el desarrollo económico y el bienestar social\, fomentando la competitividad de las empresas a través de la innovación.[/vc_column_text][vc_separator][/vc_column][vc_column width=»1/3″][vc_empty_space height=»12px»][vc_column_text css=».vc_custom_1552394513740{padding-top: 10px !important;padding-right: 25px !important;padding-bottom: 25px !important;padding-left: 25px !important;background-color: #004571 !important;border-radius: 3px !important;}»] \n\nDel 28 al 31 de marzo de 2019\nDe 10 a 20h\, domingo de 10 a 15h\nPavellón 5 de IFEMA\,\nFeria de Madrid\nAv. Partenón\, 5.\n28042 Madrid\nRegistro \nMás información a\neducacionfundacion@naturgy.com \no tel. 93 412 96 80 \n[/vc_column_text][/vc_column][/vc_row]
URL:https://www.fundacionnaturgy.org/actividad/actividad-cleanairs-en-la-feria-madrid-por-la-ciencia-y-la-innovacion-madrid/
ATTACH;FMTTYPE=image/jpeg:https://www.fundacionnaturgy.org/wp-content/uploads/2019/02/cleanairs-yomo-2019.jpg
END:VEVENT
END:VCALENDAR