BEGIN:VCALENDAR
VERSION:2.0
PRODID:-//Fundación Naturgy - ECPv5.14.0.4//NONSGML v1.0//EN
CALSCALE:GREGORIAN
METHOD:PUBLISH
X-WR-CALNAME:Fundación Naturgy
X-ORIGINAL-URL:https://www.fundacionnaturgy.org
X-WR-CALDESC:Events for Fundación Naturgy
REFRESH-INTERVAL;VALUE=DURATION:PT1H
X-Robots-Tag:noindex
X-PUBLISHED-TTL:PT1H
BEGIN:VTIMEZONE
TZID:Europe/Madrid
BEGIN:DAYLIGHT
TZOFFSETFROM:+0100
TZOFFSETTO:+0200
TZNAME:CEST
DTSTART:20190331T010000
END:DAYLIGHT
BEGIN:STANDARD
TZOFFSETFROM:+0200
TZOFFSETTO:+0100
TZNAME:CET
DTSTART:20191027T010000
END:STANDARD
END:VTIMEZONE
BEGIN:VEVENT
DTSTART;TZID=Europe/Madrid:20190328T080000
DTEND;TZID=Europe/Madrid:20190412T200000
DTSTAMP:20260426T015743
CREATED:20190311T161814Z
LAST-MODIFIED:20190401T154925Z
UID:57929-1553760000-1555099200@www.fundacionnaturgy.org
SUMMARY:Exposición “La calidad del aire. Un reto actual”. Madrid
DESCRIPTION:[vc_row][vc_column width=»2/3″][vc_empty_space height=»12px»][vc_column_text]La exposición La calidad del aire. Un reto actual\, producida por la Fundación Naturgy con el objetivo de contribuir al desarrollo formativo y a la sensibilización ambiental de la sociedad\, muestra como el fenómeno de la contaminación atmosférica es un factor clave que determina la salud de las personas y del medio ambiente. La implementación de distintas iniciativas\, por parte de administraciones\, empresas privadas y ciudadanía\, será un reto imprescindible para cumplir los niveles que marca la Organización Mundial de la Salud para mejorar la calidad del aire de nuestro entorno. En este contexto\, entre otras medidas\, el uso responsable de la energía y\, en concreto\, del gas natural como combustible limpio\, será un factor determinante para reducir las emisiones y procurar la mejora de la calidad del aire. La muestra\, comisariada por el profesor experto en contaminación atmosférica\, Dr. Xavier Querol\, ofrece las herramientas para conocer e interpretar los factores claves que determinan la calidad del aire a través de cuatro ámbitos: la descripción de fenómeno\, las causas que lo provocan\, los efectos que lo producen y las soluciones para abordarlo. Antes de su parada en Madrid\, la exposición ha efectuado su paso por Barcelona y Guadalajara.[/vc_column_text][vc_separator][/vc_column][vc_column width=»1/3″][vc_empty_space height=»12px»][vc_column_text css=».vc_custom_1553525309640{padding-top: 10px !important;padding-right: 25px !important;padding-bottom: 25px !important;padding-left: 25px !important;background-color: #004571 !important;border-radius: 3px !important;}»] \n\nDel 28 de marzo al 12 de abril de 2019\, de 8 a 20h\nSede de Naturgy\nAv. San Luis\, 77\n28033 Madrid\nGratuito\nMás información a\nexposicionesfundacion@naturgy.com o tel. 93 412 96 40 \n[/vc_column_text][/vc_column][/vc_row]
URL:https://www.fundacionnaturgy.org/actividad/exposicion-la-calidad-del-aire-un-reto-actual-madrid/
ATTACH;FMTTYPE=image/jpeg:https://www.fundacionnaturgy.org/wp-content/uploads/2019/03/seminario-etiquetaje-ambiental-madrid7.jpg
END:VEVENT
BEGIN:VEVENT
DTSTART;TZID=Europe/Madrid:20190408T083000
DTEND;TZID=Europe/Madrid:20190408T163000
DTSTAMP:20260426T015743
CREATED:20190318T122356Z
LAST-MODIFIED:20190318T122744Z
UID:58342-1554712200-1554741000@www.fundacionnaturgy.org
SUMMARY:Actividad "Cleanairs en el Inspirational Festival 2019". Madrid
DESCRIPTION:[vc_row][vc_column width=»2/3″][vc_empty_space height=»12px»][vc_column_text]Esta propuesta participativa es un reto a reflexionar sobre un fenómeno clave para la salud de las personas y del medio ambiente. \nCon el objetivo de contribuir al desarrollo formativo y a la sensibilización ambiental de la sociedad\, la Fundación Naturgy participará en la Feria Madrid por la Ciencia y la Innovación mediante una propuesta que muestra como el fenómeno de la contaminación atmosférica es un factor clave que determina la salud de las personas y del medio ambiente. Se trata de un juego multimedia denominado Cleanairs que reta a los participantes a crear acciones que ayuden a mejorar la calidad del aire de la ciudad\, partiendo de la disposición de cuatro concejalías hipotéticas representadas sobre una mesa interactiva. Durante las partidas\, los participantes asumen el desafío de impulsar políticas públicas sobre energía\, urbanismo\, movilidad\, limpieza y gestión de residuos. Las propuestas que se van generando se proyectan en tiempo real en pantallas\, para poder comparar las diferentes opciones planteadas por los participantes y valorar las consecuencias de las decisiones tomadas por cada equipo. \nCleanairs se presentará en el Inspirational Festival 2019\, organizado por IAB Spain\, que tiene lugar el 8 de abril en el Círculo de Bellas Artes en Madrid. Este evento impulsa el desarrollo de la publicidad\, el marketing y la comunicación digital en España\, reconociendo la calidad y la excelencia de los trabajos realizados en esta industria y dando conocer\, de primera mano\, los casos de éxito\, las tendencias y las nuevas oportunidades de negocio en el sector.[/vc_column_text][vc_separator][/vc_column][vc_column width=»1/3″][vc_empty_space height=»12px»][vc_column_text css=».vc_custom_1552912059427{padding-top: 10px !important;padding-right: 25px !important;padding-bottom: 25px !important;padding-left: 25px !important;background-color: #004571 !important;border-radius: 3px !important;}»] \n\n8 de abril de 2019\nDe 16:30 a 20:30h\nCírculo de Bellas Artes\nC/ Alcalá\, 41 –\n28013 Madrid\nEntradas\n \nMás información a\neducacionfundacion@naturgy.com \no tel. 93 412 96 80 \n[/vc_column_text][/vc_column][/vc_row]
URL:https://www.fundacionnaturgy.org/actividad/actividad-cleanairs-en-el-inspirational-festival-2019-madrid/
ATTACH;FMTTYPE=image/jpeg:https://www.fundacionnaturgy.org/wp-content/uploads/2019/02/cleanairs-yomo-2019-3.jpg
END:VEVENT
BEGIN:VEVENT
DTSTART;TZID=Europe/Madrid:20190409T090000
DTEND;TZID=Europe/Madrid:20190409T130000
DTSTAMP:20260426T015743
CREATED:20190314T173550Z
LAST-MODIFIED:20190412T115802Z
UID:58204-1554800400-1554814800@www.fundacionnaturgy.org
SUMMARY:Seminario "La economía circular y la transición energética". Pamplona
DESCRIPTION:[vc_row][vc_column width=»2/3″][vc_empty_space height=»12px»][vc_column_text] \nPrograma\n09:00h  Sesión inaugural\nDña Mª Eugenia Coronado\, directora general\, Fundación Naturgy.\nD. Miguel Iriberri\, decano\, Colegio de Ingenieros Industriales de Navarra.\nD. Manu Ayerdi\,  vicepresidente y consejero de Desarrollo Económico\, Gobierno de Navarra. \n09:30h  La estrategia navarra de economía circular. Hacia un futuro sostenible\nDña. Eva García Balaguer\, directora general de Medio Ambiente y Ordenación del Territorio\, Gobierno de Navarra. \n10:00h El papel de las energías renovables en la economía circular y la Transición Energética\nD. Pablo Ayesa\, director general\, Cener. \n10:30h Diseñando ecociudades. Hacia un modelo más sostenible\nD.  Joan Rieradevall\, investigador de Sostenipra\, Instituto de Ciencia y Tecnología Ambientales (ICTAUAB)\, Centro de Excelencia María de Maeztu\, Universidad Autónoma de Barcelona (UAB). \n10:45h Coloquio \n11:15h Pausa Café \n11:45h Mesa redonda: prácticas de Economía Circular \nEn el sector de la alimentación. El ejemplo de Aceites Artajo\nDña. Andrea Urzaiz Huguet\, Aceites Artajo. \nEn el sector de la construcción. El ejemplo de Rockwool\nD. Miguel Ángel Paris\, Responsable del Departamento de Sostenibilidad\, Rockwool. \nEn el sector del reciclaje. El ejemplo de Ecoembes\nD. Fernando Blázquez Andrés\, Gerente Zona Norte\, Ecoembes. \n12:45h Coloquio \n13:00h Fin del seminario[/vc_column_text][vc_separator][/vc_column][vc_column width=»1/3″][vc_empty_space height=»12px»][vc_column_text css=».vc_custom_1554453087612{padding-top: 10px !important;padding-right: 25px !important;padding-bottom: 25px !important;padding-left: 25px !important;background-color: #004571 !important;border-radius: 3px !important;}»] \n\n9 de abril de 2019\nBaluarte\, Palacio de Congresos y\nAuditorio de Navarra –\nPl. Baluarte\, s/n\n31002 Pamplona\nAforo limitado \nImprimir programa \n[/vc_column_text][/vc_column][/vc_row]
URL:https://www.fundacionnaturgy.org/actividad/seminario-la-economia-circular-y-la-transicion-energetica-pamplona/
ATTACH;FMTTYPE=image/jpeg:https://www.fundacionnaturgy.org/wp-content/uploads/2019/01/economia-circular.jpg
END:VEVENT
END:VCALENDAR