BEGIN:VCALENDAR
VERSION:2.0
PRODID:-//Fundación Naturgy - ECPv5.14.0.4//NONSGML v1.0//EN
CALSCALE:GREGORIAN
METHOD:PUBLISH
X-WR-CALNAME:Fundación Naturgy
X-ORIGINAL-URL:https://www.fundacionnaturgy.org
X-WR-CALDESC:Events for Fundación Naturgy
REFRESH-INTERVAL;VALUE=DURATION:PT1H
X-Robots-Tag:noindex
X-PUBLISHED-TTL:PT1H
BEGIN:VTIMEZONE
TZID:Europe/Madrid
BEGIN:DAYLIGHT
TZOFFSETFROM:+0100
TZOFFSETTO:+0200
TZNAME:CEST
DTSTART:20190331T010000
END:DAYLIGHT
BEGIN:STANDARD
TZOFFSETFROM:+0200
TZOFFSETTO:+0100
TZNAME:CET
DTSTART:20191027T010000
END:STANDARD
END:VTIMEZONE
BEGIN:VEVENT
DTSTART;TZID=Europe/Madrid:20190514T090000
DTEND;TZID=Europe/Madrid:20190712T170000
DTSTAMP:20260425T211539
CREATED:20190429T082447Z
LAST-MODIFIED:20190508T084228Z
UID:62070-1557824400-1562950800@www.fundacionnaturgy.org
SUMMARY:Exposición “Haciendo historia en Panamá y en el mundo”. Ciudad de Panamá
DESCRIPTION:[vc_row][vc_column width=»2/3″][vc_empty_space height=»12px»][vc_column_text] \nLa muestra de la Fundación Naturgy\, titulada Haciendo historia en Panamá y en el mundo\, propone un recorrido por la evolución energética de Panamá a través de los cambios sociales que provocó la aplicación de las nuevas tecnologías y los nuevos inventos\, así como una reflexión sobre el presente y el futuro de las energías. \nHaciendo historia en Panamá y en el mundo permite descubrir la historia y las particularidades de la industria de la energía en Panamá\, con la inauguración del alumbrado público a gas en 1857 y la llegada del alumbrado eléctrico en 1898\, situando a la Ciudad de Panamá a la par de las grandes capitales mundiales. Tras la influencia de los Estados Unidos antes del nacimiento de Panamá como nación independiente en 1903 y un periodo de estatización de la energía de 1958 a 1996\, el sector se privatizaría hasta la llegada de Naturgy en el istmo en 1998. Durante los 20 años de presencia en Panamá\, la compañía ha ofrecido servicios energéticos innovadores\, promoviendo el respeto por el medio ambiente y la eficiencia mediante un uso responsable de la energía. La acción empresarial desarrollada en el istmo ha permitido satisfacer la demanda energética de más de 600k clientes mediante 781 MVA potencia instalada\, así como impulsar un programa social destinado a favorecer colectivos vulnerables. \nLa historia de la energía desvela un papel protagonista en el avance de la sociedad. Con la llegada del alumbrado público a las ciudades\, la luz en la oscura noche permitió romper el ciclo agrícola que había imperado hasta el momento. Así nació un tipo de actividad nueva\, impensable hasta la fecha: las ciudades empezaron a ofrecer un sinfín de propuestas de cultura y entretenimiento relacionadas con la noche. \nLa muestra también presenta una reflexión sobre el futuro energético y las herramientas disponibles que nos permitan abordarlo de manera responsable. A través de la presentación de las distintas alternativas energéticas disponibles\, la exposición ofrece las claves para que el visitante entienda que todas las energías tienen ventajas e inconvenientes y que\, por tanto\, no existen fórmulas mágicas para resolver el futuro energético. Las próximas décadas estarán marcadas por la garantía de suministro\, los costes económicos y su impacto en el medio ambiente\, así como por la capacidad de los humanos para innovar en los terrenos tecnológico y social. Entre las cuestiones capitales de nuestra agenda futura destacará el estímulo de un consumo energético responsable con el mínimo impacto sobre el medio ambiente\, a través del ahorro y la eficiencia. \nLa exposición Haciendo historia en Panamá y en el mundo forma parte del catálogo de propuestas divulgativas con las que la Fundación Naturgy tiene como objetivo transmitir valores en torno al cambio de modelo energético\, la preservación del medio ambiente y el consumo responsable de la energía. La Fundación Naturgy\, fundada en 1992 por la compañía energética\, desarrolla programas de acción social en los países en los que el grupo está presente con la ejecución de proyectos adaptados a la personalidad y los requerimientos de los diferentes entornos. \n[/vc_column_text][vc_separator][/vc_column][vc_column width=»1/3″][vc_empty_space height=»12px»][vc_column_text css=».vc_custom_1556526179509{padding-top: 10px !important;padding-right: 25px !important;padding-bottom: 25px !important;padding-left: 25px !important;background-color: #004571 !important;border-radius: 3px !important;}»] \n\n Del 14 de mayo al 12 de julio de 2019\, de lunes a sábado de 9:00 a 17:00 h.\n\n \nBiblioteca Nacional Ernesto J. Castillero\nParque Recreativo Omar – Av. Belisario Porras «Vía Porras»\nCorregimiento de San Francisco.\nCiudad de Panamá (Panamá) \nEntrada gratuita \n[/vc_column_text][/vc_column][/vc_row]
URL:https://www.fundacionnaturgy.org/actividad/exposicion-haciendo-historia-en-panama-y-en-el-mundo-ciudad-de-panama/
CATEGORIES:Panamá
ATTACH;FMTTYPE=image/jpeg:https://www.fundacionnaturgy.org/wp-content/uploads/2019/04/exposicion-haciendo-historia-panama-mundo-1.jpg
END:VEVENT
BEGIN:VEVENT
DTSTART;TZID=Europe/Madrid:20190607T090000
DTEND;TZID=Europe/Madrid:20190607T200000
DTSTAMP:20260425T211539
CREATED:20190521T140828Z
LAST-MODIFIED:20190618T162238Z
UID:62804-1559898000-1559937600@www.fundacionnaturgy.org
SUMMARY:Actividad “The Circular Challenge. Innovación para una energía renovable y circular” en #Imperdible_04/Planeta. Madrid
DESCRIPTION:[vc_row][vc_column width=»2/3″][vc_empty_space height=»12px»][vc_column_text]Los Objetivos de Desarrollo Sostenible de las Naciones Unidas prevéen complejos desafíos en el ámbito de la energía. Para alcalzar estas metas globales en la Agenda 2030\, la innovación tecnológica será un ingrediente imprescindible\, favorenciendo la creación de una fuente de energía renovable que garantice la descarbonización\, eliminando el CO2 y mejorando la calidad del aire de nuestro entorno. \nLa Fundación Naturgy presenta “The Circular Challenge”\, una experiencia tecnológica y participativa que\, mediante la gamificación\, permite descubrir cómo el gas renovable es una fuente de energía clave para frenar el cambio climático y favorecer la economía circular. Los participantes comprenderán cómo se crea el gas renovable\, los usos que permite y su papel fundamental en el futuro\, como energía limpia y sostenible. Esta propuesta\, que puede desarrollarse en distintos niveles de dificultad\, es una herramienta excelente para transferir conocimiento experto a estudiantes de secundaria\, universitarios\, así como público en general. Además de tratar cuestiones técnicas\, la experiencia plantea el trabajo en valores\, el desarrollo del sentido crítico\, el civismo y el compromiso social. \nImperdible_04\, organizado por la Fundación Cotec en colaboración con el Ayuntamiento de Madrid\, es un evento experiencial y participativo sobre innovación que en su actual edición se centrará en mostrar la importancia de la innovación como motor para alcanzar los 17 Objetivos de Desarrollo Sostenible (ODS). A través de múltiples experiencias inmersivas\, los asistentes a la convocatoria descubrirán cómo el logro de las metas que plantea la Agenda 2030 global requiere de la implementación de medidas y políticas gubernamentales\, además de la intervención de empresas del sector privado y la concienciación e implicación ciudadana.[/vc_column_text][vc_separator color=»custom» accent_color=»#b2c7d4″][/vc_column][vc_column width=»1/3″][vc_column_text css=».vc_custom_1558448678353{padding-top: 25px !important;padding-right: 25px !important;padding-bottom: 25px !important;padding-left: 25px !important;background-color: #004571 !important;border-radius: 3px !important;}»] \n\n7 de junio de 2019\nLa Nave\nC/ Cifuentes\, 5\, 28021 Madrid \nInscríbete\n \n[/vc_column_text][/vc_column][/vc_row]
URL:https://www.fundacionnaturgy.org/actividad/actividad-the-circular-challenge-innovacion-para-una-energia-renovable-y-circular-madrid/
ATTACH;FMTTYPE=image/jpeg:https://www.fundacionnaturgy.org/wp-content/uploads/2019/06/circular-challenge.jpg
END:VEVENT
BEGIN:VEVENT
DTSTART;TZID=Europe/Madrid:20190611T150000
DTEND;TZID=Europe/Madrid:20190613T180000
DTSTAMP:20260425T211539
CREATED:20190503T114947Z
LAST-MODIFIED:20190618T115721Z
UID:62143-1560265200-1560448800@www.fundacionnaturgy.org
SUMMARY:II Foro Tecnológico "Bases científico técnicas para mejora de la calidad del aire en España". Valencia
DESCRIPTION:[vc_row][vc_column width=»2/3″][vc_empty_space height=»12px»][vc_column_text]La Fundación Naturgy\, la Universidad Internacional Menéndez Pelayo (UIMP)\, el Ayuntamiento de Valencia\, el Ministerio para la Transición Ecológica (MITECO) y la Generalitat Valenciana y el Instituto de Diagnóstico Ambiental y Estudios del Agua del CSIC (IDAEA-CSIC) organizan este curso-taller sobre las bases científico técnicas de la mejora de calidad del aire en España. \nDía 11 de junio \nSesión 1. Estado actual de la calidad del aire y Plan de Reducción de Emisiones para su mejora. \nDía 12 de junio \nSesión 2. Calidad del aire en zonas industriales.\nSesión 3. Medidas para la mejora de calidad del aire. \nDía 13 de junio \nSesión 4. Inventarios de emisiones: estado actual y necesidades.\nSesión 5. Problemas específicos: ozono y quema de biomasa.\n                Mejora de la calidad del aire: el punto de vista de movimientos ecologistas.[/vc_column_text][vc_separator][/vc_column][vc_column width=»1/3″][vc_empty_space height=»12px»][vc_column_text css=».vc_custom_1557228116996{padding-top: 10px !important;padding-right: 25px !important;padding-bottom: 25px !important;padding-left: 25px !important;background-color: #004571 !important;border-radius: 3px !important;}»] \n\n11\, 12 y 13 de junio de 2019\nGeneralitat Valenciana\, Ciutat Administrativa 9 d’octubre Edificio B (Salón de actos) –\nC/ Democracia\, 77\, Valencia \nAforo limitado \n[/vc_column_text]Programa[/vc_column][/vc_row]
URL:https://www.fundacionnaturgy.org/actividad/foro-tecnologico-base-cientifico-tecnicas-mejora-calidad-aire/
ATTACH;FMTTYPE=image/jpeg:https://www.fundacionnaturgy.org/wp-content/uploads/2017/03/calidad-aire-madrid.jpg
END:VEVENT
BEGIN:VEVENT
DTSTART;TZID=Europe/Madrid:20190620T091500
DTEND;TZID=Europe/Madrid:20190620T123000
DTSTAMP:20260425T211539
CREATED:20190506T100626Z
LAST-MODIFIED:20190506T100626Z
UID:62182-1561022100-1561033800@www.fundacionnaturgy.org
SUMMARY:Energy Prospectives. Madrid
DESCRIPTION:[vc_row][vc_column width=»2/3″][vc_empty_space height=»12px»][vc_column_text]La próxima cita tendrá lugar el jueves 20 de junio de 9.00h a 12.00h en el Campus del IESE en Madrid. Contaremos con las intervenciones del Prof. Ignacio Pérez Arriaga y de Christopher Jones y podremos participar todos en un coloquio posterior moderado por el Prof. Javier Díaz-Giménez. En la página web de Energy Prospectives encontrarás más información. \nEn este vídeo verás un resumen de la primera jornada que celebramos el pasado marzo.[/vc_column_text][vc_column_text] \nAgenda\n9:15h Inauguración\nProf. José Luis Suárez\, director general del IESE en Madrid\nFrancisco Reynés\, presidente ejecutivo de Naturgy \n 9:30h Las utilities del futuro\nIgnacio Pérez Arriaga\, fundador del Instituto de Investigación Tecnológica (IIT) de la Universidad Pontificia Comillas\n\n10:15h La transición energética en la Unión Europea\nChristopher Jones\, director del Grupo de Trabajo de Derecho de la Competencia en Europa en la oficina de Bruselas\n\n11:00h Coloquio moderado por el Prof. Javier Díaz Giménez\n\n11:45h Clausura\nProf. José Luis Suárez\, director general del IESE en Madrid\nRafael Villaseca\, presidente Fundación Naturgy\n \n12:00h Networking Cóctel \n12:30h Fin sesión[/vc_column_text][vc_separator color=»custom» accent_color=»#b2c7d4″][/vc_column][vc_column width=»1/3″][vc_column_text css=».vc_custom_1557132684507{padding-top: 25px !important;padding-right: 25px !important;padding-bottom: 25px !important;padding-left: 25px !important;background-color: #004571 !important;border-radius: 3px !important;}»] \n\n20 de junio de 2019\nIESE Business School –\nCamino Cerro del Águila\, 3\, 28023 Madrid \nLa participación en la jornada es exclusivamente por invitación personal. Aforo limitado\nInscríbete \n[/vc_column_text][/vc_column][/vc_row]
URL:https://www.fundacionnaturgy.org/actividad/energy-prospectives-junio-madrid/
ATTACH;FMTTYPE=image/jpeg:https://www.fundacionnaturgy.org/wp-content/uploads/2019/03/energy-prospectives2-1.jpg
END:VEVENT
END:VCALENDAR