BEGIN:VCALENDAR
VERSION:2.0
PRODID:-//Fundación Naturgy - ECPv5.14.0.4//NONSGML v1.0//EN
CALSCALE:GREGORIAN
METHOD:PUBLISH
X-WR-CALNAME:Fundación Naturgy
X-ORIGINAL-URL:https://www.fundacionnaturgy.org
X-WR-CALDESC:Events for Fundación Naturgy
REFRESH-INTERVAL;VALUE=DURATION:PT1H
X-Robots-Tag:noindex
X-PUBLISHED-TTL:PT1H
BEGIN:VTIMEZONE
TZID:Europe/Madrid
BEGIN:DAYLIGHT
TZOFFSETFROM:+0100
TZOFFSETTO:+0200
TZNAME:CEST
DTSTART:20240331T010000
END:DAYLIGHT
BEGIN:STANDARD
TZOFFSETFROM:+0200
TZOFFSETTO:+0100
TZNAME:CET
DTSTART:20241027T010000
END:STANDARD
END:VTIMEZONE
BEGIN:VEVENT
DTSTART;TZID=Europe/Madrid:20241007T080000
DTEND;TZID=Europe/Madrid:20241231T170000
DTSTAMP:20260424T001321
CREATED:20241004T080723Z
LAST-MODIFIED:20241004T080723Z
UID:90669-1728288000-1735664400@www.fundacionnaturgy.org
SUMMARY:Curso de formación profesionalizadora para la empleabilidad «Mantenimiento en parques eólicos»
DESCRIPTION:[vc_row][vc_column width=»2/3″][vc_column_text]Fundación Naturgy impulsa una nueva edición del curso de formación profesionalizadora becado en materia de mantenimiento de parques eólicos. \nEste curso está certificado por Fundación Naturgy y la Universidad Politécnica de Madrid (UPM)\, en colaboración con la Plataforma por el Empleo y el Emprendimiento Verde. \nLos destinatarios son preferentemente personas en situación de desempleo que quieran adquirir competencias profesionales en el sector de la energía eólica\, dotándoles de habilidades para el correcto desempeño en el mantenimiento de parques eólicos y facilitándoles su inserción o mejora laboral. \nMás información\, aquí.[/vc_column_text][/vc_column][vc_column width=»1/3″][vc_column_text css=».vc_custom_1728029512376{padding-top: 25px !important;padding-right: 25px !important;padding-bottom: 25px !important;padding-left: 25px !important;background-color: #004571 !important;border-radius: 3px !important;}»] \n\nDel 7 de octubre al 31 de diciembre de 2024\nPlazas limitadas\nFormación de 200 horas \nMás información \n[/vc_column_text][/vc_column][/vc_row]
URL:https://www.fundacionnaturgy.org/actividad/curso-de-formacion-profesionalizadora-para-la-empleabilidad-mantenimiento-en-parques-eolicos/
ATTACH;FMTTYPE=image/png:https://www.fundacionnaturgy.org/wp-content/uploads/2023/10/f_cursos_mantenimiento-parques-eolicos.png
END:VEVENT
BEGIN:VEVENT
DTSTART;TZID=Europe/Madrid:20241118T090000
DTEND;TZID=Europe/Madrid:20241227T170000
DTSTAMP:20260424T001321
CREATED:20241108T122536Z
LAST-MODIFIED:20241112T103009Z
UID:90904-1731920400-1735318800@www.fundacionnaturgy.org
SUMMARY:Curso de formación profesionalizadora para la empleabilidad “Instalación de sistemas solares fotovoltaicos”
DESCRIPTION:[vc_row][vc_column width=»2/3″][vc_column_text]Desde Fundación Naturgy te ofrecemos un nuevo curso de formación práctica financiada por el Ministerio de Educación\, Formación Profesional y Deportes y la Unión Europea – Next Generation EU\, sobre la instalación de sistemas solares fotovoltaicos con una duración de 150 horas. \nEste curso está certificado por la Universidad Politécnica de Madrid (UPM)\, en colaboración con la Plataforma por el Empleo Verde\, incluye certificación en PRL. \nLos destinatarios son preferentemente personas en situación de desempleo que quieran adquirir competencias profesionales en el sector de la energía fotovoltaica. \nMás información del curso\, aquí.[/vc_column_text][vc_row_inner][vc_column_inner width=»2/3″][vc_single_image image=»90930″ img_size=»full»][/vc_column_inner][vc_column_inner width=»1/3″][/vc_column_inner][/vc_row_inner][/vc_column][vc_column width=»1/3″][vc_column_text css=».vc_custom_1731068708212{padding-top: 25px !important;padding-right: 25px !important;padding-bottom: 25px !important;padding-left: 25px !important;background-color: #004571 !important;border-radius: 3px !important;}»] \n\nDel 18 de noviembre al 27 de diciembre de 2024\nFormación de 150 horas \nMás información \n[/vc_column_text][/vc_column][/vc_row]
URL:https://www.fundacionnaturgy.org/actividad/curso-de-formacion-profesionalizadora-para-la-empleabilidad-instalacion-de-sistemas-solares-fotovoltaicos/
ATTACH;FMTTYPE=image/png:https://www.fundacionnaturgy.org/wp-content/uploads/2024/11/fotovoltaicos.png
END:VEVENT
BEGIN:VEVENT
DTSTART;TZID=Europe/Madrid:20241210T163000
DTEND;TZID=Europe/Madrid:20241210T174000
DTSTAMP:20260424T001321
CREATED:20240913T121859Z
LAST-MODIFIED:20241202T104242Z
UID:90217-1733848200-1733852400@www.fundacionnaturgy.org
SUMMARY:Webinar Conversaciones sobre Sostenibilidad y ciudades
DESCRIPTION:[vc_row][vc_column width=»2/3″][vc_column_text]Fundación Naturgy y el Capítulo Español de Club de Roma te invitamos a la próxima de nuestras Conversaciones entre expertos centradas en temas de actualidad sobre energía\, medio ambiente y sostenibilidad. \nConversaremos en esta ocasión con dos especialistas sobre Sostenibilidad y ciudades\, para explorar estrategias clave que promuevan la sostenibilidad en un mundo cada vez más urbanizado\, donde las ciudades juegan un papel crucial contra el cambio climático. \nVisita en este enlace todas las Conversaciones anteriores. \nPrograma\n\n\n\n16:30 Inauguración\n\nMaría Eugenia Coronado\, directora general\, Fundación Naturgy\n\n\n16:40 Conversación sobre Sostenibilidad y ciudades moderada por Rebeca Gimeno\, periodista Noticias Cuatro\n\nNuria Rodríguez\, directora de Medioambiente y Responsabilidad Social\, Naturgy\nJulio Lumbreras\, profesor de la Universidad Politécnica de Madrid y director de citiES2030\n\n\n17:40 Clausura\n\n\nJosé Manuel Morán\, vicepresidente\, Capítulo Español del Club de Roma\n\n\n\n\n\n[/vc_column_text][/vc_column][vc_column width=»1/3″][vc_column_text css=».vc_custom_1730378331599{padding-top: 25px !important;padding-right: 25px !important;padding-bottom: 25px !important;padding-left: 25px !important;background-color: #004571 !important;border-radius: 3px !important;}»] \n\n10 de diciembre de 2024\nInscripción online\nInscripción presencial \n[/vc_column_text][/vc_column][/vc_row]
URL:https://www.fundacionnaturgy.org/actividad/webinar-conversaciones-sobre-sostenibilidad-y-ciudades/
ATTACH;FMTTYPE=image/png:https://www.fundacionnaturgy.org/wp-content/uploads/2024/09/Ficha_actividad_conversaciones_ciudades.png
END:VEVENT
BEGIN:VEVENT
DTSTART;TZID=Europe/Madrid:20241212T110000
DTEND;TZID=Europe/Madrid:20241212T133000
DTSTAMP:20260424T001321
CREATED:20241113T133820Z
LAST-MODIFIED:20241212T092441Z
UID:90940-1734001200-1734010200@www.fundacionnaturgy.org
SUMMARY:Seminario "¿Se está cronificando la pobreza energética?"
DESCRIPTION:[vc_row][vc_column width=»2/3″][vc_column_text]Fundación Naturgy te invita el próximo 12 de diciembre\, a las 11:00h\, al seminario «¿Se está cronificando la pobreza energética?». \nAunque Europa ya ha adoptado medidas para intentar erradicar la pobreza energética\, hasta hoy la mayor parte de los estudios se han centrado en medirla en momentos concretos\, sin intentar entender cuál es su dinámica a lo largo del tiempo ni los factores que pueden convertirla en un problema crónico. En este evento\, analizaremos la persistencia de la pobreza energética desde diferentes puntos de vista\, así como maneras de hacerle frente. \nPrograma\n\n11:00 Inauguración\n\nRafael Villaseca\, presidente de Fundación Naturgy\n\n\n11:10 Presentación del estudio «Comprendiendo la pobreza energética: un análisis de la persistencia» \n\nMaría Teresa Costa\, catedrática emérita de Economía y directora emérita de la cátedra de Sostenibilidad Energética de la Universidad de Barcelona\n\n11:40 Mesa de expertos moderada por Pablo del Río González\, investigador científico del Instituto de Política Públicas CSIC\n\nMaria-Eugenia Sanin\, coordinator of the Applied Economics & Policy Group\, Center for Economics at Paris-Saclay (CEPS)\nMonica Giulietti\, professor of Industrial Economics\, Nottingham University Business School\nLuis Ayala\, catedrático de Economía de la UNED. Miembro del Comité Técnico de la Fundación FOESSA\n\n\n\n12:40 Conferencia de clausura\n\n\nVíctor Marcos Morell\, director general de planificación y coordinación energética\, MITECO\n\n\n13:15 Cierre\n\nMaría Eugenia Coronado\, directora general de Fundación Naturgy\n\n\n\n[/vc_column_text][/vc_column][vc_column width=»1/3″][vc_column_text css=».vc_custom_1732021790308{padding-top: 25px !important;padding-right: 25px !important;padding-bottom: 25px !important;padding-left: 25px !important;background-color: #004571 !important;border-radius: 3px !important;}»] \n\n12 de diciembre de 2024\n Inscripción \n[/vc_column_text][/vc_column][/vc_row]
URL:https://www.fundacionnaturgy.org/actividad/seminario-persistencia-en-la-pobreza-energetica/
ATTACH;FMTTYPE=image/jpeg:https://www.fundacionnaturgy.org/wp-content/uploads/2024/11/V_Reavi_Forma_Barcelona-2-scaled.jpg
END:VEVENT
END:VCALENDAR