BEGIN:VCALENDAR
VERSION:2.0
PRODID:-//Fundación Naturgy - ECPv5.14.0.4//NONSGML v1.0//EN
CALSCALE:GREGORIAN
METHOD:PUBLISH
X-WR-CALNAME:Fundación Naturgy
X-ORIGINAL-URL:https://www.fundacionnaturgy.org
X-WR-CALDESC:Events for Fundación Naturgy
REFRESH-INTERVAL;VALUE=DURATION:PT1H
X-Robots-Tag:noindex
X-PUBLISHED-TTL:PT1H
BEGIN:VTIMEZONE
TZID:Europe/Madrid
BEGIN:DAYLIGHT
TZOFFSETFROM:+0100
TZOFFSETTO:+0200
TZNAME:CEST
DTSTART:20250330T010000
END:DAYLIGHT
BEGIN:STANDARD
TZOFFSETFROM:+0200
TZOFFSETTO:+0100
TZNAME:CET
DTSTART:20251026T010000
END:STANDARD
END:VTIMEZONE
BEGIN:VEVENT
DTSTART;TZID=Europe/Madrid:20250306T120000
DTEND;TZID=Europe/Madrid:20250306T133000
DTSTAMP:20260423T191946
CREATED:20250213T131855Z
LAST-MODIFIED:20250225T115225Z
UID:91760-1741262400-1741267800@www.fundacionnaturgy.org
SUMMARY:Webinar "El Pacto Industrial Limpio de la Unión Europea"
DESCRIPTION:[vc_row][vc_column width=»2/3″][vc_column_text]Fundación Naturgy te invita a un coloquio sobre las primeras acciones comunicadas por la Comisión para afrontar los desafíos que supone lograr una industria europea descarbonizada y a la vez globalmente competitiva. \nPrograma\n\n\n12:00 Apertura\n\nRafael Villaseca\, presidente\, Fundación Naturgy\n\n\n12:10 Introducción\n\nCristina Lobillo\, directora de Política Energética\, Dirección General de Energía\, Comisión Europea\n\n12:30 Coloquio\, moderado por Christopher Jones\, profesor en la Escuela de Regulación de Florencia \n\nCristina Lobillo\, directora de Política Energética\, Dirección General de Energía\, Comisión Europea\nKlaus-Dieter Borchardt\, investigador senior del Oxford Institute for Energy Studies\nMiguel Arias Cañete\, comisario europeo de Energía y Acción por el Clima entre 2014 y 2019\nCarlos Reinoso\, Alianza por la Competitividad de la Industria Española\n\n\n13:30 Cierre\n\n\n\n\n[/vc_column_text][/vc_column][vc_column width=»1/3″][vc_column_text css=».vc_custom_1740484830663{padding-top: 25px !important;padding-right: 25px !important;padding-bottom: 25px !important;padding-left: 25px !important;background-color: #004571 !important;border-radius: 3px !important;}»] \n\n6 de marzo de 2024\nInscripción online[/vc_column_text][/vc_column][/vc_row]
URL:https://www.fundacionnaturgy.org/actividad/webinar-el-pacto-industrial-limpio-de-la-union-europea/
END:VEVENT
BEGIN:VEVENT
DTSTART;TZID=Europe/Madrid:20250312T120000
DTEND;TZID=Europe/Madrid:20250312T134500
DTSTAMP:20260423T191946
CREATED:20250217T154326Z
LAST-MODIFIED:20250224T103849Z
UID:91816-1741780800-1741787100@www.fundacionnaturgy.org
SUMMARY:Las amenazas físicas del cambio climático y su impacto social en España
DESCRIPTION:[vc_row][vc_column width=»2/3″][vc_column_text] \nEl cambio climático está causando eventos climáticos extremos\, deshielo de los polos y alteraciones en los ecosistemas. Estos cambios afectan\, entre otros\, la biodiversidad\, la seguridad alimentaria\, los recursos hídricos\, la economía y la salud humana. \nFundación Naturgy y Fundación PwC\, en colaboración con Cruz Roja\, te invitan a la presentación del informe Las amenazas físicas del cambio climático y su impacto social en España\, elaborado por PwC\, en el que se aborda la urgente necesidad de visibilizar el impacto directo del cambio climático en el bienestar de la sociedad española\, analizando cuáles van a ser los posibles impactos de las amenazas físicas del cambio climático sobre las principales variables características. \nPrograma\n\n\n\n12:00 Recepción de asistentes  \n\n12:15 Apertura\n\nRafael Villaseca\, presidente\, Fundación Naturgy\nSantiago Barrenechea\, presidente\, Fundación PwC\n\n\n12:30 Presentación de las conclusiones informe\n\nAnna Merino\, socia de Economics Strategy&\, parte de PwC\n\n13:00 Mesa redonda moderada por Ismael Aznar\, socio responsable de Medio Ambiente y Clima\, PwC Tax & Legal \n\nLara Lázaro\, investigadora principal\, Real Instituto Elcano\nDaniel Fernández\, vicecoordinador general\, Cruz Roja\n\n\n\n13:30 Clausura \n\nElena Pita\, directora\, Oficina Española de Cambio Climático (OECC)\n\n13:45 Fin de la sesión \n\n\n\n\n\n\n\n\n\n\n[/vc_column_text][/vc_column][vc_column width=»1/3″][vc_column_text css=».vc_custom_1739807464644{padding-top: 25px !important;padding-right: 25px !important;padding-bottom: 25px !important;padding-left: 25px !important;background-color: #004571 !important;border-radius: 3px !important;}»] \n\n12 de marzo de 2024\nInscripción online\nInscripción presencial \n[/vc_column_text][/vc_column][/vc_row]
URL:https://www.fundacionnaturgy.org/actividad/las-amenazas-fisicas-del-cambio-climatico-y-su-impacto-social-en-espana/
END:VEVENT
BEGIN:VEVENT
DTSTART;TZID=Europe/Madrid:20250317T080000
DTEND;TZID=Europe/Madrid:20250326T170000
DTSTAMP:20260423T191946
CREATED:20250311T134446Z
LAST-MODIFIED:20250313T135800Z
UID:91931-1742198400-1743008400@www.fundacionnaturgy.org
SUMMARY:Curso de formación profesionalizadora para la empleabilidad de “Rehabilitación eficiente de viviendas”
DESCRIPTION:[vc_row][vc_column width=»2/3″][vc_column_text]Desde Fundación Naturgy\, en colaboración con la Fundación Germà Benito Menni\, impulsamos un nuevo curso de formación profesionalizadora sobre Rehabilitación eficiente de viviendas. \nEsta formación se incluye en el itinerario formativo del programa TándEM del proyecto GreenCompetences4all\, que tiene como objetivo promover la formación\, la empleabilidad y la inserción laboral y social de jóvenes en situación de vulnerabilidad social. \nLos destinatarios del programa son jóvenes de edades comprendidas entre los 18 y los 29 años. \nMás información\, aquí.[/vc_column_text][/vc_column][vc_column width=»1/3″][vc_column_text css=».vc_custom_1741874750139{padding-top: 25px !important;padding-right: 25px !important;padding-bottom: 25px !important;padding-left: 25px !important;background-color: #004571 !important;border-radius: 3px !important;}»] \n\nDel 17 de marzo al 26 de marzo de 2025\nPlazas agotadas. Formación de 30 horas \nMás información \n[/vc_column_text][/vc_column][/vc_row]
URL:https://www.fundacionnaturgy.org/actividad/curso-de-formacion-profesionalizadora-para-la-empleabilidad-de-rehabilitacion-eficiente-de-viviendas/
ATTACH;FMTTYPE=image/jpeg:https://www.fundacionnaturgy.org/wp-content/uploads/2022/07/rehab.jpg
END:VEVENT
BEGIN:VEVENT
DTSTART;TZID=Europe/Madrid:20250317T080000
DTEND;TZID=Europe/Madrid:20250505T170000
DTSTAMP:20260423T191946
CREATED:20250210T140149Z
LAST-MODIFIED:20250319T103010Z
UID:91463-1742198400-1746464400@www.fundacionnaturgy.org
SUMMARY:Curso de formación profesionalizadora para la empleabilidad "Mantenimiento de parques eólicos"
DESCRIPTION:[vc_row][vc_column width=»2/3″][vc_column_text]Fundación Naturgy pone en marcha un nuevo curso sobre el mantenimiento de parques eólicos de 142 horas de formación práctica\, financiada por el Ministerio de Educación\, Formación Profesional y Deportes\, y la Unión Europea – Next Generation EU. \nEste curso está certificado por la Universidad Politécnica de Madrid (UPM)\, en colaboración con la Plataforma por el Empleo Verde. También incluye certificación en GWO (Global Wind Operation) y en PRL. \nLos destinatarios son preferentemente personas en situación de desempleo que quieran adquirir competencias profesionales en el sector de la energía eólica. \nMás información\, aquí.[/vc_column_text][vc_single_image image=»90930″ img_size=»full»][/vc_column][vc_column width=»1/3″][vc_column_text css=».vc_custom_1742380698238{padding-top: 25px !important;padding-right: 25px !important;padding-bottom: 25px !important;padding-left: 25px !important;background-color: #004571 !important;border-radius: 3px !important;}»] \n\nDel 17 de marzo al 5 de mayo de 2025\nFormación de 142 horas \nMás información \n[/vc_column_text][/vc_column][/vc_row]
URL:https://www.fundacionnaturgy.org/actividad/curso-presencial-de-formacion-profesionalizadora-para-la-empleabilidad-en-mantenimiento-de-parques-eolicos/
ATTACH;FMTTYPE=image/png:https://www.fundacionnaturgy.org/wp-content/uploads/2023/10/f_cursos_mantenimiento-parques-eolicos.png
END:VEVENT
BEGIN:VEVENT
DTSTART;TZID=Europe/Madrid:20250318T160000
DTEND;TZID=Europe/Madrid:20250318T173000
DTSTAMP:20260423T191946
CREATED:20250303T142250Z
LAST-MODIFIED:20250307T095100Z
UID:91869-1742313600-1742319000@www.fundacionnaturgy.org
SUMMARY:Renovables. Integración en el territorio
DESCRIPTION:[vc_row][vc_column width=»2/3″][vc_column_text]Fundación Naturgy te invita a la presentación del documento Renovables. Integración en el territorio\, una recopilación de artículos de diversos autores que exploran diferentes perspectivas sobre la integración de energías renovables en el territorio. Este documento ofrece una visión amplia sobre los desafíos y oportunidades que se presentan\, haciendo un recorrido por los aspectos tecnológicos\, territoriales\, ambientales y jurídicos\, así como sobre la creación de empleo e industria y la propia promoción de los proyectos. \nEste documento ha sido posible gracias a la colaboración de Cristina Monge\, profesora de Ciencia Política y Sociología; Luis M. Varela\, Prof. Dr. de la Universidad de Santiago de Compostela; Ángeles Armisén\, presidenta de la Diputación Provincial de Palencia; Amanda del Río\, directora adjunta de Fundación Global Nature; Mariano Sanz\, secretario de Salud Laboral y Sostenibilidad Medioambiental de la Confederación Sindical de CCOO; Ana Barreira\, directora fundadora del Instituto Internacional de Derecho y Medio Ambiente; y Jose Mª González Moya\, director general de APPA Renovables. \nPrograma\n\n\n16:00h Apertura\n\nMaría Eugenia Coronado\, directora general\, Fundación Naturgy\n\n\n16:15h Mesa redonda moderada por Cristina Monge\, profesora de Ciencia Política y Sociología. Investigadora en gobernanza para la transición ecológica\n\n\n\n\nProf. Dr. Luis Miguel Varela\, Facultade de Física\, Universidade de Santiago de Compostela\nÁngeles Armisén\, presidenta de la Diputación Provincial de Palencia y presidenta de la Federación Regional de Municipios y Provincias de Castilla-León\nAmanda del Río Murillo\, directora adjunta de Fundación Global Nature\nPablo E. Frutos Rodríguez\, secretaría confederal de Salud Laboral y Sostenibilidad Medioambiental de CCOO\nAna Barreira\, directora fundadora del Instituto Internacional de Derecho y Medio Ambiente\nJosé María González Moya\, director de APPA Renovables\n\n17:30h Clausura \n\n\n\n\n\n\n\n\n\n[/vc_column_text][/vc_column][vc_column width=»1/3″][vc_column_text css=».vc_custom_1741181500169{padding-top: 25px !important;padding-right: 25px !important;padding-bottom: 25px !important;padding-left: 25px !important;background-color: #004571 !important;border-radius: 3px !important;}»] \n\n18 de marzo de 2024\nInscripción online \nInscripción presencial \n[/vc_column_text][/vc_column][/vc_row][vc_row][vc_column][vc_column_text] \n[/vc_column_text][/vc_column][/vc_row]
URL:https://www.fundacionnaturgy.org/actividad/renovables-integracion-en-el-territorio/
END:VEVENT
BEGIN:VEVENT
DTSTART;TZID=Europe/Madrid:20250327T093000
DTEND;TZID=Europe/Madrid:20250327T110000
DTSTAMP:20260423T191946
CREATED:20250303T110920Z
LAST-MODIFIED:20250319T135106Z
UID:91857-1743067800-1743073200@www.fundacionnaturgy.org
SUMMARY:Acto de presentación de resultados I Edición del Premio a la Investigación e Innovación Tecnológica en el ámbito Energético
DESCRIPTION:[vc_row][vc_column width=»2/3″][vc_column_text]Te invitamos al acto de presentación de resultados de la I Edición del Premio Fundación Naturgy-CSIC a la Investigación e Innovación Tecnológica en el ámbito Energético. \nEn el acto se expondrán los resultados del proyecto ganador “CO₂UP: Escalado del proceso de reducción hidrotermal de CO₂ empleando biomasa como reductor”\, del Instituto de Bioeconomía de la Universidad de Valladolid (IB-UVA)\, y como éste puede contribuir al cumplimiento de los objetivos de descarbonización. \n#PremioInnovaciónFNaturgy \nPrograma\n\n\n\n\n09:30h Recepción y llegada de asistentes \n\n\n09:40h Inauguración institucional\n\n\n\n\nBienvenida\, a cargo de Eloísa del Pino\, presidenta del CSIC y presidenta del Jurado del Premio.\nPresentación de la iniciativa\, a cargo de María Eugenia Coronado\, directora general de la Fundación Naturgy.\n\n09:55h Exposición resultados y charla coloquio. Resumen del proyecto ganador. Proyección de vídeo \n\nDiálogo abierto. Conversación entre el investigador líder del proyecto ganador del Instituto de Bioeconomía de la Universidad de Valladolid (IB-UVA)\, Ángel Martín; el director de Innovación de Naturgy\, Jesús Chapado\, y el coordinador del Área Global Materia del CSIC\, Antonio Chica.\n\n10:30h Clausura del acto \n\nIntervención Rafael Villaseca\, presidente de Fundación Naturgy.\n\n10:35h Café Networking \n11:00h Fin del acto \n\n\n\n\n\n[/vc_column_text][/vc_column][vc_column width=»1/3″][vc_column_text css=».vc_custom_1742392714929{padding-top: 25px !important;padding-right: 25px !important;padding-bottom: 25px !important;padding-left: 25px !important;background-color: #004571 !important;border-radius: 3px !important;}»] \n\n27 de marzo de 2025\n[/vc_column_text][/vc_column][/vc_row][vc_row][vc_column][vc_column_text] \n[/vc_column_text]\n                \n                        \n                            Inscripción al acto de presentación de resultados de la I Edición del Premio Fundación Naturgy-CISC a la Investigación e Innovación Tecnológica en el \n                         \n \n                        Nombre* Apellidos* Correo electrónico* DNI* Entidad o institución* Al pulsar el botón "Inscribirse" usted consiente a que los datos personales facilitados en este formulario web sean tratados por la Fundación Naturgy\, en su condición de responsable del tratamiento\, con la finalidad de gestionar la organización y desarrollo del evento en el que usted se ha inscrito. Adicionalmente solicitamos su consentimiento para las siguientes finalidades: Acepto que Fundación Naturgy me contacte\, por cualquier medio\, para hacerme llegar información sobre las actividades\, iniciativas y eventos promovidos por Fundación Naturgy\, siendo Fundación Naturgy la única responsable del tratamiento con respecto a esta finalidad.*\n								\n								Sí\n							\n								\n								No\n							Usted tiene derecho a acceder\, rectificar y suprimir sus datos\, limitar y oponerse al tratamiento\, a la portabilidad de sus datos\, así como a revocar su consentimiento en cualquier momento como se explica en nuestra Política de Privacidad\, donde encontrará información adicional y detallada sobre Protección de Datos.\n          \n            \n            \n            \n            \n            \n            \n            \n            \n            \n        \n                        \n                        [/vc_column][/vc_row]
URL:https://www.fundacionnaturgy.org/actividad/acto-de-presentacion-de-resultados-i-edicion-del-premio-a-la-investigacion-e-innovacion-tecnologica-en-el-ambito-energetico/
END:VEVENT
END:VCALENDAR