BEGIN:VCALENDAR
VERSION:2.0
PRODID:-//Fundación Naturgy - ECPv5.14.0.4//NONSGML v1.0//EN
CALSCALE:GREGORIAN
METHOD:PUBLISH
X-WR-CALNAME:Fundación Naturgy
X-ORIGINAL-URL:https://www.fundacionnaturgy.org
X-WR-CALDESC:Events for Fundación Naturgy
REFRESH-INTERVAL;VALUE=DURATION:PT1H
X-Robots-Tag:noindex
X-PUBLISHED-TTL:PT1H
BEGIN:VTIMEZONE
TZID:Europe/Madrid
BEGIN:DAYLIGHT
TZOFFSETFROM:+0100
TZOFFSETTO:+0200
TZNAME:CEST
DTSTART:20250330T010000
END:DAYLIGHT
BEGIN:STANDARD
TZOFFSETFROM:+0200
TZOFFSETTO:+0100
TZNAME:CET
DTSTART:20251026T010000
END:STANDARD
END:VTIMEZONE
BEGIN:VEVENT
DTSTART;TZID=Europe/Madrid:20250923T094500
DTEND;TZID=Europe/Madrid:20250923T110000
DTSTAMP:20260421T110316
CREATED:20251117T123029Z
LAST-MODIFIED:20251117T123240Z
UID:94329-1758620700-1758625200@www.fundacionnaturgy.org
SUMMARY:Jornada informativa Plan de Acción Educativa en la zona afectada por la DANA
DESCRIPTION:[vc_row][vc_column width=»2/3″][vc_column_text]Fundación Naturgy organiza un desayuno informativo sobre el plan de acción educativa que Fundación Naturgy está llevando a cabo en la zona afectada por la DANA en Valencia y que puede ser de tu interés. \nEste encuentro tiene como objetivo el de presentarte la labor que desarrolla nuestra fundación\, conocer vuestras necesidades y encontrar puntos de colaboración para darle mayor impulso a nuestro plan de acción educativa en la zona afectada por la DANA. \nDía: martes\, 23 de septiembre de 2025\nHora: de 10.00 a 11.00 horas\nLugar: CaixaForum València\nCiudad de las Artes y las Ciencias\nC/ Eduardo Primo Yúfera\, 1A.\n46013 – Valencia\nEn colaboración con Fundación La Caixa \nAgenda \n09:45h Recepción de asistentes.\n10:00h Fundación Naturgy: ¿quién es y qué hace?\n10:10h Explicación del plan de acompañamiento a los centros educativos afectados por la DANA en Valencia.\n10:30h Ruegos y preguntas.\n11:00h Café Networking.[/vc_column_text][/vc_column][vc_column width=»1/3″][vc_column_text css=».vc_custom_1763383252193{padding-top: 25px !important;padding-right: 25px !important;padding-bottom: 25px !important;padding-left: 25px !important;background-color: #004571 !important;border-radius: 3px !important;}»] \n\n23 de septiembre de 2025\n\n[/vc_column_text][/vc_column][/vc_row]
URL:https://www.fundacionnaturgy.org/actividad/jornada-informativa-plan-de-accion-educativa-en-la-zona-afectada-por-la-dana/
ATTACH;FMTTYPE=image/png:https://www.fundacionnaturgy.org/wp-content/uploads/2025/11/Centro-Escolar-1-1.png
END:VEVENT
BEGIN:VEVENT
DTSTART;TZID=Europe/Madrid:20250923T120000
DTEND;TZID=Europe/Madrid:20250923T133000
DTSTAMP:20260421T110316
CREATED:20250819T112310Z
LAST-MODIFIED:20250919T082620Z
UID:93343-1758628800-1758634200@www.fundacionnaturgy.org
SUMMARY:Mediterranean Energy Perspectives 2025
DESCRIPTION:[vc_row][vc_column width=»2/3″][vc_column_text]Fundación Naturgy y OMEC te invitan a la presentación del ‘Mediterranean Energy Perspectives 2025’\, elaborado por la Organisation Méditerranéenne de l’Energie et du Climat (OMEC)\, y que ofrece una visión integral del panorama energético de la región hasta 2050.Programa \n\n12:00h Apertura \n\nRafael Villaseca\, presidente\, Fundación Naturgy\n\n12:10h Presentación del ‘Mediterranean Energy Perspectives 2025’ \n\nHouda Ben Jannet\, directora general\, OMEC (Organisation Méditerranéenne de l’Energie et du Climat)\n\n12:30h Mesa redonda\, moderada por Miguel Ángel Patiño\, redactor jefe de Expansión y corresponsal energético \n\nStefano Sannino\, director general en funciones para Oriente Próximo\, el Norte de África y el Golfo\, Comisión Europea\nPaula Ceballos Coloma\, representación de la Comisión Europea en España\nMarco Piredda\, vicepresidente del Comité de Estrategia\, Gobernanza y Cooperación\, OMEC\n\n13:30h Cierre \n\nFrancisco Reynés\, presidente ejecutivo\, Naturgy\n\n\n[/vc_column_text][/vc_column][vc_column width=»1/3″][vc_column_text css=».vc_custom_1755603151323{padding-top: 25px !important;padding-right: 25px !important;padding-bottom: 25px !important;padding-left: 25px !important;background-color: #004571 !important;border-radius: 3px !important;}»] \n\n23 de septiembre de 2025\nInscripción online\nInscripción presencial \n[/vc_column_text][/vc_column][/vc_row]
URL:https://www.fundacionnaturgy.org/actividad/mediterranean-energy-perspectives-2025/
ATTACH;FMTTYPE=image/png:https://www.fundacionnaturgy.org/wp-content/uploads/2025/08/Ficha_Mediterranean-Energy-Perspectives2025.png
END:VEVENT
BEGIN:VEVENT
DTSTART;TZID=Europe/Madrid:20250929T080000
DTEND;TZID=Europe/Madrid:20251029T170000
DTSTAMP:20260421T110316
CREATED:20250912T141539Z
LAST-MODIFIED:20250923T110228Z
UID:93557-1759132800-1761757200@www.fundacionnaturgy.org
SUMMARY:Curso de formación profesional para la empleabilidad en «Rehabilitación eficiente de viviendas»
DESCRIPTION:[vc_row][vc_column width=»2/3″][vc_column_text]Fundación Naturgy impulsa un nuevo curso becado de formación profesionalizadora en el ámbito verde para la empleabilidad\, sobre rehabilitación eficiente de viviendas. Este curso está certificado por Fundación Naturgy\, en colaboración con Plataforma por el Empleo Verde. Los destinatarios son preferentemente personas en situación de desempleo que quieran adquirir competencias profesionales en el sector de la construcción. \nMás información del curso\, aquí.[/vc_column_text][/vc_column][vc_column width=»1/3″][vc_column_text css=».vc_custom_1757687092197{padding-top: 25px !important;padding-right: 25px !important;padding-bottom: 25px !important;padding-left: 25px !important;background-color: #004571 !important;border-radius: 3px !important;}»] \n\nDel 29 de septiembre al 29 de octubre de 2025\nPlazas limitadas\nFormación de 100 horas \nMás información \n[/vc_column_text][/vc_column][/vc_row][vc_row][vc_column]\n                \n                        \n                            Inscripción al curso “Rehabilitación eficiente de viviendas”. Septiembre - Octubre 2025\n                         \n \n                        Datos del participanteNombre y apellidos:* DNI:* Correo electrónico de contacto profesional:* Dirección:* Población:* Comunidad Autónoma:* Teléfono:* Información básica sobre Protección de Datos Personales•	Los datos personales recabados a través de este formulario web serán tratados por la Fundación Naturgy\, en su condición de responsable del tratamiento\, con la finalidad de gestionar la organización y su participación en el Curso para formaciones profesionalizadoras. Adicionalmente solicitamos su consentimiento para las siguientes finalidades: Usted tiene derecho a acceder\, rectificar y suprimir sus datos\, limitar y oponerse al tratamiento\, a la portabilidad de sus datos\, a revocar su consentimiento en cualquier momento\, así como a no ser objeto de decisiones individuales automatizadas como se explica en nuestra Política de Privacidad\, donde encontrará información adicional y detallada sobre Protección de Datos.*\n								\n								Acepto recibir comunicaciones informativas sobre las actividades\, iniciativas y eventos organizados por la Fundación Naturgy\, incluso por medios electrónicos. Este tratamiento podrá realizarse hasta que usted revoque su consentimiento\, lo cual podrá hacer libremente y de manera gratuita en cualquier momento.\n							Usted tiene derecho a acceder\, rectificar y suprimir sus datos\, limitar y oponerse al tratamiento\, a la portabilidad de sus datos\, a revocar su consentimiento en cualquier momento\, así como a no ser objeto de decisiones individuales automatizadas como se explica en nuestra Política de Privacidad\, donde encontrará información adicional y detallada sobre Protección de Datos.\n          \n            \n            \n            \n            \n            \n            \n            \n            \n            \n        \n                        \n                        [/vc_column][/vc_row]
URL:https://www.fundacionnaturgy.org/actividad/curso-fp-empleabilidad-rehabilitacion-eficiente-viviendas/
ATTACH;FMTTYPE=image/png:https://www.fundacionnaturgy.org/wp-content/uploads/2025/09/rehab-eficiente-viviendas.png
END:VEVENT
BEGIN:VEVENT
DTSTART;TZID=Europe/Madrid:20250929T080000
DTEND;TZID=Europe/Madrid:20251031T170000
DTSTAMP:20260421T110316
CREATED:20250912T143453Z
LAST-MODIFIED:20250922T114352Z
UID:93568-1759132800-1761930000@www.fundacionnaturgy.org
SUMMARY:Curso de formación profesional para la empleabilidad «Instalación y mantenimiento de sistemas solares fotovoltaicos»
DESCRIPTION:[vc_row][vc_column width=»2/3″][vc_column_text]Desde Fundación Naturgy impulsamos un nuevo curso becado de formación profesionalizadora en el ámbito verde para la empleabilidad\, sobre la instalación y mantenimiento de sistemas solares fotovoltaicos. \nEste curso está certificado por Fundación Naturgy y la Universidad Politécnica de Valencia (UPV)\, en colaboración con Plataforma por el Empleo Verde. \nLos destinatarios son preferentemente personas en situación de desempleo que quieran adquirir competencias profesionales en el sector de la fotovoltaica\, pertenecientes a los municipios afectados por la DANA de la Comunidad Valenciana. \nMás información del curso\, aquí.[/vc_column_text][/vc_column][vc_column width=»1/3″][vc_column_text css=».vc_custom_1757931538952{padding-top: 25px !important;padding-right: 25px !important;padding-bottom: 25px !important;padding-left: 25px !important;background-color: #004571 !important;border-radius: 3px !important;}»] \n\nDel 29 de septiembre al 31 de octubre de 2025\nPlazas limitadas\nFormación de 100 horas \nMás información \n[/vc_column_text][/vc_column][/vc_row][vc_row][vc_column]\n                \n                        \n                            Inscripción al curso “Instalación y mantenimiento de sistemas solares fotovoltaicos”. Septiembre - Octubre 2025\n                         \n \n                        Datos del participanteNombre y apellidos:* DNI:* Correo electrónico de contacto profesional:* Dirección:* Población:* Comunidad Autónoma:* Teléfono:* Información básica sobre Protección de Datos PersonalesLos datos personales recabados a través de este formulario web serán tratados por la Fundación Naturgy\, en su condición de responsable del tratamiento\, con la finalidad de gestionar la organización y su participación en el Curso para formaciones profesionalizadoras. Adicionalmente solicitamos su consentimiento para las siguientes finalidades:Usted tiene derecho a acceder\, rectificar y suprimir sus datos\, limitar y oponerse al tratamiento\, a la portabilidad de sus datos\, a revocar su consentimiento en cualquier momento\, así como a no ser objeto de decisiones individuales automatizadas como se explica en nuestra Política de Privacidad\, donde encontrará información adicional y detallada sobre Protección de Datos.*\n								\n								Acepto recibir comunicaciones informativas sobre las actividades\, iniciativas y eventos organizados por la Fundación Naturgy\, incluso por medios electrónicos. Este tratamiento podrá realizarse hasta que usted revoque su consentimiento\, lo cual podrá hacer libremente y de manera gratuita en cualquier momento.\n							Usted tiene derecho a acceder\, rectificar y suprimir sus datos\, limitar y oponerse al tratamiento\, a la portabilidad de sus datos\, a revocar su consentimiento en cualquier momento\, así como a no ser objeto de decisiones individuales automatizadas como se explica en nuestra Política de Privacidad\, donde encontrará información adicional y detallada sobre Protección de Datos.\n          \n            \n            \n            \n            \n            \n            \n            \n            \n            \n        \n                        \n                        [/vc_column][/vc_row]
URL:https://www.fundacionnaturgy.org/actividad/curso-de-formacion-profesional-para-la-empleabilidad-instalacion-y-mantenimiento-de-sistemas-solares-fotovoltaicos/
ATTACH;FMTTYPE=image/png:https://www.fundacionnaturgy.org/wp-content/uploads/2025/09/rehab-eficiente-viviendas.png
END:VEVENT
END:VCALENDAR