BEGIN:VCALENDAR
VERSION:2.0
PRODID:-//Fundación Naturgy - ECPv5.14.0.4//NONSGML v1.0//EN
CALSCALE:GREGORIAN
METHOD:PUBLISH
X-WR-CALNAME:Fundación Naturgy
X-ORIGINAL-URL:https://www.fundacionnaturgy.org/en/
X-WR-CALDESC:Events for Fundación Naturgy
REFRESH-INTERVAL;VALUE=DURATION:PT1H
X-Robots-Tag:noindex
X-PUBLISHED-TTL:PT1H
BEGIN:VTIMEZONE
TZID:Europe/Madrid
BEGIN:DAYLIGHT
TZOFFSETFROM:+0100
TZOFFSETTO:+0200
TZNAME:CEST
DTSTART:20180325T010000
END:DAYLIGHT
BEGIN:STANDARD
TZOFFSETFROM:+0200
TZOFFSETTO:+0100
TZNAME:CET
DTSTART:20181028T010000
END:STANDARD
END:VTIMEZONE
BEGIN:VEVENT
DTSTART;TZID=Europe/Madrid:20181129T083000
DTEND;TZID=Europe/Madrid:20181129T122000
DTSTAMP:20260425T042526
CREATED:20181106T105619Z
LAST-MODIFIED:20190606T085542Z
UID:63653-1543480200-1543494000@www.fundacionnaturgy.org
SUMMARY:“Natural gas in transport\, an effective contribution to decontamination: environmental and economic advantages” seminar. Santiago de Chile
DESCRIPTION:[vc_row css=”.vc_custom_1501687840871{margin-right: 3px !important;}”][vc_column width=”2/3″][vc_empty_space height=”6″][vc_column_text]The seminar will address the opportunity presented by using clean energy in transport. The event will include international presentations about the latest natural gas technology and the public transport experience in cities in the USA and Spain.[/vc_column_text][/vc_column][vc_column width=”1/3″ css=”.vc_custom_1521645800416{padding-right: 15px !important;padding-bottom: 25px !important;padding-left: 15px !important;background-color: #f0f0f0 !important;}”][vc_column_text]Dates. Thursday\, 29 November 2018. \nTime. 8.30 am \nVenue. Auditorio de la Sofofa (Av. Andrés Bello\, 2777\, piso 3 – Las Condes\, Santiago)\n\nPrice. Free. \nRegistration. Space is limited.[/vc_column_text]Programa[/vc_column][/vc_row]
URL:https://www.fundacionnaturgy.org/en/actividad/natural-gas-in-transport-an-effective-contribution-to-decontamination-environmental-and-economic-advantages-seminar-santiago-de-chile/
CATEGORIES:Chile
ATTACH;FMTTYPE=image/jpeg:https://www.fundacionnaturgy.org/wp-content/uploads/2018/11/gnv-seminario.jpg
END:VEVENT
END:VCALENDAR